Workbook

Sheet Summary
B2: Summary
B4: Table | C4: Name
B5: M1 (SRC21) | C5: Regulatory tier 1 income and cost statement
B6: M1 (SRC27) | C6: Regulatory operating income and cost statement
B7: M3 (SRC21) | C7: Regulatory tier 1 income and cost statement - reconciliation to Statutory Accounts
B8: M3 (SRC27) | C8: Regulatory operating income and cost statement - reconciliation to Statutory Accounts
B9: M4 | C9: Regulatory profit and loss
B10: M5 | C10: Regulatory balance sheet
B11: M6 | C11: Regulatory income and expenditure and cash flow
B12: M6a | C12: Regulatory investment
B13: M6-R | C13: Regulatory financial ratios
B14: M7 | C14: Analysis of turnover and operating income
B15: M8 | C15: Movements in the cash balance
... B25: M32 | C25: Economic depreciation

Sheet M1 (SRC21)
A3: Scottish Water
A4: Table 1: Regulatory tier 1 income and cost statement
A6: Line ref. | B6: Description | C6: Units | D6: Field type | F6: 2024-25 | G6: 2025-26
F7: Core | G7: Core
A8: M1.1 | B8: Household revenue | C8: £m | D8: I | F8: 1153.475 | G8: 1276.597
A9: M1.2 | B9: Wholesale revenue | C9: £m | D9: I | F9: 410.527 | G9: 444.365
A10: M1.3 | B10: Other revenue | C10: £m | D10: I | F10: 15.509 | G10: 16.83
A11: M1.4 | B11: Total revenue | C11: £m | D11: C | F11: =SUM(F8:F10) -> 1579.511 | G11: =SUM(G8:G10) -> 1737.792
A12: M1.5 | B12: Infrastructure charges income (ICI) | C12: £m | D12: I | F12: 12.872 | G12: 14.156
A13: M1.6 | B13: Disposal proceeds | C13: £m | D13: I | F13: 2.32 | G13: 1.876
A14: M1.7 | B14: Total revenue (incl. ICIs & disposal proceeds) | C14: £m | D14: C | F14: =SUM(F11:F13) -> 1594.703 | G14: =SUM(G11:G13) -> 1753.824
A15: M1.8 | B15: Net new borrowing | C15: £m | D15: I | F15: 170 | G15: 170
A16: M1.9 | B16: Total revenue (incl. ICIs & disposal proceeds) and borrowing | C16: £m | D16: C | F16: =F14+F15 -> 1764.703 | G16: =G14+G15 -> 1923.824
A17: M1.10 | B17: Operating costs | C17: £m | D17: I | F17: -511.138 | G17: -547.322
A18: M1.11 | B18: PFI costs | C18: £m | D18: I | F18: -168.377 | G18: -167.393
A19: M1.12 | B19: Responsive repair and refurbishment | C19: £m | D19: I | F19: -277.326 | G19: -257.243
A20: M1.13 | B20: Reasonable costs contributions (RCC) | C20: £m | D20: I | F20: -46.824 | G20: -39.668
A21: M1.14 | B21: Total operational and responsive maintenance costs before interest and taxation | C21: £m | D21: C | F21: =SUM(F17:F20) -> -1003.665 | G21: =SUM(G17:G20) -> -1011.626
A22: M1.15 | B22: Net interest charges | C22: £m | D22: I | F22: -142.326 | G22: -157.025
A23: M1.16 | B23: Taxation | C23: £m | D23: I | F23: 16.478 | G23: 5.274
A24: M1.17 | B24: Net operational and responsive maintenance spend | C24: £m | D24: C | F24: =F16+SUM(F21:F23) -> 635.19 | G24: =G16+SUM(G21:G23) -> 760.447
A25: M1.18 | B25: Net operational and responsive maintenance spend (excluding borrowing) | C25: £m | D25: C | F25: =F14+SUM(F21:F23) -> 465.19 | G25: =G14+SUM(G21:G23) -> 590.447
B27: Memo lines: normative charges
A28: M1.19 | B28: Responsive repair and refurbishment | C28: £m | D28: I | F28: -230 | G28: -230
A29: M1.20 | B29: Reasonable costs contributions | C29: £m | D29: I | F29: -33 | G29: -36
A30: M1.21 | B30: Taxation | C30: £m | D30: I | F30: 0 | G30: 0
B32: Memo lines: operating costs on the same basis as SR15 operating costs
A33: M1.22 | B33: Operating costs | C33: £m | D33: BF | F33: =F17 -> -511.138 | G33: =G17 -> -547.322
A34: M1.23 | B34: Repair and refurbishment expenditure previously expensed as operating costs in SR15 (i.e. including non-capitalised repairs) | C34: £m | D34: I | F34: -62.838 | G34: -64.975
A35: M1.24 | B35: Cloud expenditure | C35: £m | D35: BF | F35: ='M1 (SRC27)'!F36 -> 28.835 | G35: ='M1 (SRC27)'!G36 -> 27.4
A36: M1.25 | B36: Core / non-core adjustment | C36: £m | D36: BF | F36: ='M1 (SRC27)'!F37 -> 2.776 | G36: ='M1 (SRC27)'!G37 -> 2.666
A37: M1.26 | B37: Operating costs on the same basis as SR15 operating costs | C37: £m | D37: C | F37: =SUM(F33:F36) -> -542.365 | G37: =SUM(G33:G36) -> -582.231
A40: Prepared by: ..................................................
A42: Checked by: ..................................................
A44: Authorised by: | C44: Date: | D44: 46198

Sheet M1 (SRC27)
A3: Scottish Water
A4: Table 1: Regulatory operating income and cost statement
A6: Line ref. | B6: Description | C6: Units | D6: Field type | F6: ='M1 (SRC21)'!F6 -> 2024-25 | G6: ='M1 (SRC21)'!G6 -> 2025-26
F7: Core | G7: Core
A8: M1.1 | B8: Household revenue | C8: £m | D8: I | F8: 1153.475 | G8: 1276.597
A9: M1.2 | B9: Wholesale revenue | C9: £m | D9: I | F9: 410.527 | G9: 444.365
A10: M1.3 | B10: Other revenue | C10: £m | D10: I | F10: 15.509 | G10: 16.83
A11: M1.4 | B11: Total revenue | C11: £m | D11: C | F11: =SUM(F8:F10) -> 1579.511 | G11: =SUM(G8:G10) -> 1737.792
A12: M1.5 | B12: Operating costs | C12: £m | D12: I | F12: -511.138 | G12: -547.322
A13: M1.6 | B13: PFI costs | C13: £m | D13: I | F13: -168.377 | G13: -167.393
A14: M1.7 | B14: Net interest charges | C14: £m | D14: I | F14: -142.326 | G14: -157.025
A15: M1.8 | B15: Taxation | C15: £m | D15: I | F15: 16.478 | G15: 5.274
A16: M1.9 | B16: Total operating costs | C16: £m | D16: C | F16: =SUM(F12:F15) -> -805.363 | G16: =SUM(G12:G15) -> -866.466
A17: M1.10 | B17: Infrastructure charges income (ICI) | C17: £m | D17: I | F17: 12.872 | G17: 14.156
A18: M1.11 | B18: Disposal proceeds | C18: £m | D18: I | F18: 2.32 | G18: 1.876
A19: M1.12 | B19: Funds from operations (FFO) | C19: £m | D19: C | F19: =F11+F16+F17+F18 -> 789.34 | G19: =G11+G16+G17+G18 -> 887.358
A20: M1.13 | B20: Repair costs | C20: £m | D20: I | F20: -334.74 | G20: -312.375
A21: M1.14 | B21: FFO (net of repairs) | C21: £m | D21: C | F21: =F19+F20 -> 454.6 | G21: =G19+G20 -> 574.983
A22: M1.15 | B22: Net new borrowing | C22: £m | D22: I | F22: 170 | G22: 170
A23: M1.16 | B23: Funding and financing available | C23: £m | D23: C | F23: =F21+F22 -> 624.6 | G23: =G21+G22 -> 744.983
B25: Memo lines: normative charges
A26: M1.17 | B26: Repair costs | C26: £m | D26: I | F26: -230 | G26: -230
A27: M1.18 | B27: Taxation | C27: £m | D27: I | F27: 0 | G27: 0
B29: Memo lines: core / non-core revenues
A30: M1.19 | B30: Total revenue | C30: £m | D30: BF | F30: =F11 -> 1579.511 | G30: =G11 -> 1737.792
A31: M1.20 | B31: Core / non-core adjustment | C31: £m | D31: I | F31: -2.791 | G31: -2.666
A32: M1.21 | B32: Total revenue on the same basis as SRC21 | C32: £m | D32: C | F32: =SUM(F30:F31) -> 1576.72 | G32: =SUM(G30:G31) -> 1735.126
B34: Memo lines: cloud expenditure & core / non-core operating costs
A35: M1.22 | B35: Operating costs | C35: £m | D35: BF | F35: =F12 -> -511.138 | G35: =G12 -> -547.322
A36: M1.23 | B36: Cloud expenditure | C36: £m | D36: I | F36: 28.835 | G36: 27.4
A37: M1.24 | B37: Core / non-core adjustment | C37: £m | D37: I | F37: 2.776 | G37: 2.666
A38: M1.25 | B38: Operating costs on the same basis as SRC21 | C38: £m | D38: C | F38: =SUM(F35:F37) -> -479.527 | G38: =SUM(G35:G37) -> -517.256
A41: Prepared by: ..................................................
A43: Checked by: ..................................................
A45: Authorised by: | C45: Date: | D45: 46198

Sheet M3 (SRC21)
A3: Scottish Water
A4: Table 3: Regulatory tier 1 income and cost statement - reconciliation to Statutory Accounts
A6: Line ref. | B6: Description | C6: Units | D6: Field type | E6: Regulatory Operating statement | G6: Reallocations: balance sheet / cash flow | H6: Capitalisation of refurb cost | I6: Add planned repair cost from Tier 2 | J6: IFRS pension adjustments | K6: IFRS PFI / lease adjustments | M6: Statutory IFRS statement | N6: Explanation of difference
B10: Revenue
A11: M3.1 | B11: Household revenue | C11: £m | D11: I/C | E11: ='M1 (SRC21)'!G8 -> 1276.597 | M11: =SUM(E11:L11) -> 1276.597
A12: M3.2 | B12: Wholesale revenue | C12: £m | D12: I/C | E12: ='M1 (SRC21)'!G9 -> 444.365 | M12: =SUM(E12:L12) -> 444.365
A13: M3.3 | B13: Other revenue | C13: £m | D13: I/C | E13: ='M1 (SRC21)'!G10 -> 16.83 | M13: =SUM(E13:L13) -> 16.83
A14: M3.4 | B14: Infrastructure charges income | C14: £m | D14: I/C | E14: ='M1 (SRC21)'!G12 -> 14.156 | G14: =-E14 -> -14.156 | M14: =SUM(E14:L14) -> 0 | N14: This is a cash item that is presented on the balance sheet and not the profit and loss account.
A15: M3.5 | B15: Disposal proceeds | C15: £m | D15: I/C | E15: ='M1 (SRC21)'!G13 -> 1.876 | G15: =-E15 -> -1.876 | M15: =SUM(E15:L15) -> 0 | N15: This is a cash entry only and does not include the net book value of assets disposed of.
A16: M3.6 | B16: Revenue - total | C16: £m | D16: C | E16: =SUM(E11:E15) -> 1753.824 | G16: =SUM(G11:G15) -> -16.032 | H16: =SUM(H11:H15) -> 0 | I16: =SUM(I11:I15) -> 0 | J16: =SUM(J11:J15) -> 0 | K16: =SUM(K11:K15) -> 0 | M16: =SUM(M11:M15) -> 1737.792
B18: Expenditure
A19: M3.7 | B19: Operating expenses | C19: £m | D19: I/C | E19: ='M1 (SRC21)'!G17 -> -547.322 | J19: 11.459 | K19: 3.997 | M19: =SUM(E19:L19) -> -531.866
A20: M3.8 | B20: PFI costs | C20: £m | D20: I/C | E20: ='M1 (SRC21)'!G18 -> -167.393 | K20: 28.96 | M20: =SUM(E20:L20) -> -138.433 | N20: This is reallocating an element of PFI service costs to lease liability repayment (M28a.27) and to interest charges (line 3.16) as per Accounting standards IAS17 and (IFRIC 12).
A21: M3.9 | B21: Responsive repair and refurbishment | C21: £m | D21: I/C | E21: ='M1 (SRC21)'!G19 -> -257.243 | G21: -14.892 | H21: 28.541 | I21: -83.673 | M21: =SUM(E21:L21) -> -327.267
A22: M3.10 | B22: Reasonable costs contributions | C22: £m | D22: I/C | E22: ='M1 (SRC21)'!G20 -> -39.668 | G22: =-E22 -> 39.668 | M22: =SUM(E22:L22) -> 0
A23: M3.11 | B23: Depreciation charges | C23: £m | D23: I/C | G23: -381.937 | K23: -3.544 | M23: =SUM(E23:L23) -> -385.481 | N23: Depreciation is not included in the Tier 1 statement but is included in the Profit and Loss statement.
A24: M3.12 | B24: PFI depreciation | C24: £m | D24: I/C | G24: -3.53 | K24: -10.725 | M24: =SUM(E24:L24) -> -14.255 | N24: Depreciation is not included in the Tier 1 statement but is included in the Profit and Loss statement.
A25: M3.13 | B25: Grant amortisation | C25: £m | D25: I/C | G25: 1.808 | M25: =SUM(E25:L25) -> 1.808 | N25: Grant amortisation is not included in the Tier 1 statement but is included in the Profit and Loss statement.
A26: M3.14 | B26: Gain on disposal of assets | C26: £m | D26: I/C | G26: 1.61 | K26: 0.002 | M26: =SUM(E26:L26) -> 1.612 | N26: The Tier 1 statement only includes the cash received (Line 3.5) and not the accounting profit or loss on disposal.
A27: M3.15 | B27: Total costs before interest & tax | C27: £m | D27: C | E27: =SUM(E19:E26) -> -1011.626 | G27: =SUM(G19:G26) -> -357.273 | H27: =SUM(H19:H26) -> 28.541 | I27: =SUM(I19:I26) -> -83.673 | J27: =SUM(J19:J26) -> 11.459 | K27: =SUM(K19:K26) -> 18.69 | M27: =SUM(M19:M26) -> -1393.882
B29: Servicing of finance
A30: M3.16 | B30: Net interest charges | C30: £m | D30: I/C | E30: ='M1 (SRC21)'!G22 -> -157.025 | J30: -6.256 | K30: -8.306 | M30: =SUM(E30:L30) -> -171.587 | N30: Represents total interest charges including the net interest calculated on the defined benefit pension scheme as per IAS19, PFI lease liability interest charge per IFRIC12, and IFRS 16 lease liability interest charges.
B32: Profit
A33: M3.17 | B33: Profit before tax | C33: £m | D33: I/C | M33: =M16+M27+M30 -> 172.323
A34: M3.18 | B34: Taxation | C34: £m | D34: I/C | E34: ='M1 (SRC21)'!G23 -> 5.274 | G34: -71.353 | J34: 7.13 | K34: 0.05 | M34: =SUM(E34:L34) -> -58.899 | N34: Tax payments in column E represent the cash paid or receievd in the year and does not include the accounting tax charge for the profit or loss in the year, or include any deferred tax charge calculated on the defined benefit pension scheme or other IFRS adjustments.
A35: M3.19 | B35: Operating contribution / profit after tax | C35: £m | D35: C | E35: =+E16+SUM(E27:E34) -> 590.447 | G35: =+G16+SUM(G27:G34) -> -444.658 | H35: =+H16+SUM(H27:H34) -> 28.541 | I35: =+I16+SUM(I27:I34) -> -83.673 | J35: =+J16+SUM(J27:J34) -> 12.333 | K35: =+K16+SUM(K27:K34) -> 10.434 | M35: =M33+M34 -> 113.424
A36: M3.20 | B36: Non-core profit after tax | C36: £m | D36: I | M36: 0 | N36: Previously classified non-core income and costs are now included within core under unpdated RARs.
A37: M3.21 | B37: SW company profit after tax | C37: £m | D37: C | M37: =M35+M36 -> 113.424
A40: Prepared by: ..................................................
A42: Checked by: ..................................................
A44: Authorised by: | D44: Date: | E44: 46198

Sheet M3 (SRC27)
A3: Scottish Water
A4: Table 3: Regulatory operating income and cost statement - reconciliation to Statutory Accounts
A6: Line ref. | B6: Description | C6: Units | D6: Field type | E6: Regulatory Operating statement | G6: Reallocations: balance sheet / cash flow | H6: IFRS pension adjustments | I6: IFRS PFI / lease adjustments | K6: Statutory IFRS statement | L6: Explanation of difference
B10: Revenue
A11: M3.1 | B11: Household revenue | C11: £m | D11: I/C | E11: ='M1 (SRC27)'!G8 -> 1276.597 | K11: =SUM(E11:J11) -> 1276.597
A12: M3.2 | B12: Wholesale revenue | C12: £m | D12: I/C | E12: ='M1 (SRC27)'!G9 -> 444.365 | K12: =SUM(E12:J12) -> 444.365
A13: M3.3 | B13: Other revenue | C13: £m | D13: I/C | E13: ='M1 (SRC27)'!G10 -> 16.83 | K13: =SUM(E13:J13) -> 16.83
A14: M3.4 | B14: Infrastructure charges income | C14: £m | D14: I/C | E14: ='M1 (SRC27)'!G17 -> 14.156 | G14: =-E14 -> -14.156 | K14: =SUM(E14:J14) -> 0
A15: M3.5 | B15: Disposal proceeds | C15: £m | D15: I/C | E15: ='M1 (SRC27)'!G18 -> 1.876 | G15: =-E15 -> -1.876 | K15: =SUM(E15:J15) -> 0
A16: M3.6 | B16: Revenue - total | C16: £m | D16: C | E16: =SUM(E11:E15) -> 1753.824 | G16: =SUM(G11:G15) -> -16.032 | H16: =SUM(H11:H15) -> 0 | I16: =SUM(I11:I15) -> 0 | K16: =SUM(K11:K15) -> 1737.792
B18: Expenditure
A19: M3.7 | B19: Operating expenses | C19: £m | D19: I/C | E19: ='M1 (SRC27)'!G12 -> -547.322 | H19: 11.459 | I19: 3.997 | K19: =SUM(E19:J19) -> -531.866
A20: M3.8 | B20: PFI costs | C20: £m | D20: I/C | E20: ='M1 (SRC27)'!G13 -> -167.393 | I20: 28.96 | K20: =SUM(E20:J20) -> -138.433
A21: M3.9 | B21: Repair costs | C21: £m | D21: I/C | E21: ='M1 (SRC27)'!G20 -> -312.375 | G21: -14.892 | K21: =SUM(E21:J21) -> -327.267
A22: M3.10 | B22: Depreciation charges | C22: £m | D22: I/C | G22: -381.937 | I22: -3.544 | K22: =SUM(E22:J22) -> -385.481
A23: M3.11 | B23: PFI depreciation | C23: £m | D23: I/C | G23: -3.53 | I23: -10.725 | K23: =SUM(E23:J23) -> -14.255
A24: M3.12 | B24: Grant amortisation | C24: £m | D24: I/C | G24: 1.808 | K24: =SUM(E24:J24) -> 1.808
A25: M3.13 | B25: Gain on disposal of assets | C25: £m | D25: I/C | G25: 1.61 | I25: 0.002 | K25: =SUM(E25:J25) -> 1.612
A26: M3.14 | B26: Total costs before interest & tax | C26: £m | D26: C | E26: =SUM(E19:E25) -> -1027.09 | G26: =SUM(G19:G25) -> -396.941 | H26: =SUM(H19:H25) -> 11.459 | I26: =SUM(I19:I25) -> 18.69 | K26: =SUM(K19:K25) -> -1393.882
B28: Servicing of finance
A29: M3.15 | B29: Net interest charges | C29: £m | D29: I/C | E29: ='M1 (SRC27)'!G14 -> -157.025 | H29: -6.256 | I29: -8.306 | K29: =SUM(E29:J29) -> -171.587
B31: Profit
A32: M3.16 | B32: Profit before tax | C32: £m | D32: I/C | K32: =K16+K26+K29 -> 172.323
A33: M3.17 | B33: Taxation | C33: £m | D33: I/C | E33: ='M1 (SRC27)'!G15 -> 5.274 | G33: -71.353 | H33: 7.13 | I33: 0.05 | K33: =SUM(E33:J33) -> -58.899
A34: M3.18 | B34: Operating contribution / profit after tax | C34: £m | D34: C | E34: =+E16+SUM(E26:E33) -> 574.983 | G34: =+G16+SUM(G26:G33) -> -484.326 | H34: =+H16+SUM(H26:H33) -> 12.333 | I34: =+I16+SUM(I26:I33) -> 10.434 | K34: =K32+K33 -> 113.424
A35: M3.19 | B35: Non-core profit after tax | C35: £m | D35: I | K35: 0
A36: M3.20 | B36: SW company profit after tax | C36: £m | D36: C | K36: =K34+K35 -> 113.424
K38: =K36-'M3 (SRC21)'!M37 -> 0
A39: Prepared by: ..................................................
A41: Checked by: ..................................................
A43: Authorised by: | D43: Date: | E43: 46198

Sheet M4
A3: Scottish Water
A4: Table 4: Regulatory profit and loss
A6: Line ref. | B6: Description | C6: Units | D6: Field type | F6: ='M1 (SRC21)'!F6 -> 2024-25 | G6: ='M1 (SRC21)'!G6 -> 2025-26
F7: Core | G7: Core
A9: M4.1 | B9: Total revenue (total regulated income) | C9: £m | D9: C | F9: ='M7'!H18 -> 1579.511 | G9: ='M7'!K18 -> 1737.792
A10: M4.2 | B10: Operating expenditure | C10: £m | D10: C | F10: ='M1 (SRC27)'!F12 -> -511.138 | G10: ='M1 (SRC27)'!G12 -> -547.322
A11: M4.3 | B11: PFI costs | C11: £m | D11: C | F11: ='M1 (SRC27)'!F13 -> -168.377 | G11: ='M1 (SRC27)'!G13 -> -167.393
A12: M4.4 | B12: Repair costs | C12: £m | D12: C | F12: ='M1 (SRC27)'!F20 -> -334.74 | G12: ='M1 (SRC27)'!G20 -> -312.375
A13: M4.5 | B13: Economic depreciation | C13: £m | D13: C | F13: =-'M32'!F14 -> -753.26909 | G13: =-'M32'!G14 -> -781.64
A14: M4.6 | B14: Amortisation of deferred income | C14: £m | D14: I | F14: 1.915 | G14: 1.808
A15: M4.7 | B15: Total operating income | C15: £m | D15: C | F15: ='M7'!H30 -> 0 | G15: ='M7'!K30 -> 0
A16: M4.8 | B16: Operating profit | C16: £m | D16: C | F16: =SUM(F9:F15) -> -186.09809 | G16: =SUM(G9:G15) -> -69.13
A17: M4.9 | B17: Profit or loss on disposal of fixed assets | C17: £m | D17: I | F17: 1.635 | G17: 1.61
A18: M4.10 | B18: Net interest receivable less payable | C18: £m | D18: I | F18: -142.326 | G18: -157.025
A19: M4.11 | B19: Profit before taxation | C19: £m | D19: C | F19: =SUM(F16:F18) -> -326.78909 | G19: =SUM(G16:G18) -> -224.545
A20: M4.12 | B20: Taxation - current | C20: £m | D20: I | F20: 11.567 | G20: 7.758
A21: M4.13 | B21: Taxation - deferred | C21: £m | D21: I | F21: -36.846 | G21: -73.836
A22: M4.14 | B22: Profit on ordinary activities | C22: £m | D22: C | F22: =SUM(F19:F21) -> -352.06809 | G22: =SUM(G19:G21) -> -290.623
A23: M4.15 | B23: Extraordinary items, net of taxation | C23: £m | D23: I | F23: 0 | G23: 0
A24: M4.16 | B24: Profit for the year | C24: £m | D24: C | F24: =F22+F23 -> -352.06809 | G24: =G22+G23 -> -290.623
A25: M4.17 | B25: Dividends | C25: £m | D25: I | F25: 0 | G25: 0
A26: M4.18 | B26: Profit retained | C26: £m | D26: C | F26: =F24+F25 -> -352.06809 | G26: =G24+G25 -> -290.623
A28: Table 4b: Statement of comprehensive income
A29: for the core business for the year ended 31 March
A31: Line ref. | B31: Description | C31: Units | D31: Field type | F31: =F6 -> 2024-25 | G31: =G6 -> 2025-26
F32: Core | G32: Core
A34: M4b.1 | B34: Profit retained for the year | C34: £m | D34: BF | F34: =F26 -> -352.06809 | G34: =G26 -> -290.623
A35: M4b.2 | B35: Actuarial gains/losses on post-employment plans | C35: £m | D35: I
A36: M4b.3 | B36: Post-employment plans - non-cash (IAS 19 adjustments), net of tax | C36: £m | D36: I
A37: M4b.4 | B37: Revaluation gains and losses | C37: £m | D37: I | F37: 2511.199 | G37: 3654.044
A38: M4b.5 | B38: Other gains and losses | C38: £m | D38: I
A39: M4b.6 | B39: Total comprehensive income for the year | C39: £m | D39: C | F39: =SUM(F34:F38) -> 2159.1309 | G39: =SUM(G34:G38) -> 3363.421
A42: Prepared by: ..................................................
A44: Checked by: ..................................................
A46: Authorised by: | C46: Date: | D46: 46198

Sheet M5
A3: Scottish Water
A4: Table 5: Regulatory balance sheet
A6: Line ref. | B6: Description | C6: Units | D6: Field type | F6: ='M1 (SRC21)'!F6 -> 2024-25 | G6: ='M1 (SRC21)'!G6 -> 2025-26
F7: Core | G7: Core
B9: Fixed assets
A10: M5.1 | B10: Tangible assets | C10: £m | D10: I | F10: 112315.01 | G10: 116789.66
A11: M5.2 | B11: Reallocate replacement spend | C11: £m | D11: I | F11: 379.746 | G11: 352.426
A12: M5.3 | B12: Tangible assets excluding replacement | C12: £m | D12: C | F12: =F10-F11 -> 111935.26 | G12: =G10-G11 -> 116437.23
B14: Other operating assets and liabilities
A15: M5.4 | B15: Working capital | C15: £m | D15: C | F15: ='M11'!F33 -> -298.214 | G15: ='M11'!G33 -> -295.046
A16: M5.5 | B16: Cash | C16: £m | D16: I | F16: 51.742 | G16: 15.239
A17: M5.6 | B17: Short term deposits | C17: £m | D17: I | F17: 84.7 | G17: 49.7
A18: M5.7 | B18: Overdrafts | C18: £m | D18: I | F18: 0 | G18: 0
A19: M5.8 | B19: Net operating assets | C19: £m | D19: C | F19: =SUM(F12:F18) -> 111773.49 | G19: =SUM(G12:G18) -> 116207.13
B21: Non-operating assets and liabilities
A22: M5.9 | B22: Borrowings (excl. govt. loans) | C22: £m | D22: I | F22: 0 | G22: 0
A23: M5.10 | B23: Investment - loan to group company | C23: £m | D23: I | F23: 0 | G23: 0
A24: M5.11 | B24: Investment - other | C24: £m | D24: I | F24: 37.638 | G24: 37.638
A25: M5.12 | B25: Corporation tax payable | C25: £m | D25: I | F25: 11.567 | G25: 14.05
A26: M5.13 | B26: Dividends payable | C26: £m | D26: I | F26: 0 | G26: 0
A27: M5.14 | B27: Total non-operating assets and liabilities | C27: £m | D27: C | F27: =SUM(F22:F26) -> 49.205 | G27: =SUM(G22:G26) -> 51.688
B29: Creditors - amounts falling due after more than one year
A30: M5.15 | B30: Borrowings (excl. govt. loans) | C30: £m | D30: I | F30: 0 | G30: 0
A31: M5.16 | B31: Other creditors | C31: £m | D31: C | F31: ='M11'!F34 -> -83 | G31: ='M11'!G34 -> -88.4
A32: M5.17 | B32: Total creditors falling due after more than one year | C32: £m | D32: C | F32: =SUM(F30:F31) -> -83 | G32: =SUM(G30:G31) -> -88.4
B34: Provisions for liabilities & charges
A35: M5.18 | B35: Deferred tax provision | C35: £m | D35: I | F35: -728.693 | G35: -802.529
A36: M5.19 | B36: Post-employment asset / (liabilities) | C36: £m | D36: I | F36: 0 | G36: 0
A37: M5.20 | B37: Other provisions | C37: £m | D37: I | F37: -35.642 | G37: -50.144
A38: M5.21 | B38: Cumulative replacement deficit/surplus | C38: £m | D38: I | F38: -373.52309 | G38: -802.73709
A39: M5.22 | B39: Total provisions | C39: £m | D39: C | F39: =SUM(F35:F38) -> -1137.8581 | G39: =SUM(G35:G38) -> -1655.4101
A40: M5.23 | B40: Net assets employed | C40: £m | D40: C | F40: =F19+F27+F32+F39 -> 110601.84 | G40: =G19+G27+G32+G39 -> 114515.01
B42: Capital and reserves
A43: M5.24 | B43: Government loans | C43: £m | D43: I | F43: 4874.432 | G43: 5044.432
A44: M5.25 | B44: Income and expenditure account | C44: £m | D44: I | F44: 1737.342 | G44: 1842.891
A45: M5.26 | B45: Current cost reserve | C45: £m | D45: I | F45: 103856.63 | G45: 107494.25
A46: M5.27 | B46: Other reserves | C46: £m | D46: I | F46: 133.43 | G46: 133.43
A47: M5.28 | B47: Total capital & reserves | C47: £m | D47: C | F47: =SUM(F43:F46) -> 110601.84 | G47: =SUM(G43:G46) -> 114515.01
A50: Prepared by: | B50: ..................................
A52: Checked by: | B52: ..................................
...

Sheet M6
B3: Scottish Water
B4: Table 6: Regulatory income and expenditure and cash flow
A6: Line ref. | B6: Description | C6: Units | D6: Field type | F6: ='M1 (SRC21)'!F6 -> 2024-25 | G6: ='M1 (SRC21)'!G6 -> 2025-26
F7: Core | G7: Core
B9: Reconciliation of regulatory operating profit to net cash flow
A10: M6.1 | B10: Operating profit | C10: £m | D10: C | F10: ='M4'!F16 -> -186.09809 | G10: ='M4'!G16 -> -69.13
A11: M6.2 | B11: Change in working capital | C11: £m | D11: I | F11: 40.397 | G11: 28.536
A12: M6.3 | B12: Other income | C12: £m | D12: I | F12: 0 | G12: 0
A13: M6.4 | B13: Infrastructure charges income | C13: £m | D13: I | F13: 12.872 | G13: 14.156
A14: M6.5 | B14: Disposal proceeds | C14: £m | D14: I | F14: 2.32 | G14: 1.876
A15: M6.6 | B15: Economic depreciation (add back) | C15: £m | D15: C | F15: =-'M4'!F13 -> 753.26909 | G15: =-'M4'!G13 -> 781.64
A16: M6.7 | B16: Amortisation of deferred income (add back) | C16: £m | D16: C | F16: =-'M4'!F14 -> -1.915 | G16: =-'M4'!G14 -> -1.808
A17: M6.8 | B17: Other non-cash adjustments | C17: £m | D17: I | F17: -7.886 | G17: -14.892
A18: M6.9 | B18: Net cash flow from operating activities | C18: £m | D18: C | F18: =SUM(F10:F17) -> 612.959 | G18: =SUM(G10:G17) -> 740.378
B20: Returns on investments & servicing of finance
A21: M6.10 | B21: Interest received | C21: £m | D21: I | F21: 11.099 | G21: 4.395
A22: M6.11 | B22: Interest paid | C22: £m | D22: I | F22: -152.1 | G22: -159.857
A23: M6.12 | B23: Net cash flow from returns on investment & servicing of finance | C23: £m | D23: C | F23: =SUM(F21:F22) -> -141.001 | G23: =SUM(G21:G22) -> -155.462
B25: Taxation
A26: M6.13 | B26: Taxation | C26: £m | D26: I | F26: 16.478 | G26: 5.274
A27: M6.14 | B27: Net cash flow before capital investment | C27: £m | D27: C | F27: =F18+F23+F26 -> 488.436 | G27: =G18+G23+G26 -> 590.19
B29: Reconciliation of regulatory operating profit to net cash flow
A30: M6.15 | B30: Reasonable cost contributions | C30: £m | D30: I | F30: -39.911 | G30: -28.703
A31: M6.16 | B31: Refurbishment | C31: £m | D31: I | F31: -147.139 | G31: -142.27
A32: M6.17 | B32: Asset replacement | C32: £m | D32: I | F32: -379.746 | G32: -352.426
A33: M6.18 | B33: Growth | C33: £m | D33: I | F33: -62.719 | G33: -61.544
A34: M6.19 | B34: Enhancement | C34: £m | D34: I | F34: -163.375 | G34: -238.436
A35: M6.20 | B35: Completion | C35: £m | D35: I | F35: -14.878 | G35: -14.391
A36: M6.21 | B36: Third party contributions | C36: £m | D36: I | F36: 5.609 | G36: 6.077
A37: M6.22 | B37: Insurance recoveries | C37: £m | D37: I | F37: 0 | G37: 0
A38: M6.23 | B38: Net cash outflow from investing activities | C38: £m | D38: C | F38: =SUM(F30:F37) -> -802.159 | G38: =SUM(G30:G37) -> -831.693
A40: M6.24 | B40: Net cash flow before financing | C40: £m | D40: C | F40: =F27+F38 -> -313.723 | G40: =G27+G38 -> -241.503
B42: Financing
A43: M6.25 | B43: New government loans | C43: £m | D43: I | F43: 338.58 | G43: 297.441
A44: M6.26 | B44: Non-government loan repayments | C44: £m | D44: I | F44: 0 | G44: 0
A45: M6.27 | B45: Existing government loan repayments | C45: £m | D45: I | F45: -168.58 | G45: -127.441
A46: M6.28 | B46: Net cash inflow from financing | C46: £m | D46: C | F46: =SUM(F43:F45) -> 170 | G46: =SUM(G43:G45) -> 170
A47: M6.29 | B47: Increase (decrease) in cash and cash equivalents | C47: £m | D47: C | F47: =F40+F46 -> -143.723 | G47: =G40+G46 -> -71.503
A49: M6.30 | B49: Net cash flow | C49: £m | D49: C | F49: =F46-F47 -> 313.723 | G49: =G46-G47 -> 241.503
A52: Prepared by: ..................................................
...

Sheet M6a
A3: Scottish Water
A4: Table 6a: Regulatory investment
A6: Line ref. | B6: Description | C6: Units | D6: Field type | F6: ='M1 (SRC21)'!F6 -> 2024-25 | G6: ='M1 (SRC21)'!G6 -> 2025-26
F7: Core | G7: Core
B9: Post efficiency investment
A10: M6a.1 | B10: Reasonable cost contributions | C10: £m | D10: I | F10: 46.824 | G10: 39.668
A11: M6a.2 | B11: Repairs | C11: £m | D11: C | F11: =-'M1 (SRC27)'!F20 -> 334.74 | G11: =-'M1 (SRC27)'!G20 -> 312.375
A12: M6a.3 | B12: Refurbishment | C12: £m | D12: I | F12: 147.139 | G12: 142.27
A13: M6a.4 | B13: Asset replacement | C13: £m | D13: I | F13: 351.762 | G13: 352.426
A14: M6a.5 | B14: Growth | C14: £m | D14: I | F14: 62.719 | G14: 61.544
A15: M6a.6 | B15: Enhancement | C15: £m | D15: I | F15: 181.564 | G15: 242.414
A16: M6a.7 | B16: Completion | C16: £m | D16: I | F16: 14.878 | G16: 14.391
A17: M6a.8 | B17: Total gross spend | C17: £m | D17: C | F17: =SUM(F10:F16) -> 1139.626 | G17: =SUM(G10:G16) -> 1165.088
A18: M6a.9 | B18: Third party contributions | C18: £m | D18: I | F18: -5.609 | G18: -6.077
A19: M6a.10 | B19: Insurance recoveries | C19: £m | D19: I | F19: 0 | G19: 0
A20: M6a.11 | B20: Total net spend | C20: £m | D20: C | F20: =F17+F18+F19 -> 1134.017 | G20: =G17+G18+G19 -> 1159.011
B22: Regulatory to statutory adjustments
A23: M6a.12 | B23: Repairs | C23: £m | D23: I | F23: 7.886 | G23: 14.892
A24: M6a.13 | B24: Refurbishment | C24: £m | D24: I | F24: -3.568 | G24: -7.304
A25: M6a.14 | B25: Asset replacement | C25: £m | D25: I | F25: 1.667 | G25: -1.845
A26: M6a.15 | B26: Growth | C26: £m | D26: I | F26: -0.812 | G26: -0.63
A27: M6a.16 | B27: Enhancement | C27: £m | D27: I | F27: -5.173 | G27: -5.114
B29: PFI investment
A30: M6a.17 | B30: PFI investment | C30: £m | D30: I | F30: 0 | G30: 0
A33: Prepared by: ..................................................
A35: Checked by: ..................................................
A37: Authorised by: | C37: Date: | D37: 46198

Sheet M6-R
A3: Scottish Water
A4: Table 6-R: Regulatory financial ratios
A6: Line ref. | B6: Description | C6: Units | D6: Field type | F6: ='M1 (SRC21)'!F6 -> 2024-25 | G6: ='M1 (SRC21)'!G6 -> 2025-26
F7: Core | G7: Core
A9: M6-R.1 | B9: Funds from operations (FFO) | C9: £m | D9: C | F9: ='M1 (SRC27)'!F19 -> 789.34 | G9: ='M1 (SRC27)'!G19 -> 887.358
A11: M6-R.2 | B11: Taxation | C11: £m | D11: C | F11: ='M1 (SRC27)'!F15 -> 16.478 | G11: ='M1 (SRC27)'!G15 -> 5.274
A12: M6-R.3 | B12: Interest received | C12: £m | D12: C | F12: ='M6'!F21 -> 11.099 | G12: ='M6'!G21 -> 4.395
A13: M6-R.4 | B13: Interest paid | C13: £m | D13: C | F13: ='M6'!F22 -> -152.1 | G13: ='M6'!G22 -> -159.857
A15: M6-R.5 | B15: FFO with tax and interest added back | C15: £m | D15: C | F15: =F9-SUM(F11:F13) -> 913.863 | G15: =G9-SUM(G11:G13) -> 1037.546
A17: M6-R.6 | B17: Repair costs | C17: £m | D17: C | F17: =-M6a!F11 -> -334.74 | G17: =-M6a!G11 -> -312.375
A18: M6-R.7 | B18: Refurbishment costs | C18: £m | D18: C | F18: =-M6a!F12 -> -147.139 | G18: =-M6a!G12 -> -142.27
A19: M6-R.8 | B19: Asset replacement investment | C19: £m | D19: C | F19: =-M6a!F13 -> -351.762 | G19: =-M6a!G13 -> -352.426
A21: M6-R.9 | B21: FFO with tax and interest added back (net of maintenance) | C21: £m | D21: C | F21: =F15+SUM(F17:F19) -> 80.222 | G21: =G15+SUM(G17:G19) -> 230.475
A23: M6-R.10 | B23: Cash & cash equivalents | C23: £m | D23: C | F23: ='M5'!F16+'M5'!F17 -> 136.442 | G23: ='M5'!G16+'M5'!G17 -> 64.939
A24: M6-R.11 | B24: Government loans | C24: £m | D24: C | F24: =-'M5'!F43 -> -4874.432 | G24: =-'M5'!G43 -> -5044.432
A25: M6-R.12 | B25: Other loans | C25: £m | D25: C | F25: ='M5'!F22+'M5'!F30 -> 0 | G25: ='M5'!G22+'M5'!G30 -> 0
A26: M6-R.13 | B26: Net debt excluding retirement benefit obligations | C26: £m | D26: C | F26: =SUM(F23:F25) -> -4737.99 | G26: =SUM(G23:G25) -> -4979.493
B28: RCV and regulatory gearing analysis
A29: M6-R.14 | B29: Closing RCV | C29: £m | D29: I
B31: Ratios
A32: M6-R.15 | B32: Regulatory gearing (net debt to RCV) | C32: % | D32: C | F32: =-F26/F29 -> #DIV/0! | G32: =-G26/G29 -> #DIV/0!
A33: M6-R.16 | B33: FFO / net debt | C33: Nr | D33: C | F33: =F9/-F26 -> 0.16659807 | G33: =G9/-G26 -> 0.17820248
A34: M6-R.17 | B34: Cash interest cover [1] | C34: Nr | D34: C | F34: =F15/-F13 -> 6.0083037 | G34: =G15/-G13 -> 6.4904634
A35: M6-R.18 | B35: Cash interest cover [2] (net of maintenance) | C35: Nr | D35: C | F35: =F21/-F13 -> 0.52742932 | G35: =G21/-G13 -> 1.4417573
A38: Prepared by: ..................................................
A40: Checked by: ..................................................
A42: Authorised by: | C42: Date: | D42: 46198

Sheet M7
A3: Scottish Water
A4: Table 7: Analysis of turnover and operating income
A6: Line ref. | B6: Description | C6: Units | D6: Field type | F6: ='M1 (SRC21)'!F6 -> 2024-25 | I6: ='M1 (SRC21)'!G6 -> 2025-26
F7: Water | G7: Wastewater | H7: Core business | I7: Water | J7: Wastewater | K7: Core business
B9: Revenue
A10: M7.1 | B10: Household | C10: £m | D10: I/C | F10: 550.136 | G10: 603.339 | H10: =+G10+F10 -> 1153.475 | I10: 608.99 | J10: 667.607 | K10: =+J10+I10 -> 1276.597
A11: M7.2 | B11: Retail non-household | C11: £m | D11: I/C | F11: 0 | G11: 0 | H11: =+G11+F11 -> 0 | I11: 0 | J11: 0 | K11: =+J11+I11 -> 0
A12: M7.3 | B12: Wholesale non-household | C12: £m | D12: I/C | F12: 132.342 | G12: 278.185 | H12: =+G12+F12 -> 410.527 | I12: 145.928 | J12: 298.437 | K12: =+J12+I12 -> 444.365
A13: M7.4 | B13: Revenue grants | C13: £m | D13: I/C | F13: 0 | G13: 0 | H13: =+G13+F13 -> 0 | I13: 0 | J13: 0 | K13: =+J13+I13 -> 0
A14: M7.5 | B14: Rechargeable works | C14: £m | D14: I/C | F14: 0 | G14: 0 | H14: =+G14+F14 -> 0 | I14: 0 | J14: 0 | K14: =+J14+I14 -> 0
A15: M7.6 | B15: Bulk supplies | C15: £m | D15: I/C | F15: 0 | G15: 0 | H15: =+G15+F15 -> 0 | I15: 0 | J15: 0 | K15: =+J15+I15 -> 0
A16: M7.7 | B16: Other sources (excluding third parties) | C16: £m | D16: I/C | F16: 11.884 | G16: 3.625 | H16: =+G16+F16 -> 15.509 | I16: 13.539 | J16: 3.291 | K16: =+J16+I16 -> 16.83
A17: M7.8 | B17: Third party services | C17: £m | D17: I/C | F17: 0 | G17: 0 | H17: =+G17+F17 -> 0 | I17: 0 | J17: 0 | K17: =+J17+I17 -> 0
A18: M7.9 | B18: Total revenue (total regulated income) | C18: £m | D18: C | F18: =SUM(F10:F17) -> 694.362 | G18: =SUM(G10:G17) -> 885.149 | H18: =SUM(H10:H17) -> 1579.511 | I18: =SUM(I10:I17) -> 768.457 | J18: =SUM(J10:J17) -> 969.335 | K18: =SUM(K10:K17) -> 1737.792
B20: Cash receipts
A21: M7.10 | B21: Infrastructure charges income | C21: £m | D21: I | H21: 12.872 | K21: 14.156
A22: M7.11 | B22: Disposal proceeds | C22: £m | D22: I | H22: 2.32 | K22: 1.876
A23: M7.12 | B23: Total cash receipts | C23: £m | D23: C | H23: =SUM(H21:H22) -> 15.192 | K23: =SUM(K21:K22) -> 16.032
A25: M7.13 | B25: Total revenue, infrastructure charge income and disposal proceeds | C25: £m | D25: C | H25: =H18+H23 -> 1594.703 | K25: =K18+K23 -> 1753.824
B27: Operating income
A28: M7.14 | B28: Exceptional items | C28: £m | D28: I | H28: 0 | K28: 0
A29: M7.15 | B29: Other operating income | C29: £m | D29: I | H29: 0 | K29: 0
A30: M7.16 | B30: Total operating income | C30: £m | D30: C | H30: =SUM(H28:H29) -> 0 | K30: =SUM(K28:K29) -> 0
B32: Memo line: change in household revenue compared to the previous year
A33: M7.17 | B33: Change in revenue from the average price increase | C33: £m | D33: I | H33: 92.382928 | K33: 114.19402
A34: M7.18 | B34: Change in revenue from growth in Band D equivalents | C34: £m | D34: I | H34: 8.2023633 | K34: 9.4955484
A35: M7.19 | B35: Change in revenue due to other factors | C35: £m | D35: I | H35: 3.0837087 | K35: -0.56762417
A36: M7.20 | B36: Total change in household revenue compared to the previous year | C36: £m | D36: C | H36: =SUM(H33:H35) -> 103.669 | K36: =SUM(K33:K35) -> 123.12195
B38: Memo line: change in wholesale non-household revenue compared to the previous year
A39: M7.21 | B39: Change in revenue from the average price increase | C39: £m | D39: I | H39: 33.634304 | K39: 40.642
A40: M7.22 | B40: Change in revenue from changes in volumes | C40: £m | D40: I | H40: -1.287096 | K40: -3.762
A41: M7.23 | B41: Change in revenue due to other factors | C41: £m | D41: I | H41: -6.039208 | K41: -4.093
A42: M7.24 | B42: Total change in non-household revenue compared to the previous year | C42: £m | D42: C | H42: =SUM(H39:H41) -> 26.308 | K42: =SUM(K39:K41) -> 32.787
B44: Memo line: wholesale non-household revenue
A45: M7.25 | B45: Revenue from GAP sites scheme (included in line 7.3) | C45: £m | D45: I | H45: 1.999 | K45: 2.454
A46: M7.26 | B46: Revenue from vacant charging (included in line 7.3) | C46: £m | D46: I | H46: 0.012 | K46: -1.403
A49: Prepared by: ..................................................
A51: Checked by: ..................................................
A53: Authorised by: | C53: Date: | D53: 46198

Sheet M8
A3: Scottish Water
A4: Table 8: Movements in the cash balance
A6: Line ref. | B6: Description | C6: Units | D6: Field type | F6: ="Cash generated during 2025-26" -> Cash generated during 2025-26 | G6: Timing impacts | M6: Net of timing impacts
G7: LTNC Items | H7: Government borrowing | I7: Tier 2 investment | J7: Working capital
F8: 1 | G8: 2 | H8: 3 | I8: 4 | J8: 5 | K8: 6 | L8: 7 | M8: 8
B10: Movements in cash balance
A11: M8.1 | B11: Household revenue | C11: £m | D11: I | F11: -24.9
A12: M8.2 | B12: Wholesale revenue | C12: £m | D12: I | F12: -29.4
A13: M8.3 | B13: Other revenue | C13: £m | D13: I | F13: -3.7
A14: M8.4 | B14: Infrastructure charges income | C14: £m | D14: I | F14: -8.9
A15: M8.5 | B15: Disposal proceeds | C15: £m | D15: I | F15: 0.9
A16: M8.6 | B16: Operating expenditure | C16: £m | D16: I | F16: -56.8
A17: M8.7 | B17: PFI expenditure | C17: £m | D17: I | F17: 33.1
A18: M8.8 | B18: Repair and refurbishment expenditure | C18: £m | D18: I | F18: 28.8 | G18: 27.2
A19: M8.9 | B19: Reasonable cost contributions | C19: £m | D19: I | F19: -3.4 | G19: -8.3
A20: M8.10 | B20: Interest | C20: £m | D20: I | F20: 37
A21: M8.11 | B21: Taxation | C21: £m | D21: I | F21: 11.1 | G21: -5.3
A22: M8.12 | B22: Investment excluding completion investment | C22: £m | D22: I | F22: -44.9 | I22: 44.9
A23: M8.13 | B23: Borrowing | C23: £m | D23: I | F23: -6.6 | H23: 6.6
A24: M8.14 | B24: Working capital | C24: £m | D24: I | F24: 30.2 | J24: -30.2
A25: M8.15 | B25: Grants and contributions | C25: £m | D25: I | F25: -4.9
A26: M8.16 | C26: £m | D26: I
A27: M8.17 | C27: £m | D27: I
A28: M8.18 | C28: £m | D28: I
A29: M8.19 | C29: £m | D29: I
A31: M8.20 | B31: Additional cash generated / utilised in the year 2025-26 compared to the final determination | C31: £m | D31: C | F31: =SUM(F11:F29) -> -42.4 | G31: =SUM(G11:G29) -> 13.6 | H31: =SUM(H11:H29) -> 6.6 | I31: =SUM(I11:I29) -> 44.9 | J31: =SUM(J11:J29) -> -30.2 | K31: =SUM(K11:K29) -> 0 | L31: =SUM(L11:L29) -> 0 | M31: =SUM(F31:L31) -> -7.5
A32: M8.21 | B32: 2025-26 closing cash balance per updated FD model | C32: £m | D32: I/C | F32: 64.6 | M32: =SUM(F32:L32) -> 64.6
A33: M8.22 | B33: Brought forward at 1 April 2025 | C33: £m | D33: I/C | F33: 10 | G33: -59.3 | H33: -13.7 | I33: 224.5 | J33: -137.9 | M33: =SUM(F33:L33) -> 23.6
A34: M8.23 | B34: Closing cash balance excluding completion at 31 March 2026 | C34: £m | D34: C | F34: =SUM(F31:F33) -> 32.2 | M34: =SUM(M31:M33) -> 80.7
A37: Prepared by: ..................................................
A39: Checked by: ..................................................
A41: Authorised by: | C41: Date: | D41: 46198

Sheet M11
A3: Scottish Water
A4: Table 11: Working capital (core)
A6: Line ref. | B6: Description | C6: Units | D6: Field type | F6: ='M1 (SRC21)'!F6 -> 2024-25 | G6: ='M1 (SRC21)'!G6 -> 2025-26
B9: Net total receivables / (payables)
A10: M11.1 | B10: Stocks | C10: £m | D10: I | F10: 4.595 | G10: 6.359
A11: M11.2 | B11: Trade debtors - household | C11: £m | D11: I | F11: 74.52 | G11: 104.319
A12: M11.3 | B12: Trade debtors - non household (licensed businesses) | C12: £m | D12: I | F12: 0 | G12: 0
A13: M11.4 | B13: Other trade debtors | C13: £m | D13: I | F13: 19.533 | G13: 12.06
A14: M11.5 | B14: Accrued income | C14: £m | D14: I | F14: 0.591 | G14: 0.497
A15: M11.6 | B15: Measured income accrual | C15: £m | D15: I | F15: 0 | G15: 0
A16: M11.7 | B16: Prepayments and other short term debtors | C16: £m | D16: I | F16: 47.196 | G16: 21.594
A17: M11.8 | B17: Non-trade debtors (VAT) | C17: £m | D17: I | F17: 19.404 | G17: 19.531
A18: M11.9 | B18: Trade creditors | C18: £m | D18: I | F18: -35.127 | G18: -33.779
A19: M11.10 | B19: Wholesale charge prepayment | C19: £m | D19: I | F19: -97.029 | G19: -109.694
A20: M11.11 | B20: Deferred income - customer advance receipts | C20: £m | D20: I | F20: 0 | G20: 0
A21: M11.12 | B21: Short-term capital creditors | C21: £m | D21: I | F21: -127.68 | G21: -127.626
... A25: M11.16 | B25: Other creditors | C25: £m | D25: I | F25: -105.329 | G25: -120.482
A26: M11.17 | B26: Total working capital excluding third party contributions | C26: £m | D26: C | F26: =SUM(F10:F25) -> -372.096 | G26: =SUM(G10:G25) -> -369.894
A27: M11.18 | B27: Third party contributions (deferred income - grants) | C27: £m | D27: I | F27: -9.118 | G27: -13.552
A28: M11.19 | B28: Net total receivables / (payables) | C28: £m | D28: C | F28: =SUM(F26:F27) -> -381.214 | G28: =SUM(G26:G27) -> -383.446
A29: M11.20 | B29: Other provisions | C29: £m | D29: C | F29: ='M5'!F37 -> -35.642 | G29: ='M5'!G37 -> -50.144
A30: M11.21 | B30: Total working capital (including other provisions) | C30: £m | D30: C | F30: =SUM(F28:F29) -> -416.856 | G30: =SUM(G28:G29) -> -433.59
B32: Check
A33: M11.22 | B33: Working capital - net total due under one year | C33: £m | D33: I | F33: -298.214 | G33: -295.046
A34: M11.23 | B34: Other creditors > 1 year | C34: £m | D34: I | F34: -83 | G34: -88.4
A35: M11.24 | B35: Net total receivables / (payables) | C35: £m | D35: C | F35: =SUM(F33:F34) -> -381.214 | G35: =SUM(G33:G34) -> -383.446
B37: IFRS net receivables / (payables)
A38: M11.25 | B38: Statutory IFRS adjustments to working capital | C38: £m | D38: I | F38: -32.198 | G38: -2.558
A39: M11.26 | B39: Net total receivables / (payables) | C39: £m | D39: C | F39: =F35+F38 -> -413.412 | G39: =G35+G38 -> -386.004
A43: Prepared by: ..................................................
A45: Checked by: ..................................................
A47: Authorised by: | C47: Date: | D47: 46198

Sheet M18 W
A3: Scottish Water
A4: Table 18 W: Activity based costing - water service
F6: ='M1 (SRC21)'!G6 -> 2025-26
F7: 1 | H7: 2 | I7: 3 | J7: 4 | L7: 5 | N7: 6 | P7: 7 | R7: 8 | S7: 9 | T7: 10 | V7: 11 | X7: 12 | Y7: 13
F8: NON-CORE/NON-LICENSED | H8: CORE
H9: WHOLESALE | P9: RETAIL
A10: Line ref. | B10: Description | C10: Units | D10: Field type | F10: Total | H10: Water resources & treatment | L10: Water distribution | N10: Wholesale core total | P10: Retail domestic | R10: Retail - non domestic | V10: Water service core total | X10: Water service total | Y10: CG
H11: Source | I11: Trtmt | J11: Total | R11: Measd | S11: Non measd | T11: Total
B14: Service analysis - water: direct costs
A15: M18.1 | B15: Employment costs | C15: £m | D15: I/C | F15: 1.972 | H15: 3.968 | I15: 20.338 | J15: =H15+I15 -> 24.306 | L15: 35.107 | N15: =J15+L15 -> 59.413 | V15: =N15 -> 59.413 | X15: =V15+F15 -> 61.385 | Y15: A2
A16: M18.2 | B16: Power | C16: £m | D16: I/C | F16: 0.031 | H16: 7.355 | I16: 14.369 | J16: =H16+I16 -> 21.724 | L16: 18.972 | N16: =J16+L16 -> 40.696 | V16: =N16 -> 40.696 | X16: =V16+F16 -> 40.727 | Y16: A2
A17: M18.3 | B17: Hired and contracted services | C17: £m | D17: I/C | F17: 2.05 | H17: 0.047 | I17: 8.598 | J17: =H17+I17 -> 8.645 | L17: 15.695 | N17: =J17+L17 -> 24.34 | V17: =N17 -> 24.34 | X17: =V17+F17 -> 26.39 | Y17: A2
A18: M18.4 | B18: Materials and consumables | C18: £m | D18: I/C | F18: 0.039 | H18: 0.557 | I18: 26.73 | J18: =H18+I18 -> 27.287 | L18: 1.542 | N18: =J18+L18 -> 28.829 | V18: =N18 -> 28.829 | X18: =V18+F18 -> 28.868 | Y18: A2
A19: M18.5 | B19: Service charges SEPA | C19: £m | D19: I/C | F19: 0 | H19: 0.178 | I19: 2.094 | J19: =H19+I19 -> 2.272 | L19: 0.007 | N19: =J19+L19 -> 2.279 | V19: =N19 -> 2.279 | X19: =V19+F19 -> 2.279 | Y19: A2
A20: M18.6 | B20: Bulk supply imports | C20: £m | D20: I/C | F20: 0 | H20: 0 | I20: 0 | J20: =H20+I20 -> 0 | L20: 0 | N20: =J20+L20 -> 0 | V20: =N20 -> 0 | X20: =V20+F20 -> 0 | Y20: A2
A21: M18.7 | B21: Contract management | C21: £m | D21: I/C | V21: =N21 -> 0 | X21: =V21+F21 -> 0 | Y21: A2
A22: M18.8 | B22: Meter maintenance & installation | C22: £m | D22: I/C | L22: 0 | N22: =L22 -> 0 | V22: =N22 -> 0 | X22: =V22+F22 -> 0 | Y22: A2
A23: M18.9 | B23: Other direct costs | C23: £m | D23: I/C | F23: 0.328 | H23: 0.445 | I23: 1.755 | J23: =H23+I23 -> 2.2 | L23: 3.599 | N23: =J23+L23 -> 5.799 | V23: =N23 -> 5.799 | X23: =V23+F23 -> 6.127 | Y23: A2
A25: M18.10 | B25: Billing, enquiries and other direct costs | C25: £m | D25: I/C | F25: 0.038 | P25: 18.11 | R25: 2.571 | S25: 0.481 | T25: =R25+S25 -> 3.052 | V25: =P25+T25 -> 21.162 | X25: =F25+V25 -> 21.2 | Y25: A2
A27: M18.11 | B27: Direct employment costs | C27: £m | D27: I/C | P27: 6.286 | R27: 2.526 | S27: 0.533 | T27: =R27+S27 -> 3.059
A28: M18.12 | B28: IT (exc employment) | C28: £m | D28: I/C | P28: 0 | R28: 0 | S28: 0 | T28: =R28+S28 -> 0
A30: M18.13 | B30: Total direct costs | C30: £m | D30: C | F30: =SUM(F15:F20)+F23+SUM(F25) -> 4.458 | H30: =SUM(H15:H20)+H23 -> 12.55 | I30: =SUM(I15:I20)+I23 -> 73.884 | J30: =SUM(J15:J20)+J23 -> 86.434 | L30: =SUM(L15:L20)+L22+L23 -> 74.922 | N30: =SUM(N15:N23) -> 161.356 | P30: =P25 -> 18.11 | R30: =R25 -> 2.571 | S30: =S25 -> 0.481 | T30: =R30+S30 -> 3.052 | V30: =T30+P30+N30 -> 182.518 | X30: =V30+F30 -> 186.976 | Y30: A2
A31: M18.14 | B31: General and support costs | C31: £m | D31: I/C | F31: 0.933 | H31: 1.33 | I31: 16.475 | J31: =H31+I31 -> 17.805 | L31: 20.29 | N31: =J31+L31 -> 38.095 | P31: 2.836 | R31: 0.448 | S31: 0.081 | T31: =R31+S31 -> 0.529 | V31: =T31+P31+N31 -> 41.46 | X31: =V31+F31 -> 42.393 | Y31: A2
A33: M18.15 | B33: Functional expenditure | C33: £m | D33: C | F33: =F30+F31 -> 5.391 | H33: =H30+H31 -> 13.88 | I33: =I30+I31 -> 90.359 | J33: =J30+J31 -> 104.239 | L33: =L30+L31 -> 95.212 | N33: =N30+N31 -> 199.451 | P33: =P30+P31 -> 20.946 | R33: =R30+R31 -> 3.019 | S33: =S30+S31 -> 0.562 | T33: =R33+S33 -> 3.581 | V33: =T33+P33+N33 -> 223.978 | X33: =V33+F33 -> 229.369 | Y33: A2
B35: Business activities
A36: M18.16 | B36: Scientific services | C36: £m | D36: I/C | F36: 0.482 | J36: 11.621 | L36: 14.458 | N36: =J36+L36 -> 26.079 | P36: 0 | T36: 0 | V36: =T36+P36+N36 -> 26.079 | X36: =V36+F36 -> 26.561 | Y36: A2
A37: M18.17 | B37: Cost of regulation | C37: £m | D37: I/C | N37: 5.064 | P37: 0.405 | T37: 0.756 | V37: =T37+P37+N37 -> 6.225 | X37: =V37 -> 6.225 | Y37: A2
A38: M18.18 | B38: Cloud expenditure | C38: £m | D38: I/C | F38: 0 | J38: 5.9392255 | L38: 6.7681485 | N38: =J38+L38 -> 12.707374 | P38: 0.94600637 | T38: 0.17645888 | V38: =T38+P38+N38 -> 13.829839 | X38: =V38+F38 -> 13.829839 | Y38: A2
A39: M18.19 | B39: Total business activities | C39: £m | D39: C | F39: =F36+F38 -> 0.482 | J39: =J36+J38 -> 17.560225 | L39: =L36+L38 -> 21.226149 | N39: =N36+N37+N38 -> 43.850374 | P39: =P36+P37+P38 -> 1.3510064 | T39: =T36+T37+T38 -> 0.93245888 | V39: =T39+P39+N39 -> 46.133839 | X39: =V39+F39 -> 46.615839 | Y39: A2
A41: M18.20 | B41: Local authority rates | C41: £m | D41: I/C | F41: 0.024 | J41: 21.203 | L41: 22.725 | N41: =J41+L41 -> 43.928 | P41: 0.016 | T41: 0.001 | V41: =T41+P41+N41 -> 43.945 | X41: =V41+F41 -> 43.969 | Y41: A2
A42: M18.21 | B42: Bad debt charge | C42: £m | D42: I/C | F42: -0.092 | N42: 0 | P42: 9.817 | R42: 0.001 | S42: 0 | T42: =R42+S42 -> 0.001 | V42: =T42+P42+N42 -> 9.818 | X42: =V42+F42 -> 9.726 | Y42: A2
A44: M18.22 | B44: Total exceptional items | C44: £m | D44: I/C | F44: 0 | J44: 0 | L44: 0 | N44: =J44+L44 -> 0 | P44: 0 | T44: 0 | V44: =T44+P44+N44 -> 0 | X44: =V44+F44 -> 0 | Y44: A2
A46: M18.23 | B46: Total opex less third party services | C46: £m | D46: C | J46: =J33+J39+J41+J44 -> 143.00223 | L46: =L33+L39+L41+L44 -> 139.16315 | N46: =N33+N39+N41+N42+N44 -> 287.22937 | P46: =P33+P39+P41+P42+P44 -> 32.130006 | T46: =T33+T39+T41+T42+T44 -> 4.5154589 | V46: =T46+P46+N46 -> 323.87484 | X46: =V46+F46 -> 323.87484 | Y46: A2
A47: M18.24 | B47: Third party services - opex | C47: £m | D47: I/C | J47: 2.187 | L47: 2.735 | N47: =J47+L47 -> 4.922 | P47: 0 | T47: 0.067 | V47: =T47+P47+N47 -> 4.989 | X47: =V47 -> 4.989 | Y47: A2
A49: M18.25 | B49: Total operating expenditure | C49: £m | D49: C | F49: =F33+F39+F41+F42+F44 -> 5.805 | J49: =J46+J47 -> 145.18923 | L49: =L46+L47 -> 141.89815 | N49: =N46+N47 -> 292.15137 | P49: =P46+P47 -> 32.130006 | T49: =T46+T47 -> 4.5824589 | V49: =T49+P49+N49 -> 328.86384 | X49: =V49+F49 -> 334.66884 | Y49: A2
B51: Capital maintenance (SRC27)
A52: M18.26 | B52: Repairs | C52: £m | D52: I/C | F52: 0 | J52: 48.696794 | L52: 118.53128 | N52: =J52+L52 -> 167.22807 | P52: 0 | T52: 0 | V52: =N52 -> 167.22807 | X52: =V52+F52 -> 167.22807 | Y52: A2
A53: M18.27 | B53: Refurbishment | C53: £m | D53: I/C | F53: 0 | J53: 43.850627 | L53: 11.014571 | N53: =J53+L53 -> 54.865198 | P53: 0 | T53: 0 | V53: =N53 -> 54.865198 | X53: =V53+F53 -> 54.865198 | Y53: A2
A54: M18.28 | B54: Asset replacement | C54: £m | D54: I/C | F54: 0 | J54: 123.25044 | L54: 92.245779 | N54: =J54+L54 -> 215.49622 | P54: 0 | T54: 0 | V54: =N54 -> 215.49622 | X54: =V54+F54 -> 215.49622 | Y54: A2
B56: Capital maintenance (SRC21)
...

Sheet M18 WW
A3: Scottish Water
A4: Table 18 WW: Activity based costing - wastewater service
F6: ='M1 (SRC21)'!G6 -> 2025-26
F7: 1 | H7: 2 | I7: 3 | J7: 4 | L7: 5 | N7: 6 | P7: 7 | Q7: 8 | R7: 9 | T7: 10 | V7: 11 | W7: 12
F8: NON-CORE/NON-LICENSED | H8: CORE
H9: WHOLESALE | N9: RETAIL
A10: Line ref. | B10: Description | C10: Units | D10: Field type | F10: Total | H10: Sewerage | I10: Sewage treatment | J10: Sludge treatment & disposal | L10: Wholesale core total | N10: Retail domestic | P10: Retail - non domestic | T10: Wastewater service core total | V10: Wastewater service total | W10: CG
P11: Measd | Q11: Non measd | R11: Total
B14: Service analysis - wastewater: direct costs
A15: M18.1 | B15: Employment costs | C15: £m | D15: I/C | F15: 1.942 | H15: 21.612 | I15: 26.278 | J15: 6.131 | L15: =SUM(H15:J15) -> 54.021 | T15: =L15 -> 54.021 | V15: =T15+F15 -> 55.963 | W15: A2
A16: M18.2 | B16: Power | C16: £m | D16: I/C | F16: 0.009 | H16: 13.537 | I16: 27.675 | J16: 3.314 | L16: =SUM(H16:J16) -> 44.526 | T16: =L16 -> 44.526 | V16: =T16+F16 -> 44.535 | W16: A2
A17: M18.3 | B17: Hired and contracted services | C17: £m | D17: I/C | F17: 2.047 | H17: 3.718 | I17: 7.639 | J17: 8.234 | L17: =SUM(H17:J17) -> 19.591 | T17: =L17 -> 19.591 | V17: =T17+F17 -> 21.638 | W17: A2
A18: M18.4 | B18: Annual charge for PFI schemes | C18: £m | D18: I/C | F18: 0 | H18: 12.482 | I18: 80.445 | J18: 69.209 | L18: =SUM(H18:J18) -> 162.136 | T18: =L18 -> 162.136 | V18: =T18+F18 -> 162.136 | W18: A2
A19: M18.5 | B19: Internal cost of PFI schemes | C19: £m | D19: I/C | F19: 0 | H19: 0.182 | I19: 3.853 | J19: 8.329 | L19: =SUM(H19:J19) -> 12.364 | T19: =L19 -> 12.364 | V19: =T19+F19 -> 12.364 | W19: A2
A20: M18.6 | B20: Materials and consumables | C20: £m | D20: I/C | F20: 0.024 | H20: 0.866 | I20: 9.868 | J20: 3.214 | L20: =SUM(H20:J20) -> 13.948 | T20: =L20 -> 13.948 | V20: =T20+F20 -> 13.972 | W20: A2
A21: M18.7 | B21: Service charges SEPA | C21: £m | D21: I/C | F21: -0.001 | H21: 4.012 | I21: 8.542 | J21: 0.116 | L21: =H21+I21+J21 -> 12.67 | T21: =L21 -> 12.67 | V21: =T21+F21 -> 12.669 | W21: A2
A23: M18.8 | B23: Contract management | C23: £m | D23: I/C | L23: 0 | T23: =L23 -> 0 | V23: =T23+F23 -> 0 | W23: A2
A24: M18.9 | B24: Meter maintenance & installation | C24: £m | D24: I/C | H24: 0 | L24: =H24 -> 0 | T24: =L24 -> 0 | V24: =T24+F24 -> 0 | W24: A2
A25: M18.10 | B25: Other direct costs | C25: £m | D25: I/C | F25: 0.326 | H25: 0.407 | I25: 2.199 | J25: 0.75 | L25: =SUM(H25:J25) -> 3.356 | T25: =L25 -> 3.356 | V25: =T25+F25 -> 3.682 | W25: A2
A27: M18.11 | B27: Billing, enquiries and other direct costs | C27: £m | D27: I/C | F27: 0.016 | N27: 16.137 | P27: 2.182 | Q27: 0.426 | R27: =P27+Q27 -> 2.608 | T27: =R27+N27 -> 18.745 | V27: =T27+F27 -> 18.761 | W27: A2
A29: M18.12 | B29: Direct employment costs | C29: £m | D29: I/C | N29: 4.857 | P29: 2.143 | Q29: 0.468 | R29: =P29+Q29 -> 2.611
A30: M18.13 | B30: IT (exc employment) | C30: £m | D30: I/C | N30: 0 | P30: 0 | Q30: 0 | R30: =P30+Q30 -> 0
A32: M18.14 | B32: Total direct costs | C32: £m | D32: C | F32: =SUM(F15:F21)+F25+SUM(F27) -> 4.363 | H32: =SUM(H15:H21)+H24+H25 -> 56.816 | I32: =SUM(I15:I21)+I25 -> 166.499 | J32: =SUM(J15:J21)+J25 -> 99.297 | L32: =SUM(L15:L21)+SUM(L23:L25) -> 322.612 | N32: =N27 -> 16.137 | P32: =P27 -> 2.182 | Q32: =Q27 -> 0.426 | R32: =P32+Q32 -> 2.608 | T32: =L32+N32+R32 -> 341.357 | V32: =T32+F32 -> 345.72 | W32: A2
A33: M18.15 | B33: General and support costs | C33: £m | D33: I/C | F33: 1.039 | H33: 16.546 | I33: 14.909 | J33: 6.276 | L33: =H33+I33+J33 -> 37.731 | N33: 2.372 | P33: 0.379 | Q33: 0.076 | R33: =P33+Q33 -> 0.455 | T33: =L33+N33+R33 -> 40.558 | V33: =T33+F33 -> 41.597 | W33: A2
A35: M18.16 | B35: Functional expenditure | C35: £m | D35: C | F35: =F32+F33 -> 5.402 | H35: =H32+H33 -> 73.362 | I35: =I32+I33 -> 181.408 | J35: =J32+J33 -> 105.573 | L35: =H35+I35+J35 -> 360.343 | N35: =SUM(N32:N33) -> 18.509 | P35: =P32+P33 -> 2.561 | Q35: =Q32+Q33 -> 0.502 | R35: =R32+R33 -> 3.063 | T35: =L35+N35+R35 -> 381.915 | V35: =V32+V33 -> 387.317 | W35: A2
B37: Business activities
A38: M18.17 | B38: Scientific services | C38: £m | D38: I/C | F38: 0.322 | H38: 0 | I38: 3.691 | J38: 0 | L38: =H38+I38+J38 -> 3.691 | N38: 0 | R38: 0 | T38: =L38+N38+R38 -> 3.691 | V38: =T38+F38 -> 4.013 | W38: A2
A39: M18.18 | B39: Cost of regulation | C39: £m | D39: I/C | L39: 5.475 | N39: 0.364 | R39: 0.564 | T39: =L39+N39+R39 -> 6.403 | V39: =T39 -> 6.403 | W39: A2
A40: M18.19 | B40: Cloud expenditure | C40: £m | D40: I/C | H40: 5.5360688 | I40: 4.9883507 | J40: 2.0998651 | L40: =H40+I40+J40 -> 12.624285 | N40: 0.79363926 | R40: 0.15223687 | T40: =L40+N40+R40 -> 13.570161 | V40: =T40+F40 -> 13.570161 | W40: A2
A41: M18.20 | B41: Total business activities | C41: £m | D41: C | F41: =F38+F40 -> 0.322 | H41: =H38+H40 -> 5.5360688 | I41: =I38+I40 -> 8.6793507 | J41: =J38+J40 -> 2.0998651 | L41: =L38+L39+L40 -> 21.790285 | N41: =N38+N39+N40 -> 1.1576393 | R41: =R38+R39+R40 -> 0.71623687 | T41: =T38+T39+T40 -> 23.664161 | V41: =T41+F41 -> 23.986161 | W41: A2
A43: M18.21 | B43: Local authority rates | C43: £m | D43: I/C | F43: 0.01 | L43: 19.684 | N43: 0.013 | R43: 0.001 | T43: =L43+N43+R43 -> 19.698 | V43: =T43+F43 -> 19.708 | W43: A2
A44: M18.22 | B44: Bad debt charge | C44: £m | D44: I/C | F44: -0.086 | L44: 0 | N44: 9.323 | P44: 0.001 | Q44: 0 | R44: =P44+Q44 -> 0.001 | T44: =L44+N44+R44 -> 9.324 | V44: =T44+F44 -> 9.238 | W44: A2
A45: M18.23 | B45: Total exceptional items | C45: £m | D45: I/C | F45: 0 | H45: 0 | I45: 0 | J45: 0 | L45: =H45+I45+J45 -> 0 | N45: 0 | R45: 0 | T45: =L45+N45+R45 -> 0 | V45: =T45+F45 -> 0 | W45: A2
A47: M18.24 | B47: Total opex less third party services | C47: £m | D47: C | H47: =H35+H41+H45 -> 78.898069 | I47: =I35+I41+I45 -> 190.08735 | J47: =J35+J41+J45 -> 107.67287 | L47: =L35+L41+L43+L44+L45 -> 401.81728 | N47: =N35+N41+N43+N44+N45 -> 29.002639 | R47: =R35+R41+R43+R44+R45 -> 3.7812369 | T47: =L47+N47+R47 -> 434.60116 | V47: =T47 -> 434.60116 | W47: A2
A48: M18.25 | B48: Third party services - opex | C48: £m | D48: I/C | H48: 0 | I48: 0 | J48: 2.32 | L48: =H48+I48+J48 -> 2.32 | N48: 0 | R48: 0.067 | T48: =L48+N48+R48 -> 2.387 | V48: =T48 -> 2.387 | W48: A2
A50: M18.26 | B50: Total operating expenditure | C50: £m | D50: C | F50: =F35+F45+F44+F43+F41 -> 5.648 | H50: =H47+H48 -> 78.898069 | I50: =I47+I48 -> 190.08735 | J50: =J47+J48 -> 109.99287 | L50: =L47+L48 -> 404.13728 | N50: =N47+N48 -> 29.002639 | P50: =P35+P41+P44 -> 2.562 | Q50: =Q35+Q41+Q44 -> 0.502 | R50: =R47+R48 -> 3.8482369 | T50: =L50+N50+R50 -> 436.98816 | V50: =T50+F50 -> 442.63616 | W50: A2
B52: Capital maintenance (SRC27)
A53: M18.27 | B53: Repairs | C53: £m | D53: I/C | F53: 0 | H53: 97.870046 | I53: 42.194352 | J53: 5.0823872 | L53: =H53+I53+J53 -> 145.14679 | N53: 0 | R53: 0 | T53: =L53+N53+R53 -> 145.14679 | V53: =T53+F53 -> 145.14679 | W53: A2
A54: M18.28 | B54: Refurbishment | C54: £m | D54: I/C | F54: 0 | H54: 13.370896 | I54: 31.762319 | J54: 1.6898044 | L54: =H54+I54+J54 -> 46.823019 | N54: 0 | R54: 0 | T54: =L54+N54+R54 -> 46.823019 | V54: =T54+F54 -> 46.823019 | W54: A2
A55: M18.29 | B55: Asset replacement | C55: £m | D55: I/C | F55: 0 | H55: 57.883696 | I55: 90.269237 | J55: 12.840744 | L55: =H55+I55+J55 -> 160.99368 | N55: 0 | R55: 0 | T55: =L55+N55+R55 -> 160.99368 | V55: =T55+F55 -> 160.99368 | W55: A2
...

Sheet M21
A3: Scottish Water
A4: Table 21: Taxation analysis (core)
A6: Line ref. | B6: Description | C6: Units | D6: Field type | F6: ='M1 (SRC21)'!F6 -> 2024-25 | G6: ='M1 (SRC21)'!G6 -> 2025-26
B8: Opening position
A9: M21.1 | B9: Opening balance - Short Asset Life Pool | C9: £m | D9: I | F9: 623.6277 | G9: 527.2544
A10: M21.2 | B10: Opening balance - Long Asset Life Pool | C10: £m | D10: I | F10: 2119.3855 | G10: 2192.505
A11: M21.3 | B11: Opening balance - Structures and Buildings Allowance | C11: £m | D11: I | F11: 37.736127 | G11: 53.933615
A12: M21.4 | B12: Opening balance - Intangible assets | C12: £m | D12: I | F12: 12.014815 | G12: 10.53
A13: M21.5 | B13: Opening Balance - General provisions | C13: £m | D13: I | F13: 69.413105 | G13: 63.517604
A14: M21.6 | B14: Losses brought forward | C14: £m | D14: I | F14: 278.5818 | G14: 558.86251
B16: Allocation of capital expenditure for tax purposes
A17: M21.7 | B17: Capitalised expenditure | C17: £m | D17: I | F17: 1168.461 | G17: 1192.488
A18: M21.8 | B18: Third party contributions | C18: £m | D18: I | F18: -5.609 | G18: -6.077
A19: M21.9 | B19: Infrastructure charges utilisation | C19: £m | D19: I | F19: -16.624 | G19: -25.689
A20: M21.10 | B20: Expenditure qualifying for pools | C20: £m | D20: C | F20: =SUM(F17:F19) -> 1146.228 | G20: =SUM(G17:G19) -> 1160.722
A21: M21.11 | B21: Assets qualifying for 100% first year allowances | C21: £m | D21: I | F21: 225.23104 | G21: 257.73482
A22: M21.12a | B22: Assets qualifying for general (40%) pool | C22: £m | D22: I | F22: 0 | G22: 0
A23: M21.12b | B23: Assets to be included in the general (18%/14%) pool | C23: £m | D23: I | F23: 19.36547 | G23: 43.675937
A24: M21.13 | B24: Assets qualifying for long life (50%) pool | C24: £m | D24: I | F24: 322.25232 | G24: 300.36151
A25: M21.14 | B25: Assets qualifying for long life (6%) pool | C25: £m | D25: I | F25: 41.655722 | G25: 51.929877
A26: M21.15 | B26: Assets qualifying for Structures and Buildings Allowance | C26: £m | D26: I | F26: 17.659 | G26: 0
A27: M21.16 | B27: Capitalised revenue expenditure - Investigations | C27: £m | D27: I | F27: 61.715793 | G27: 73.016389
A28: M21.17 | B28: Capitalised expenditure - Intangible assets | C28: £m | D28: I | F28: 9.032 | G28: 3.3712558
A29: M21.18 | B29: Other assets not qualifying for capital allowances or revenue deductions | C29: £m | D29: I | F29: 58.656653 | G29: 75.852205
A30: M21.19 | B30: Assets deferred for allowances | C30: £m | D30: I | F30: 19.199 | G30: 0.08
A31: M21.20 | B31: Assets purchased under finance leasing | C31: £m | D31: I | F31: 0 | G31: 0
A32: M21.21 | B32: Capitalised revenue expenditure deducted in year of spend | C32: £m | D32: I | F32: 371.46122 | G32: 354.7
B34: Capital allowances
A35: M21.22 | B35: 100% first year allowances | C35: £m | D35: BF | F35: =F21 -> 225.23104 | G35: =G21 -> 257.73482
A36: M21.23 | B36: Short life asset pool (18%) | C36: £m | D36: I | F36: 115.73877 | G36: 102.76746
A37: M21.24 | B37: Long life asset pool (50%) | C37: £m | D37: I | F37: 161.12616 | G37: 150.18076
A38: M21.25 | B38: Long life asset pool (6%) | C38: £m | D38: I | F38: 129.66248 | G38: 134.66609
A39: M21.26 | B39: Structures and Buildings Allowance | C39: £m | D39: I | F39: 1.462158 | G39: 1.6180085
A40: M21.27 | B40: Capitalised revenue expenditure - Allowed depreciation (investigations) | C40: £m | D40: I/BF | F40: 84.463 | G40: 61.715793
A41: M21.28 | B41: Intangible assets | C41: £m | D41: I | F41: 10.516734 | G41: 8.4040637
B43: Taxable profit
A44: M21.29 | B44: Profit before tax | C44: £m | D44: C | F44: 61.937 | G44: 172.3223
A45: M21.30 | B45: Depreciation | C45: £m | D45: I | F45: 383.14425 | G45: 399.73549
A46: M21.31 | B46: Amortisation | C46: £m | D46: I | F46: -1.91468 | G46: -1.8083862
A47: M21.32 | B47: Gain / (loss) on sale of assets | C47: £m | D47: I | F47: -1.635373 | G47: -1.6116853
...

Sheet M27a
A3: Scottish Water
A4: Table 27a: Consolidated profit and loss - including reconciliation from Regulatory to Statutory Accounts
F6: ='M1 (SRC21)'!G6 -> 2025-26
A7: Line ref. | B7: Description | C7: Units | D7: Field type | F7: Core (reg) | G7: IFRS pension adjustments | H7: IFRS PFI / lease adjustments | I7: Depreciation charges adjustment | J7: Core (stat) | K7: Licensed | L7: Intercompany eliminations | M7: Consolidated total core / licensed | N7: Non-core / non-licensed | O7: Intercompany eliminations | P7: Consolidated
A9: M27a.1 | B9: Total revenue | C9: £m | D9: I/C | F9: ='M4'!G9 -> 1737.792 | J9: =SUM(F9:I9) -> 1737.792 | K9: 838.719 | L9: -230.321 | M9: =SUM(J9:L9) -> 2346.19 | N9: 15.249 | O9: -1.17 | P9: =SUM(M9:O9) -> 2360.269
A10: M27a.2 | B10: Operating expenditure | C10: £m | D10: I/C | F10: ='M4'!G10 -> -547.322 | H10: 3.997 | J10: =SUM(F10:I10) -> -543.325 | K10: -816.72 | L10: 230.321 | M10: =SUM(J10:L10) -> -1129.724 | N10: -12.633 | O10: 1.081 | P10: =SUM(M10:O10) -> -1141.276
