Workbook

Sheet H1
A1: SCOTTISH WATER
A3: ANNUAL RETURN INFORMATION REQUIREMENTS 2025-26
A6: SECTION H : ASSET INVENTORY
A7: Table H1: Summary
K8: 2 | U8: 3
F9: 1 | K9: Value of Element (£m Gross MEAV) | U9: Value of Element (£m Net MEAV)
A10: Line Ref | B10: Description & [Asset Code] | C10: Field Type | F10: Gross MEAV £m | G10: Net MEAV £m | H10: Rdn MEAV £m | I10: CG | K10: Very short AP £m | L10: Short AP £m | M10: Med AP £m | N10: Med/ long AP £m | O10: Long AP£m | P10: Non Depr £M | Q10: Dcm £m | R10: Land £m | S10: CG | U10: Very short AP £m | V10: Short AP £m | W10: Med AP £m | X10: Med/ long AP£m | Y10: Long AP £m | Z10: Non Depr £m | AA10: Dcm £m | AB10: Land £m | AC10: CG
B12: Water Non-Infrastructure
A13: H1.1 | B13: Water treatment works [101] | C13: I/C | F13: =SUM('H2'!N13:N20) -> 4297.9197 | G13: =SUM('H2'!O13:O20) -> 1103.0413 | H13: =SUM('H2'!P13:P20) -> 0 | I13: C4 | K13: 238.704 | L13: 204.817 | M13: 1649.119 | N13: 0 | O13: 2134.511 | P13: 0 | Q13: 0 | R13: 70.767 | S13: C4 | U13: 0 | V13: 1.432 | W13: 154.99 | X13: 0 | Y13: 875.852 | Z13: 0 | AA13: 0 | AB13: 70.767 | AC13: C4
A14: H1.2 | B14: Water storage [102] | C14: I/C | F14: =SUM('H2'!N23:N24) -> 3031.1168 | G14: =SUM('H2'!O23:O24) -> 936.15114 | H14: =SUM('H2'!P23:P24) -> 0 | I14: B4 | K14: 186.978 | L14: 139.296 | M14: 117.046 | N14: 0 | O14: 2538.523 | P14: 0 | Q14: 0 | R14: 49.274 | S14: B4 | U14: 3.6004452 | V14: 18.370528 | W14: 3.5635443 | X14: 0 | Y14: 861.34283 | Z14: 0 | AA14: 0 | AB14: 49.273787 | AC14: B4
A15: H1.3 | B15: Water pumping stations [103] | C15: I/C | F15: =SUM('H2'!N27:N29) -> 451.38981 | G15: =SUM('H2'!O27:O29) -> 146.43816 | H15: =SUM('H2'!P27:P29) -> 0 | I15: B4 | K15: 21.84 | L15: 38.792 | M15: 162.535 | N15: 0 | O15: 220.63 | P15: 0 | Q15: 0 | R15: 7.592 | S15: B4 | U15: 2.0706438 | V15: 2.2691404 | W15: 31.218431 | X15: 0 | Y15: 10.328822 | Z15: 0 | AA15: 0 | AB15: 7.5917187 | AC15: B4
B17: Water Infrastructure
A18: H1.4 | B18: Water resources [104] | C18: I/C | F18: =SUM('H3'!N13:N15) -> 4672.87 | H18: =SUM('H3'!P13:P15) -> 0 | I18: C4 | K18: 0 | L18: 0 | M18: 0 | N18: 0 | O18: 0 | P18: 4672.87 | Q18: 0 | R18: 0 | S18: C4 | U18: 0 | V18: 0 | W18: 0 | X18: 0 | Y18: 0 | Z18: 4672.87 | AA18: 0 | AB18: 0 | AC18: C4
A19: H1.5 | B19: Water mains [105] | C19: I/C | F19: =SUM('H3'!N18:N22) -> 19977.282 | H19: =SUM('H3'!P18:P22) -> 0 | I19: B3 | K19: 0 | L19: 0 | M19: 0 | N19: 0 | O19: 0 | P19: 19977.282 | Q19: 0 | R19: 0 | S19: B3 | U19: 0 | V19: 0 | W19: 0 | X19: 0 | Y19: 0 | Z19: 19977.282 | AA19: 0 | AB19: 0 | AC19: B3
B21: Wastewater Infrastructure
A22: H1.6 | B22: Sewers [106] | C22: I/C | F22: =SUM('H4'!N13:N14) -> 83531.868 | H22: =SUM('H4'!P13:P14) -> 0 | I22: B4 | K22: 0 | L22: 0 | M22: 0 | N22: 0 | O22: 0 | P22: 83531.868 | Q22: 0 | R22: 0 | S22: B4 | U22: 0 | V22: 0 | W22: 0 | X22: 0 | Y22: 0 | Z22: 83531.868 | AA22: 0 | AB22: 0 | AC22: B4
A23: H1.7 | B23: Sewer structures [107] | C23: I/C | F23: =SUM('H4'!N17:N18) -> 1884.086 | H23: =SUM('H4'!P17:P18) -> 0 | I23: B4 | K23: 0 | L23: 0 | M23: 0 | N23: 0 | O23: 0 | P23: 1884.086 | Q23: 0 | R23: 0 | S23: B4 | U23: 0 | V23: 0 | W23: 0 | X23: 0 | Y23: 0 | Z23: 1884.086 | AA23: 0 | AB23: 0 | AC23: B4
A24: H1.8 | B24: Sea outfalls [108] | C24: I/C | F24: =SUM('H4'!N21:N22) -> 658.762 | H24: =SUM('H4'!P21:P22) -> 0 | I24: B4 | K24: 0 | L24: 0 | M24: 0 | N24: 0 | O24: 0 | P24: 658.762 | Q24: 0 | R24: 0 | S24: B4 | U24: 0 | V24: 0 | W24: 0 | X24: 0 | Y24: 0 | Z24: 658.762 | AA24: 0 | AB24: 0 | AC24: B4
A25: H1.9 | B25: Sustainable Urban Drainage Systems [109] | C25: I/C | F25: =SUM('H4'!N25:N29) -> 0 | H25: =SUM('H4'!P25:P29) -> 0 | I25: M | K25: 0 | L25: 0 | M25: 0 | N25: 0 | O25: 0 | P25: 0 | Q25: 0 | R25: 0 | S25: M | U25: 0 | V25: 0 | W25: 0 | X25: 0 | Y25: 0 | Z25: 0 | AA25: 0 | AB25: 0 | AC25: M
B27: Wastewater Non-Infrastructure
A28: H1.10 | B28: Sewage pumping stations [110] | C28: I/C | F28: =SUM('H5'!N13:N14) -> 1876.8556 | G28: =SUM('H5'!O13:O14) -> 614.75289 | H28: =SUM('H5'!P13:P14) -> 0 | I28: B4 | K28: 64.308001 | L28: 187.25901 | M28: 442.17288 | N28: 0 | O28: 1152.2233 | P28: 0 | Q28: 0 | R28: 30.892129 | S28: B4 | U28: 0.71225344 | V28: 13.649183 | W28: 73.915256 | X28: 0 | Y28: 495.58407 | Z28: 0 | AA28: 0 | AB28: 30.892129 | AC28: B4
A29: H1.11 | B29: Sewage treatment works [111] | C29: I/C | F29: =SUM('H5'!N17:N21) -> 6401.8514 | G29: =SUM('H5'!O17:O21) -> 1492.8244 | H29: =SUM('H5'!P17:P21) -> 0 | I29: B4 | K29: 111.40215 | L29: 270.48606 | M29: 1905.6518 | N29: 0 | O29: 4009.8131 | P29: 0 | Q29: 0 | R29: 104.49817 | S29: B4 | U29: 0.22122399 | V29: 2.1187843 | W29: 80.500335 | X29: 0 | Y29: 1305.4859 | Z29: 0 | AA29: 0 | AB29: 104.49817 | AC29: B4
A30: H1.12 | B30: Sludge treatment facilities by disposal type [112] | C30: I/C | F30: =SUM('H5'!N24:N29) -> 587.43075 | G30: =SUM('H5'!O24:O29) -> 76.385568 | H30: =SUM('H5'!P24:P29) -> 0 | I30: B4 | K30: 25.058538 | L30: 18.065081 | M30: 243.73615 | N30: 0 | O30: 290.80113 | P30: 0 | Q30: 0 | R30: 9.7698466 | S30: B4 | U30: 0 | V30: 0 | W30: 3.741923 | X30: 0 | Y30: 62.873798 | Z30: 0 | AA30: 0 | AB30: 9.7698466 | AC30: B4
B32: Support Services
A33: H1.13 | B33: Support services [113] | C33: I/C | F33: =SUM('H6'!M13:M19) -> 203.162 | G33: =SUM('H6'!N13:N19) -> 114.234 | H33: =SUM('H6'!O13:O19) -> 0 | I33: C4 | K33: 29.359 | L33: 85.587 | M33: 0 | N33: 0 | O33: 75.126 | P33: 0 | Q33: 0 | R33: 13.09 | S33: C4 | U33: 10.815 | V33: 36.165 | W33: 0 | X33: 0 | Y33: 54.163 | Z33: 0 | AA33: 0 | AB33: 13.09 | AC33: C4
A37: Prepared by: …………………………………………….. | C37: Date:
A39: Checked by: ……………………………………………..
A41: Authorised by: | C41: Date:15/06/2026

Sheet H2
A1: SCOTTISH WATER
A3: ANNUAL RETURN INFORMATION REQUIREMENTS 2025-26
A6: SECTION H : ASSET INVENTORY
A7: Table H2: Water Non-Infrastructure
D9: SUMMARY OF ASSET STOCK | N9: 1
A10: Line Ref | B10: Description & [Asset Code] | C10: Field Type | D10: Units | E10: Band 0 | F10: Band 1 | G10: Band 2 | H10: Band 3 | I10: Band 4 | J10: Band 5 | K10: Total | L10: CG | N10: Gross MEAV £m | O10: Net MEAV £m | P10: Rdn MEAV £m | Q10: CG
B12: Water Treatment Works
A13: H2.1 | B13: SW0 treatment works [201] | C13: I/C | D13: nr | E13: 0 | F13: 0 | G13: 0 | H13: 0 | I13: 0 | J13: 0 | K13: =SUM(E13:J13) -> 0 | L13: AX | N13: 0 | O13: 0 | P13: 0 | Q13: CX
A14: H2.2 | B14: SW1 treatment works [202] | C14: I/C | D14: nr | E14: 1 | F14: 0 | G14: 0 | H14: 0 | I14: 0 | J14: 0 | K14: =SUM(E14:J14) -> 1 | L14: A2 | N14: 5.7722664 | O14: 1.8463592 | P14: 0 | Q14: C4
A15: H2.3 | B15: SW2 treatment works [203] | C15: I/C | D15: nr | E15: 0 | F15: 3 | G15: 5 | H15: 4 | I15: 5 | J15: 5 | K15: =SUM(E15:J15) -> 22 | L15: A2 | N15: 962.25947 | O15: 248.34913 | P15: 0 | Q15: B4
A16: H2.4 | B16: SW3 treatment works [204] | C16: I/C | D16: nr | E16: 75 | F16: 14 | G16: 12 | H16: 21 | I16: 19 | J16: 11 | K16: =SUM(E16:J16) -> 152 | L16: A2 | N16: 3055.6448 | O16: 760.76818 | P16: 0 | Q16: C4
A17: H2.5 | B17: GW0 treatment works [205] | C17: I/C | D17: nr | E17: 6 | F17: 2 | G17: 2 | H17: 8 | I17: 0 | J17: 0 | K17: =SUM(E17:J17) -> 18 | L17: A2 | N17: 56.221281 | O17: 16.947537 | P17: 0 | Q17: B4
A18: H2.6 | B18: GW1 treatment works [206] | C18: I/C | D18: nr | E18: 4 | F18: 0 | G18: 0 | H18: 0 | I18: 0 | J18: 0 | K18: =SUM(E18:J18) -> 4 | L18: A2 | N18: 8.5541953 | O18: 1.0819757 | P18: 0 | Q18: B4
A19: H2.7 | B19: GW2 treatment works [207] | C19: I/C | D19: nr | E19: 2 | F19: 2 | G19: 0 | H19: 0 | I19: 0 | J19: 0 | K19: =SUM(E19:J19) -> 4 | L19: A2 | N19: 26.921522 | O19: 6.2749455 | P19: 0 | Q19: C4
A20: H2.8 | B20: GW3 treatment works [208] | C20: I/C | D20: nr | E20: 9 | F20: 1 | G20: 4 | H20: 3 | I20: 2 | J20: 0 | K20: =SUM(E20:J20) -> 19 | L20: A2 | N20: 182.54615 | O20: 67.773149 | P20: 0 | Q20: C4
B22: Water Storage
A23: H2.9 | B23: Service reservoirs [209] | C23: I/C | D23: nr | E23: 672 | F23: 143 | G23: 285 | H23: 66 | I23: 55 | J23: 34 | K23: =SUM(E23:J23) -> 1255 | L23: A2 | N23: 2993.902 | O23: 926.78485 | P23: 0 | Q23: B4
A24: H2.10 | B24: Water towers [210] | C24: I/C | D24: nr | E24: 4 | F24: 1 | G24: 1 | H24: 4 | I24: 5 | J24: 0 | K24: =SUM(E24:J24) -> 15 | L24: A2 | N24: 37.214809 | O24: 9.3662932 | P24: 0 | Q24: B4
B26: Water Pumping Stations
A27: H2.11 | B27: Intake (installed pump capacity incl. standby) [211] | C27: I/C | D27: nr | E27: 15 | F27: 16 | G27: 28 | H27: 23 | I27: 4 | J27: 4 | K27: =SUM(E27:J27) -> 90 | L27: A3 | N27: 119.17354 | O27: 38.446643 | P27: 0 | Q27: B4
A28: H2.12 | B28: Source (installed pump capacity incl. standby) [212] | C28: I/C | D28: nr | E28: 31 | F28: 17 | G28: 8 | H28: 10 | I28: 2 | J28: 0 | K28: =SUM(E28:J28) -> 68 | L28: A3 | N28: 34.733024 | O28: 10.771428 | P28: 0 | Q28: B4
A29: H2.13 | B29: Booster (installed pump capacity incl. standby) [213] | C29: I/C | D29: nr | E29: 103 | F29: 165 | G29: 191 | H29: 105 | I29: 36 | J29: 17 | K29: =SUM(E29:J29) -> 617 | L29: A3 | N29: 297.48324 | O29: 97.220086 | P29: 0 | Q29: B4
A33: Prepared by: …………………………………………….. | C33: Date:
A35: Checked by: ……………………………………………..
A37: Authorised by | C37: Date:15/06/2026

Sheet H3
A1: SCOTTISH WATER
A3: ANNUAL RETURN INFORMATION REQUIREMENTS 2025-26
A6: SECTION H : ASSET INVENTORY
A7: Table H3: Water Infrastructure
D9: SUMMARY OF ASSET STOCK | N9: 1
A10: Line Ref | B10: Description & [Asset Code] | C10: Field Type | D10: Units | E10: Band 0 | F10: Band 1 | G10: Band 2 | H10: Band 3 | I10: Band 4 | J10: Band 5 | K10: Total | L10: CG | N10: Gross MEAV £m | O10: Net MEAV £m | P10: Rdn MEAV £m | Q10: CG
B12: Water Resources
A13: H3.1 | B13: Dams and impounding reservoirs [301] | C13: I/C | D13: nr | E13: 148 | F13: 15 | G13: 17 | H13: 6 | I13: 9 | J13: 0 | K13: =SUM(E13:J13) -> 195 | L13: C4 | N13: 1866.557 | O13: 0 | P13: 0 | Q13: C4
A14: H3.2 | B14: Raw water intake (lochs and burns) [302] | C14: I/C | D14: nr | E14: 250 | F14: 3 | G14: 5 | H14: 5 | I14: 1 | J14: 0 | K14: =SUM(E14:J14) -> 264 | L14: C5 | N14: 30.18 | O14: 0 | P14: 0 | Q14: C5
A15: H3.3 | B15: Raw water aqueducts [303] | C15: I/C | D15: km | E15: 341.95 | F15: 364.287 | G15: 490.598 | H15: 186.906 | I15: 287.796 | J15: 0 | K15: =SUM(E15:J15) -> 1671.537 | L15: B2 | N15: 2776.133 | O15: 0 | P15: 0 | Q15: B2
B17: Water Mains
A18: H3.4 | B18: Mains potable (nominal bore) [304] | C18: I/C | D18: km | E18: 5394.038 | F18: 31035.336 | G18: 9001.218 | H18: 3150.612 | I18: 905.934 | J18: 0 | K18: =SUM(E18:J18) -> 49487.138 | L18: A2 | N18: 16702.227 | O18: 0 | P18: 0 | Q18: B3
A19: H3.5 | B19: Mains other (nominal bore) [305] | C19: I/C | D19: km | E19: 11.882 | F19: 107.236 | G19: 25.218 | H19: 2.494 | I19: 0.525 | J19: 0 | K19: =SUM(E19:J19) -> 147.355 | L19: A3 | N19: 77.881 | O19: 0 | P19: 0 | Q19: B3
A20: H3.6 | B20: Communication pipes (lead) [306] | C20: I/C | D20: nr | E20: 45696 | F20: 0 | G20: 0 | H20: 0 | I20: 0 | J20: 0 | K20: =SUM(E20:J20) -> 45696 | L20: B4 | N20: 74.002 | O20: 0 | P20: 0 | Q20: B4
A21: H3.7 | B21: Communication pipes (other) [307] | C21: I/C | D21: nr | E21: 13438 | F21: 1817211 | G21: 0 | H21: 0 | I21: 0 | J21: 0 | K21: =SUM(E21:J21) -> 1830649 | L21: B4 | N21: 2964.638 | O21: 0 | P21: 0 | Q21: B4
A22: H3.8 | B22: Water meters [308] | C22: I/C | D22: nr | E22: 137720 | F22: 320 | G22: 0 | H22: 0 | I22: 0 | J22: 0 | K22: =SUM(E22:J22) -> 138040 | L22: A3 | N22: 158.534 | O22: 0 | P22: 0 | Q22: B3
A26: Prepared by: …………………………………………….. | C26: Date:
A28: Checked by: ……………………………………………..
A30: Authorised by: | C30: Date:15/06/2026

Sheet H4
A1: SCOTTISH WATER
A3: ANNUAL RETURN INFORMATION REQUIREMENTS 2025-26
A6: SECTION H : ASSET INVENTORY
A7: Table H4: Wastewater Infrastructure
D9: SUMMARY OF ASSET STOCK | N9: 1
A10: Line Ref | B10: Description & [Asset Code] | C10: Field Type | D10: Units | E10: Band 0 | F10: Band 1 | G10: Band 2 | H10: Band 3 | I10: Band 4 | J10: Band 5 | K10: Total | L10: CG | N10: Gross MEAV £m | O10: Net MEAV £m | P10: Rdn MEAV £m | Q10: CG
B12: Sewers
A13: H4.1 | B13: Sewers [401] | C13: I/C | D13: km | F13: 34427.861 | G13: 14960.114 | H13: 4371.122 | I13: 1143.867 | J13: 932.827 | K13: =SUM(E13:J13) -> 55835.791 | L13: B2 | N13: 82747.556 | O13: 0 | P13: 0 | Q13: B4
A14: H4.2 | B14: Sewage and sludge pumping mains [403] | C14: I/C | D14: km | F14: 718.008 | G14: 478.543 | H14: 199.534 | I14: 80.086 | J14: 16.127 | K14: =SUM(E14:J14) -> 1492.298 | L14: A4 | N14: 784.312 | O14: 0 | P14: 0 | Q14: B3
B16: Sewer Structures
A17: H4.3 | B17: Combined sewer and emergency overflows [404] | C17: I/C | D17: nr | F17: 1754 | G17: 2244 | H17: 239 | I17: 0 | J17: 0 | K17: =SUM(E17:J17) -> 4237 | L17: A3 | N17: 1212.767 | O17: 0 | P17: 0 | Q17: B4
A18: H4.4 | B18: Other sewer structures [405] | C18: I/C | D18: nr | F18: 31 | G18: 610 | H18: 6 | I18: 0 | J18: 0 | K18: =SUM(E18:J18) -> 647 | L18: B3 | N18: 671.319 | O18: 0 | P18: 0 | Q18: B4
B20: Sea Outfalls
A21: H4.5 | B21: Short sea outfalls [406] | C21: I/C | D21: nr | F21: 1022 | G21: 131 | H21: 35 | I21: 0 | J21: 0 | K21: =SUM(E21:J21) -> 1188 | L21: B2 | N21: 429.346 | O21: 0 | P21: 0 | Q21: B4
A22: H4.6 | B22: Long sea outfalls [407] | C22: I/C | D22: nr | F22: 31 | G22: 16 | H22: 8 | I22: 0 | J22: 0 | K22: =SUM(E22:J22) -> 55 | L22: B2 | N22: 229.416 | O22: 0 | P22: 0 | Q22: B4
B24: Sustainable Drainage Systems (SUDS)
A25: H4.7 | B25: SUDS ponds [408] | C25: I/C | D25: nr | E25: 1 | F25: 2 | G25: 73 | H25: 13 | I25: 1 | J25: 3 | K25: =SUM(E25:J25) -> 93 | L25: A3 | N25: 0 | O25: 0 | P25: 0 | Q25: M
A26: H4.8 | B26: SUDS basins [409] | C26: I/C | D26: nr | E26: 9 | F26: 67 | G26: 338 | H26: 29 | I26: 1 | J26: 0 | K26: =SUM(E26:J26) -> 444 | L26: A3 | N26: 0 | O26: 0 | P26: 0 | Q26: M
A27: H4.9 | B27: Filter trenches [410] | C27: I/C | D27: nr | E27: 25 | F27: 17 | G27: 128 | H27: 3 | I27: 0 | J27: 0 | K27: =SUM(E27:J27) -> 173 | L27: A3 | N27: 0 | O27: 0 | P27: 0 | Q27: M
A28: H4.10 | B28: Swales [411] | C28: I/C | D28: nr | E28: 3 | F28: 0 | G28: 24 | H28: 1 | I28: 0 | J28: 0 | K28: =SUM(E28:J28) -> 28 | L28: A3 | N28: 0 | O28: 0 | P28: 0 | Q28: M
A29: H4.11 | B29: Other (e.g. wetland) [412] | C29: I/C | D29: nr | E29: 0 | F29: 1 | G29: 2 | H29: 0 | I29: 0 | J29: 0 | K29: =SUM(E29:J29) -> 3 | L29: A3 | N29: 0 | O29: 0 | P29: 0 | Q29: M
A33: Prepared by: …………………………………………….. | C33: Date:
A35: Checked by: ……………………………………………..
A37: Authorised by: | C37: Date:15/06/2026

Sheet H5
A1: SCOTTISH WATER
A3: ANNUAL RETURN INFORMATION REQUIREMENTS 2025-26
A6: SECTION H : ASSET INVENTORY
A7: Table H5: Wastewater Non-Infrastructure
D9: Summary of Asset Stock | N9: 1
A10: Line Ref | B10: Description & [Asset Code] | C10: Field Type | D10: Units | E10: Band 0 | F10: Band 1 | G10: Band 2 | H10: Band 3 | I10: Band 4 | J10: Band 5 | K10: Total | L10: CG | N10: Gross MEAV £m | O10: Net MEAV £m | P10: Rdn MEAV £m | Q10: CG
B12: Sewage Pumping Stations
A13: H5.1 | B13: Sewage pumping stations (in-line) [501] | C13: I/C | D13: nr | E13: 0 | F13: 583 | G13: 871 | H13: 376 | I13: 103 | J13: 29 | K13: =SUM(E13:J13) -> 1962 | L13: A3 | N13: 1485.0562 | O13: 482.76649 | P13: 0 | Q13: B4
A14: H5.2 | B14: Sewage pumping stations (terminal) [502] | C14: I/C | D14: nr | E14: 0 | F14: 105 | G14: 168 | H14: 96 | I14: 32 | J14: 13 | K14: =SUM(E14:J14) -> 414 | L14: A3 | N14: 391.79936 | O14: 131.9864 | P14: 0 | Q14: B4
B16: Sewage Treatment Works
A17: H5.3 | B17: Cess & septic tanks [503] | C17: I/C | D17: nr | E17: 868 | F17: 172 | G17: 138 | H17: 0 | I17: 0 | J17: 0 | K17: =SUM(E17:J17) -> 1178 | L17: A2 | N17: 209.98656 | O17: 96.428112 | P17: 0 | Q17: C4
A18: H5.4 | B18: Preliminary treatment only [504] | C18: I/C | D18: nr | E18: 3 | F18: 0 | G18: 0 | H18: 3 | I18: 9 | J18: 2 | K18: =SUM(E18:J18) -> 17 | L18: A2 | N18: 78.522692 | O18: 22.902724 | P18: 0 | Q18: B4
A19: H5.5 | B19: Primary treatment only [505] | C19: I/C | D19: nr | E19: 7 | F19: 6 | G19: 5 | H19: 12 | I19: 7 | J19: 1 | K19: =SUM(E19:J19) -> 38 | L19: A2 | N19: 95.782991 | O19: 32.67288 | P19: 0 | Q19: B4
A20: H5.6 | B20: Secondary treatment only [506] | C20: I/C | D20: nr | E20: 89 | F20: 72 | G20: 62 | H20: 112 | I20: 91 | J20: 55 | K20: =SUM(E20:J20) -> 481 | L20: A2 | N20: 4574.1906 | O20: 1026.748 | P20: 0 | Q20: B4
A21: H5.7 | B21: Tertiary treatment only [507] | C21: I/C | D21: nr | E21: 13 | F21: 16 | G21: 16 | H21: 38 | I21: 28 | J21: 15 | K21: =SUM(E21:J21) -> 126 | L21: A2 | N21: 1443.3686 | O21: 314.07268 | P21: 0 | Q21: B4
B23: Sludge Treatment Facilities by Disposal Type
A24: H5.8 | B24: Sludge treatment - liquid disposal [508] | C24: I/C | D24: nr | E24: 0 | F24: 0 | G24: 1 | H24: 1 | I24: 0 | J24: 0 | K24: =SUM(E24:J24) -> 2 | L24: A2 | N24: 5.8425387 | O24: 0.40675207 | P24: 0 | Q24: B4
A25: H5.9 | B25: Sludge treatment - cake disposal [509] | C25: I/C | D25: nr | E25: 0 | F25: 0 | G25: 6 | H25: 12 | I25: 1 | J25: 2 | K25: =SUM(E25:J25) -> 21 | L25: A2 | N25: 581.58821 | O25: 75.978816 | P25: 0 | Q25: B4
A26: H5.10 | B26: Sludge treatment - compost disposal [510] | C26: I/C | D26: nr | E26: 0 | F26: 0 | G26: 0 | H26: 0 | I26: 0 | J26: 0 | K26: =SUM(E26:J26) -> 0 | L26: AX | N26: 0 | O26: 0 | P26: 0 | Q26: BX
A27: H5.11 | B27: Sludge treatment - dried pellet disposal [511] | C27: I/C | D27: nr | E27: 0 | F27: 0 | G27: 0 | H27: 0 | I27: 0 | J27: 0 | K27: =SUM(E27:J27) -> 0 | L27: AX | N27: 0 | O27: 0 | P27: 0 | Q27: BX
A28: H5.12 | B28: Sludge treatment - ash disposal [512] | C28: I/C | D28: nr | E28: 0 | F28: 0 | G28: 0 | H28: 0 | I28: 0 | J28: 0 | K28: =SUM(E28:J28) -> 0 | L28: AX | N28: 0 | O28: 0 | P28: 0 | Q28: BX
A29: H5.13 | B29: Sludge treatment - other disposal [513] | C29: I/C | D29: nr | E29: 0 | F29: 0 | G29: 0 | H29: 0 | I29: 0 | J29: 0 | K29: =SUM(E29:J29) -> 0 | L29: AX | N29: 0 | O29: 0 | P29: 0 | Q29: BX
A33: Prepared by: …………………………………………….. | C33: Date:
A35: Checked by: ……………………………………………..
A37: Authorised by: | C37: Date:15/06/2026

Sheet H6
A1: SCOTTISH WATER
A3: ANNUAL RETURN INFORMATION REQUIREMENTS 2025-26
A6: SECTION H : ASSET INVENTORY
A7: Table H6: Support Services
E9: Summary of Asset Stock | M9: 1
A10: Line Ref | C10: Field Type | D10: Units | E10: Band 0 | F10: Band 1 | G10: Band 2 | H10: Band 3 | I10: Band 4 | J10: Band 5 | K10: CG | M10: Gross MEAV £m | N10: Net MEAV £m | O10: Rdn MEAV £m | P10: CG
B12: Support Services
A13: H6.1 | B13: Offices & laboratories [601] | C13: I | D13: m2 & nr | F13: 28656 | G13: 12 | H13: 5190 | I13: 2 | J13: 0 | K13: B2 | M13: 59.381 | N13: 46.884 | O13: 0 | P13: C4
A14: H6.2 | B14: Depots & workshops [602] | C14: I | D14: m2 & nr | F14: 19218 | G14: 63 | H14: 0 | I14: 0 | J14: 0 | K14: B3 | M14: 13.064 | N14: 6.26 | O14: 0 | P14: C4
A15: H6.3 | B15: Control centres [603] | C15: I | D15: m2 & nr | F15: 0 | G15: 0 | H15: 0 | I15: 0 | J15: 0 | K15: AX | M15: 0 | N15: 0 | O15: 0 | P15: AX
A16: H6.4 | B16: Vehicles & plant [604] | C16: I | D16: £m | F16: 16.683 | G16: 62.123 | H16: 0 | I16: 0 | J16: 0 | K16: B3 | M16: 78.806 | N16: 35.717 | O16: 0 | P16: B3
A17: H6.5 | B17: Telemetry systems [605] | C17: I | D17: % & nr | F17: 56.8 | G17: 5112 | H17: 0 | I17: 0 | J17: 0 | K17: A2 | M17: 23.464 | N17: 4.652 | O17: 0 | P17: B3
A18: H6.6 | B18: Information systems [606] | C18: I | D18: nr | F18: 6007 | G18: 25 | H18: 1086 | I18: 0 | J18: 0 | K18: A2 | M18: 12.676 | N18: 6.612 | O18: 0 | P18: B2
A19: H6.7 | B19: Other non-operational assets [607] | C19: I | D19: nr | F19: 36 | G19: 0 | H19: 0 | I19: 0 | J19: 0 | K19: B3 | M19: 15.771 | N19: 14.109 | O19: 0 | P19: C4
A23: Prepared by: …………………………………………….. | C23: Date:
A25: Checked by: ……………………………………………..
A27: Authorised by: | C27: Date:15/06/2026
