Workbook

Sheet C0
A1: SCOTTISH WATER
A3: ANNUAL RETURN INFORMATION REQUIREMENTS 2025-26
A6: SECTION C : Carbon emissions and net zero
A7: Table C0: Summary
A9: Line | B9: Description | C9: Units | D9: Field | F9: Report year -1 | I9: Report year
A10: ref. | D10: type | F10: 2024-25 | I10: 2025-26
F11: Point estimate | G11: CG | I11: Point estimate | J11: CG
B13: Net operational emissions
A14: C0.1 | B14: Net operational emissions in previous year (opening) | C14: tCO2e | D14: C | F14: ='C1'!J65+'C1'!J71 -> 224980 | G14: C4 | I14: ='C1'!P65+'C1'!P71 -> 223216.3 | J14: C4
A15: C0.2 | B15: Change in scope 1 to 3 emissions in the report year | C15: tCO2e | D15: C | F15: =SUM('C1'!J66:J68) -> -1714.7 | G15: C4 | I15: =SUM('C1'!P66:P68) -> -16826.521 | J15: C4
A16: C0.3 | B16: Change in renewable electricity generated and exported in the year | C16: tCO2e | D16: BF | F16: ='C1'!J73 -> -49 | G16: A2 | I16: ='C1'!P73 -> 856 | J16: A2
A17: C0.4 | B17: Net operational emissions in report year (closing) | C17: tCO2e | D17: BF | F17: ='C1'!J52 -> 223213.81 | G17: C4 | I17: ='C1'!P52 -> 207243.29 | J17: C4
A19: C0.5 | B19: Total CO2e emissions from landholdings in previous year | C19: tCO2e | D19: BF | F19: ='C4'!F46 -> -5844 | G19: C5 | I19: ='C4'!I46 -> -350 | J19: C5
A20: C0.6 | B20: Change in CO2e emissions in year | C20: tCO2e | D20: C | F20: =F21-F19 -> 5494 | G20: C5 | I20: =I21-I19 -> 0 | J20: C5
A21: C0.7 | B21: Total CO2e emissions from landholdings in year | C21: tCO2e | D21: BF | F21: ='C4'!F24 -> -350 | G21: C5 | I21: ='C4'!I24 -> -350 | J21: C5
A23: C0.8 | B23: Net operational emissions net of insetting and offsetting (opening) | C23: tCO2e | D23: C | F23: =F14+F19 -> 219136 | G23: C5 | I23: =I14+I19 -> 222866.3 | J23: C5
A24: C0.9 | B24: Net operational emissions net of insetting and offsetting (closing) | C24: tCO2e | D24: C | F24: =F17+F21 -> 222863.81 | G24: C5 | I24: =I17+I21 -> 206893.29 | J24: C5
B26: Investment emissions
A27: C0.10 | B27: Carbon emissions from the capital investment programme | C27: tCO2e | D27: BF | F27: 105395 | G27: B4 | I27: ='C2'!Q16 -> 111139.88 | J27: B4
B29: Net Zero Emissions
A30: C0.11 | B30: Net Zero Emissions | C30: tCO2e | D30: C | F30: =F24+F27 -> 328258.81 | G30: B4 | I30: =I24+I27 -> 318033.17 | J30: B4
A35: Prepared by: …………………………………………….. | D35: Date: ……………………
A37: Authorised by: | D37: Date: 15/06/2026

Sheet C1
A1: SCOTTISH WATER
A3: ANNUAL RETURN INFORMATION REQUIREMENTS 2025-26
A6: SECTION C : CARBON EMISSIONS AND NET ZERO
A7: Table C1: Operational emissions
A9: Line | B9: Description | C9: Units | D9: Field | F9: Report year -1 | L9: Report year
A10: ref. | D10: type | F10: =C0!F10 -> 2024-25 | L10: =C0!I10 -> 2025-26
F11: Water | G11: CG | H11: Wastewater | I11: CG | J11: Water and waste water | K11: CG | L11: Water | M11: CG | N11: Wastewater | O11: CG | P11: Water and waste water | Q11: CG
B14: Scope 1 emissions
A15: C1.1 | B15: Direct emissions from burning fossil fuels (including CHP generated on site) | C15: tCO2e | D15: I | J15: 4936.52 | K15: B3 | P15: 2786.4538 | Q15: B3
A16: C1.2 | B16: Process and fugitive emissions | C16: tCO2e | D16: I | J16: 25566.396 | K16: C5 | P16: 24342.533 | Q16: C5
A17: C1.3 | B17: Transport: company owned and leased vehicles | C17: tCO2e | D17: I | J17: 11260.96 | K17: B3 | P17: 11011.301 | Q17: B3
A18: C1.4 | B18: Total scope 1 emissions | C18: tCO2e | D18: C | J18: =SUM(J15:J17) -> 41763.876 | K18: C4 | P18: =SUM(P15:P17) -> 38140.288 | Q18: C4
A19: C1.5 | B19: Scope 1 emissions - CO2 | C19: tCO2e | D19: I | J19: 15992 | K19: C4 | P19: 13590.664 | Q19: C4
A20: C1.6 | B20: Scope 1 emissions - CH4 | C20: tCO2e | D20: I | J20: 5962 | K20: C4 | P20: 5228.7198 | Q20: C4
A21: C1.7 | B21: Scope 1 emissions - N2O | C21: tCO2e | D21: I | J21: 19802.284 | K21: C4 | P21: 19281.298 | Q21: C4
A22: C1.8 | B22: Scope 1 emissions - other GHGs | C22: tCO2e | D22: I | J22: 3 | K22: C4 | P22: 4.82965 | Q22: C4
B24: Scope 2 emissions
A25: C1.9 | B25: Purchased electricity | C25: tCO2e | D25: I | J25: 91838.73 | K25: A2 | P25: 81117 | Q25: A2
A26: C1.10 | B26: Electric vehicles | C26: tCO2e | D26: I | J26: 60.56 | K26: B3 | P26: 74 | Q26: B3
A27: C1.11 | B27: Removal of electricity to charge electric vehicles at site | C27: tCO2e | D27: I | J27: 143.01 | K27: A2 | P27: 233 | Q27: A2
A28: C1.12 | B28: Total scope 2 emissions | C28: tCO2e | D28: C | J28: =SUM(J25:J27) -> 92042.3 | K28: A2 | P28: =SUM(P25:P27) -> 81424 | Q28: A2
A29: C1.13 | B29: Scope 2 emissions - CO2 | C29: tCO2e | D29: I | J29: 89464 | K29: A2 | P29: 78947 | Q29: A2
A30: C1.14 | B30: Scope 2 emissions - CH4 | C30: tCO2e | D30: I | J30: 2046 | K30: A2 | P30: 1931 | Q30: A2
A31: C1.15 | B31: Scope 2 emissions - N2O | C31: tCO2e | D31: I | J31: 533 | K31: A2 | P31: 551 | Q31: A2
A32: C1.16 | B32: Scope 2 emissions - other GHGs | C32: tCO2e | D32: I | J32: 0 | K32: AX | P32: 0 | Q32: AX
B34: Scope 3 emissions
A35: C1.17 | B35: Business travel on public transport and private vehicles used for company business | C35: tCO2e | D35: I | J35: 768.8 | K35: B3 | P35: 743 | Q35: B3
A36: C1.18 | B36: Outsourced activities - PFI within the Scottish Water Group (e.g. SW Grampian) | C36: tCO2e | D36: I | J36: 0 | K36: AX | P36: 0 | Q36: AX
A37: C1.18a | B37: Outsourced activities - PFI outside of the Scottish Water Group | C37: tCO2e | D37: I | J37: 80637.783 | K37: C4 | P37: 77773 | Q37: C4
A38: C1.19 | B38: Outsourced activities - other | C38: tCO2e | D38: I | J38: 3258.89 | K38: B3 | P38: 3327 | Q38: B3
A39: C1.20 | B39: Purchased electricity - transmission and distribution | C39: tCO2e | D39: I | J39: 7971.04 | K39: A2 | P39: 8357 | Q39: A2
A40: C1.21 | B40: Disposal of water and wastewater treatment waste to landfill | C40: tCO2e | D40: I | J40: 1192.12 | K40: C4 | P40: 1044 | Q40: C4
A41: C1.22 | B41: Total scope 3 emissions | C41: tCO2e | D41: C | J41: =SUM(J35:J40) -> 93828.633 | K41: C4 | P41: =SUM(P35:P40) -> 91244 | Q41: C4
A42: C1.23 | B42: Scope 3 emissions - CO2 | C42: tCO2e | D42: I | J42: 62673 | K42: C4 | P42: 58807 | Q42: C4
A43: C1.24 | B43: Scope 3 emissions - CH4 | C43: tCO2e | D43: I | J43: 12051 | K43: C4 | P43: 11865 | Q43: C4
A44: C1.25 | B44: Scope 3 emissions - N2O | C44: tCO2e | D44: I | J44: 19094.736 | K44: C4 | P44: 20554 | Q44: C4
A45: C1.26 | B45: Scope 3 emissions - other GHGs | C45: tCO2e | D45: I | J45: 0 | K45: AX | P45: 0 | Q45: AX
B47: Gross operational emissions
A48: C1.27 | B48: Gross operational emissions (scope 1, 2 and 3) | C48: tCO2e | D48: C | J48: =SUM(J41,J28,J18) -> 227634.81 | K48: C4 | P48: =SUM(P41,P28,P18) -> 210808.29 | Q48: C4
B50: Net operational emissions
...

Sheet C2
A1: SCOTTISH WATER
A3: ANNUAL RETURN INFORMATION REQUIREMENTS 2025-26
A6: SECTION C : CARBON EMISSIONS AND NET ZERO
A7: Table C2: Investment emissions
A9: Line | B9: Description | C9: Units | D9: Field | F9: Report year -1 | M9: Report year
A10: ref. | D10: type | F10: =C0!F10 -> 2024-25 | M10: 2025-26
F11: Water | G11: CG | H11: Wastewater | I11: CG | J11: Water and wastewater | K11: CG | M11: Water | N11: CG | O11: Wastewater | P11: CG | Q11: Water and wastewater | R11: CG
B13: Emissions associated with the capital investment programme
A14: C2.1 | B14: Carbon intensity of investment | C14: tCO2e/£m | D14: I | F14: 88.6 | G14: B4 | H14: 92.6 | I14: B4 | J14: 90.2 | K14: B4 | M14: 83.2 | N14: B4 | O14: 106.4 | P14: B4 | Q14: 93.2 | R14: B4
A15: C2.2 | B15: Capital expenditure (figure brought forwards from capital tables) | C15: £m | D15: I | F15: 637.6918 | G15: A1 | H15: 530.7682 | I15: A1 | J15: =F15+H15 -> 1168.46 | K15: A1 | M15: 644.874 | N15: A1 | O15: 547.614 | P15: A1 | Q15: =M15+O15 -> 1192.488 | R15: A1
A16: C2.3 | B16: Carbon emissions from the capital investment programme | C16: tCO2e | D16: C | F16: =F14*F$15 -> 56499.494 | G16: B4 | H16: =H14*H$15 -> 49149.135 | I16: B4 | J16: =J14*J$15 -> 105395.09 | K16: B4 | M16: =M14*M$15 -> 53653.517 | N16: B4 | O16: =O14*O$15 -> 58266.13 | P16: B4 | Q16: =Q14*Q$15 -> 111139.88 | R16: B4
A17: C2.4 | B17: Water infrastructure | C17: tCO2e/£m | D17: I | F17: 117.5 | G17: B4 | M17: 93.3 | N17: B4
A18: C2.5 | B18: Water non-infrastructure | C18: tCO2e/£m | D18: I | F18: 76 | G18: B4 | M18: 80.2 | N18: B4
A19: C2.6 | B19: Waste water infrastructure | C19: tCO2e/£m | D19: I | H19: 75.2 | I19: B4 | O19: 97.3 | P19: B4
A20: C2.7 | B20: Waste water non-infrastructure | C20: tCO2e/£m | D20: I | H20: 101.7 | I20: B4 | O20: 112.9 | P20: B4
A25: Prepared by: …………………………………………….. | D25: Date: ……………………
A27: Authorised by: | D27: Date: 15/06/2026

Sheet C3
A1: SCOTTISH WATER
A3: ANNUAL RETURN INFORMATION REQUIREMENTS 2025-26
A6: SECTION C : CARBON EMISSIONS AND NET ZERO
A7: Table C3: Energy
A9: Line | B9: Description | C9: Units | D9: Field | F9: Report year -1 | S9: Report year
A10: ref. | D10: type | F10: 2024-25 | S10: 2025-26
F11: SW regulated | G11: CG | H11: PFIs (excluding those in SW Group) | I11: CG | J11: Regulated carbon footprint total | K11: CG | L11: SW Horizons | M11: CG | N11: Hosted renewables | O11: CG | P11: Grand total | Q11: CG | S11: SW regulated | T11: CG | U11: PFIs (excluding those in SW Group) | V11: CG | W11: Regulated carbon footprint total | X11: CG | Y11: SW Horizons | Z11: CG | AA11: Hosted renewables | AB11: CG | AC11: Grand total | AD11: CG
B13: Electricity consumption, generation and exports
A14: C3.1a | B14: Total electricity consumption (total - on site renewables, grid, private wire, other) | C14: GWh | D14: C | F14: =SUM(F15,F16,F18) -> 481.406 | G14: A2 | H14: =SUM(H15,H16,H18) -> 125.17615 | I14: B2 | J14: =SUM(F14,H14) -> 606.58215 | K14: B2 | L14: =SUM(L15,L16,L18) -> 1.29 | M14: A2 | S14: =SUM(S15,S16,S18) -> 499.939 | T14: A2 | U14: =SUM(U15,U16,U18) -> 127.07 | V14: B2 | W14: =SUM(S14,U14) -> 627.009 | X14: B2 | Y14: =SUM(Y15,Y16,Y18) -> 0.112 | Z14: A2
A15: C3.1b | B15: Grid electricity consumption | C15: GWh | D15: I | F15: 436.267 | G15: A2 | H15: 100.85 | I15: B2 | J15: =SUM(F15,H15) -> 537.117 | K15: B2 | L15: 0.263 | M15: A2 | S15: 450.99 | T15: A2 | U15: 103.217 | V15: B2 | W15: =SUM(S15,U15) -> 554.207 | X15: B2 | Y15: 0.111 | Z15: A2
A16: C3.1c | B16: Electricity consumption from other sources (e.g. private wire, other) | C16: GWh | D16: I | F16: 10.741 | G16: A2 | H16: 0.01615 | I16: AX | J16: =SUM(F16,H16) -> 10.75715 | K16: A2 | L16: 0 | M16: AX | S16: 9.968 | T16: A2 | U16: 0.02 | V16: AX | W16: =SUM(S16,U16) -> 9.988 | X16: A2 | Y16: 0 | Z16: AX
A17: C3.2a | B17: On site renewable electricity generated | C17: GWh | D17: I | F17: 45.425 | G17: A2 | H17: 25.58 | I17: B2 | J17: =SUM(F17,H17) -> 71.005 | K17: B2 | L17: 19.701 | M17: A2 | S17: 47.25 | T17: A2 | U17: 25.825 | V17: B2 | W17: =SUM(S17,U17) -> 73.075 | X17: B2 | Y17: 17.689 | Z17: A2
A18: C3.2b | B18: On site renewable electricity used | C18: GWh | D18: I | F18: 34.398 | G18: A2 | H18: 24.31 | I18: B2 | J18: =SUM(F18,H18) -> 58.708 | K18: B2 | L18: 1.027 | M18: A2 | S18: 38.981 | T18: A2 | U18: 23.833 | V18: B2 | W18: =SUM(S18,U18) -> 62.814 | X18: B2 | Y18: 0.001 | Z18: A2
A19: C3.2c | B19: On site renewable electricity generated and exported | C19: GWh | D19: I | F19: 21.773 | G19: A2 | H19: 1.27 | I19: B2 | L19: 6.576 | M19: A2 | S19: 20.36 | T19: A2 | U19: 1.993 | V19: B2 | Y19: 5.233 | Z19: A2
A20: C3.3 | B20: Renewable electricity capacity at end of year | C20: GWh | D20: I | F20: 67.829 | G20: B3 | H20: 23 | I20: B3 | L20: 28.811 | M20: B3 | N20: 832.624 | O20: B3 | P20: =SUM(F20,H20,L20,N20) -> 952.264 | Q20: B3 | S20: 67.093 | T20: B3 | U20: 23 | V20: B3 | Y20: 22.171 | Z20: B3 | AA20: 832.624 | AB20: B3 | AC20: =SUM(S20,U20,Y20,AA20) -> 944.888 | AD20: B3
A21: C3.4 | B21: % of 2030 renewable target reached (1320GWh generated and hosted) | C21: % | D21: C | P21: =P20/1320 -> 0.72141212 | Q21: B3 | AC21: =AC20/1320 -> 0.71582424 | AD21: B3
B23: Renewable technologies
A24: C3.5 | B24: On site renewable hydro generation | C24: GWh | D24: I | F24: 28.495 | G24: A2 | H24: 0 | I24: AX | J24: =SUM(F24,H24) -> 28.495 | K24: A2 | L24: 0 | M24: AX | S24: 28.085 | T24: A2 | U24: 0 | V24: AX | W24: =SUM(S24,U24) -> 28.085 | X24: A2 | Y24: 0 | Z24: AX
A25: C3.6 | B25: On site renewable solar generation | C25: GWh | D25: I | F25: 3.104 | G25: A2 | H25: 0 | I25: AX | J25: =SUM(F25,H25) -> 3.104 | K25: A2 | L25: 14.309 | M25: A2 | S25: 6.114 | T25: A2 | U25: 0 | V25: AX | W25: =SUM(S25,U25) -> 6.114 | X25: A2 | Y25: 17.432 | Z25: A2
A26: C3.7 | B26: On site renewable wind generation | C26: GWh | D26: I | F26: 0.659 | G26: A2 | H26: 0 | I26: AX | J26: =SUM(F26,H26) -> 0.659 | K26: A2 | L26: 0.291 | M26: A2 | S26: 0.679 | T26: A2 | U26: 0 | V26: AX | W26: =SUM(S26,U26) -> 0.679 | X26: A2 | Y26: 0.256 | Z26: A2
A27: C3.8 | B27: On site renewable generation from bioresources | C27: GWh | D27: I | F27: 13.167 | G27: A2 | H27: 25.58 | I27: B2 | J27: =SUM(F27,H27) -> 38.747 | K27: B2 | L27: 5.101 | M27: A2 | S27: 12.372 | T27: A2 | U27: =U17 -> 25.825 | V27: B2 | W27: =SUM(S27,U27) -> 38.197 | X27: B2 | Y27: 0.001 | Z27: A2
A28: C3.9 | B28: On site renewable generation other | C28: GWh | D28: I | F28: 0 | G28: AX | H28: 0 | I28: AX | J28: =SUM(F28,H28) -> 0 | K28: AX | L28: 0 | M28: AX | S28: 0 | T28: AX | U28: 0 | V28: AX | W28: =SUM(S28,U28) -> 0 | X28: AX | Y28: 0 | Z28: AX
B30: Other fuels
A31: C3.10a | B31: Fossil fuel consumption by fleet (transport by fleet owned and fleet leased by the organisation i.e. scope 1) | C31: litres | D31: I | F31: 4474448 | G31: A2 | H31: 205147 | I31: B3 | J31: =SUM(F31,H31) -> 4679595 | K31: A2 | L31: 4219 | M31: A2 | S31: 4273641 | T31: A2 | U31: 39498 | V31: B3 | W31: =SUM(S31,U31) -> 4313139 | X31: A2 | Y31: 8521 | Z31: A2
A32: C3.10b | B32: Non-fossil fuel consumption by fleet (transport by fleet owned and fleet leased by the organisation i.e. scope 1) | C32: litres | D32: I | F32: 14384.24 | G32: A1 | H32: 56706 | I32: A2 | J32: =SUM(F32,H32) -> 71090.24 | K32: A2 | L32: 0 | M32: A2 | S32: 166296 | T32: A1 | U32: 84741 | V32: A2 | W32: =SUM(S32,U32) -> 251037 | X32: A2 | Y32: 0 | Z32: A2
A33: C3.11a | B33: Other fossil fuels (non-transport) | C33: GWh | D33: I | F33: 49.871 | G33: B3 | H33: 228.314 | I33: B3 | J33: =SUM(F33,H33) -> 278.185 | K33: B3 | L33: 17.424 | M33: B3 | S33: 40.627 | T33: B3 | U33: 222.831 | V33: B3 | W33: =SUM(S33,U33) -> 263.458 | X33: B3 | Y33: 0 | Z33: B3
A34: C3.11b | B34: Other non-fossil fuels (non-transport) | C34: GWh | D34: I | F34: 0.816 | G34: B3 | H34: 0 | I34: B3 | J34: =SUM(F34,H34) -> 0.816 | K34: B3 | L34: 0 | M34: B3 | S34: 1.882 | T34: B3 | U34: 1.376 | V34: B3 | W34: =SUM(S34,U34) -> 3.258 | X34: B3 | Y34: 0 | Z34: B3
B36: Income received from energy exports and decarbonisation payments
A37: C3.12 | B37: Income from renewable electricity exported | C37: £m | D37: I | F37: 1.767 | G37: A2 | H37: 0 | I37: AX | L37: 1.525 | M37: A2 | S37: 1.545 | T37: A2 | U37: 0 | V37: AX | Y37: 0.655 | Z37: A2
A38: C3.13 | B38: Income from renewable obligation certificates, feed-in tariffs and other decarbonisation incentive payments | C38: £m | D38: I | F38: 5.811 | G38: A2 | H38: 0 | I38: AX | L38: 0 | M38: AX | S38: 5.731 | T38: A2 | U38: 0 | V38: AX | Y38: 0 | Z38: AX
A39: C3.14 | B39: Total income from renewable energy | C39: £m | D39: C | F39: =SUM(F37:F38) -> 7.578 | G39: A2 | H39: =SUM(H37:H38) -> 0 | I39: AX | L39: =SUM(L37:L38) -> 1.525 | M39: A2 | S39: =SUM(S37:S38) -> 7.276 | T39: A2 | U39: =SUM(U37:U38) -> 0 | V39: AX | Y39: =SUM(Y37:Y38) -> 0.655 | Z39: A2
B41: Other income associated with renewables
A42: C3.15 | B42: Income from hosting renewable electricity generation on Scottish Water sites | C42: £m | D42: I | F42: 3.602781 | G42: A2 | H42: 0 | I42: AX | L42: 0 | M42: AX | S42: 4.092 | T42: A2 | U42: 0 | V42: AX | Y42: 0 | Z42: AX
B44: Electricity expenditure
A45: C3.16 | B45: Total electricity expenditure (gross) | C45: £m | D45: I | F45: 80.688 | G45: A2 | H45: 0 | I45: AX | L45: 0.115 | M45: A2 | S45: 89.96 | T45: A2 | U45: 0 | V45: AX | Y45: 0.044 | Z45: A2
A46: C3.17 | B46: Recharges of electricity expenditure between companies in the Scottish Water Group | C46: £m | D46: I | F46: =2.653-0.371 -> 2.282 | G46: A2 | H46: 0 | I46: AX | L46: =-2.653+0.371 -> -2.282 | M46: A2 | S46: 1.712 | T46: A2 | U46: 0 | V46: AX | Y46: -1.712 | Z46: A2
A47: C3.18 | B47: Income received from energy exports and decarbonisation payments | C47: £m | D47: C | F47: =-F39 -> -7.578 | G47: A2 | H47: =-H39 -> 0 | I47: AX | L47: =-L39 -> -1.525 | M47: A2 | S47: =-S39 -> -7.276 | T47: A2 | U47: =-U39 -> 0 | V47: AX | Y47: =-Y39 -> -0.655 | Z47: A2
A48: C3.19 | B48: Movement of income between companies in the Scottish Water Group | C48: £m | D48: I | F48: 0 | G48: AX | H48: 0 | I48: AX | L48: 0 | M48: AX | S48: 0 | T48: AX | U48: 0 | V48: AX | Y48: 0 | Z48: AX
A49: C3.20 | B49: Total electricity expenditure (net) | C49: £m | D49: C | F49: =SUM(F45:F48) -> 75.392 | G49: A2 | H49: =SUM(H45:H48) -> 0 | I49: AX | L49: =SUM(L45:L48) -> -3.692 | M49: A2 | S49: =SUM(S45:S48) -> 84.396 | T49: A2 | U49: =SUM(U45:U48) -> 0 | V49: AX | Y49: =SUM(Y45:Y48) -> -2.323 | Z49: A2
B51: Memo
...

Sheet C4
A1: SCOTTISH WATER
A3: ANNUAL RETURN INFORMATION REQUIREMENTS 2025-26
A6: SECTION C : CARBON EMISSIONS AND NET ZERO
A7: Table C4: Land and carbon inventory
A9: Line | B9: Description | C9: Units | D9: Field | F9: Report year -1 | I9: Report year
A10: ref. | D10: type
F11: 2024-25 | G11: CG | I11: 2025-26 | J11: CG
B14: Carbon sequestration - baseline
A15: C4.1 | B15: Total area of peatland | C15: ha | D15: I | F15: =4562+398 -> 4960 | G15: B4 | I15: =4562+398 -> 4960 | J15: B4
A16: C4.2 | B16: Total area of woodland | C16: ha | D16: I | F16: 3860 | G16: B4 | I16: 3860 | J16: B4
A17: C4.3 | B17: Total area of grassland | C17: ha | D17: I | F17: 5459 | G17: B4 | I17: 5459 | J17: B4
A18: C4.4 | B18: Total area of other land cover types | C18: ha | D18: I | F18: =7621+80 -> 7701 | G18: B4 | I18: =7621+80 -> 7701 | J18: B4
A19: C4.5 | B19: Total area of landholdings | C19: ha | D19: C | F19: =SUM(F15:F18) -> 21980 | G19: B4 | I19: =SUM(I15:I18) -> 21980 | J19: B4
A20: C4.6 | B20: CO2e emissions from peatland in year | C20: tCO2e | D20: I | F20: =15750+1150 -> 16900 | G20: C5 | I20: =15750+1150 -> 16900 | J20: C5
A21: C4.7 | B21: CO2e emissions from woodland in year | C21: tCO2e | D21: I | F21: -24000 | G21: C5 | I21: -24000 | J21: C5
A22: C4.8 | B22: CO2e emissions from grassland in year | C22: tCO2e | D22: I | F22: -6450 | G22: C5 | I22: -6450 | J22: C5
A23: C4.9 | B23: CO2e emissions from other land cover types in year | C23: tCO2e | D23: I | F23: 13200 | G23: C2 | I23: 13200 | J23: C2
A24: C4.10 | B24: Total CO2e emissions from landholdings in year | C24: tCO2e | D24: C | F24: =SUM(F20:F23) -> -350 | G24: C5 | I24: =SUM(I20:I23) -> -350 | J24: C5
B26: Carbon sequestration - progress
A27: C4.11 | B27: Peatland restored in year | C27: ha | D27: I | F27: 555.34 | G27: B2 | I27: 477.93 | J27: B2
A28: C4.12 | B28: Woodland created in year | C28: ha | D28: I | F28: 303.1 | G28: B2 | I28: 249.93 | J28: B2
A29: C4.13 | B29: Grassland restored and created in year | C29: ha | D29: I | F29: 0 | G29: BX | I29: 0 | J29: BX
A30: C4.14 | B30: Other land cover changes in year | C30: ha | D30: I | F30: 0 | G30: BX | I30: 0 | J30: BX
A31: C4.15 | B31: Total land area changed in year | C31: ha | D31: C | F31: =SUM(F27:F30) -> 858.44 | G31: B2 | I31: =SUM(I27:I30) -> 727.86 | J31: B2
A32: C4.16 | B32: Peatland restored in year (forecast benefit in future years) | C32: tCO2e | D32: I | F32: -4392 | G32: C5 | I32: -3778.0367 | J32: C5
A33: C4.17 | B33: Woodland created in year (forecast benefit in future years) | C33: tCO2e | D33: I | F33: -1803 | G33: C5 | I33: -2175 | J33: C5
A34: C4.18 | B34: Grassland restored and created in year (forecast benefit in future years) | C34: tCO2e | D34: I | F34: 0 | G34: CX | I34: 0 | J34: CX
A35: C4.19 | B35: Other land cover (forecast benefit in future years) | C35: tCO2e | D35: I | F35: 0 | G35: CX | I35: 0 | J35: CX
B37: Expenditure
A38: C4.20 | B38: Expenditure on peatland restoration in year | C38: £000s | D38: I | F38: 4363 | G38: A2 | I38: 2626.671 | J38: A2
A39: C4.21 | B39: Expenditure on forestry creation in year | C39: £000s | D39: I | F39: 1600 | G39: A2 | I39: 4530.66 | J39: A2
A40: C4.22 | B40: Expenditure on grassland restoration and creation in year | C40: £000s | D40: I | F40: 0 | G40: AX | I40: 0 | J40: AX
A41: C4.23 | B41: Other land cover | C41: £000s | D41: I | F41: 0 | G41: AX | I41: 0 | J41: AX
A42: C4.24 | B42: Expenditure on land managed for sequestration in year | C42: £000s | D42: C | F42: =SUM(F38:F41) -> 5963 | G42: A2 | I42: =SUM(I38:I41) -> 7157.331 | J42: A2
B44: Memo lines
A45: C4.25 | B45: Total area of landholdings in previous year | C45: ha | D45: I/C | F45: 23219 | G45: B4 | I45: =F19 -> 21980 | J45: B4
A46: C4.26 | B46: Total CO2e emissions from landholdings in previous year | C46: tCO2e | D46: I/C | F46: -5844 | G46: C5 | I46: =F24 -> -350 | J46: C5
A47: C4.27 | B47: Expenditure on land managed for sequestration in previous year | C47: £000s | D47: I/C | F47: 1459 | G47: A2 | I47: =F42 -> 5963 | J47: A2
B49: Resource recovery
A50: C4.28 | B50: Resource recovery | C50: tCO2e | D50: I | I50: To be reported in AR27 | J50: not rated
...
