Workbook

Sheet B1
A1: SCOTTISH WATER
A3: ANNUAL RETURN INFORMATION REQUIREMENTS 2026
A6: SECTION B : OUTPUTS TO CUSTOMERS
A7: Table B1: Restrictions on water use
A10: Line | B10: Description | C10: Units | D10: Field | F10: Report year | I10: Report year +1 (forecast)
A11: ref. | D11: type
F12: 2025-26 | G12: CG | I12: 2026-27 | J12: CG
B15: Restrictions on water use
A16: B1.1 | B16: Total of zonal populations | C16: 000 | D16: I | F16: 5429.612 | G16: B2 | I16: 5456.873 | J16: B3
A17: B1.2 | B17: Population affected by ordinary water shortage orders | C17: nr | D17: I | F17: 0 | G17: AX
A18: B1.3 | B18: % Population affected by ordinary water shortage orders | C18: % | D18: C | F18: =F17/(F16*1000) -> 0 | G18: AX | I18: =I17/(I16*1000) -> 0
A19: B1.4 | B19: Population affected by emergency water shortage orders | C19: nr | D19: I | F19: 0 | G19: AX
A20: B1.5 | B20: % Population affected by emergency water shortage orders | C20: % | D20: C | F20: =F19/(F16*1000) -> 0 | G20: AX | I20: =I19/(I16*1000) -> 0
A21: B1.6 | B21: Monitored reservoir sources breaching the drought impacts (red) trigger | C21: nr | D21: I | F21: 6 | G21: A1
A22: B1.7 | B22: Total number of supply systems monitored against drought trigger levels | C22: nr | D22: I | F22: 86 | G22: A1
A23: B1.8 | B23: Total number of supply systems not monitored against drought trigger levels | C23: nr | D23: I | F23: 142 | G23: A1
A27: Prepared by: | C27: Date:
A29: Checked by: ……………………………………………...….. | C29: Date:
A31: Authorised by | C31: Date: | D31: 16/062026

Sheet B2
A1: SCOTTISH WATER
A3: ANNUAL RETURN INFORMATION REQUIREMENTS 2026
A6: SECTION B : OUTPUTS TO CUSTOMERS
A7: Table B2: Pressure and interruptions
A10: Line | B10: Description | C10: AR22 | D10: Units | E10: Field | G10: Report year | J10: Report year +1 (forecast)
A11: ref. | C11: ref. | E11: type
G12: ='B1'!F12 -> 2025-26 | H12: CG | J12: ='B1'!I12 -> 2026-27 | K12: CG
B14: Properties receiving pressure/flow below reference level
A15: B2.1 | B15: Total connected properties | C15: B2.1 | D15: nr | E15: BF A1.10 | G15: 2844558 | H15: B2 | J15: 2866881 | K15: B3
A16: B2.2 | B16: Properties below reference level at start of year | C16: B2.2 | D16: nr | E16: I | G16: 194 | H16: A1 | J16: 185 | K16: C2
A17: B2.2a | B17: Properties added due to better information | C17: B2.2a | D17: nr | E17: I | G17: 0 | H17: A1 | J17: 0 | K17: C2
A18: B2.2b | B18: Properties added due to asset deterioration | C18: B2.2b | D18: nr | E18: I | G18: 2 | H18: A1 | J18: 12 | K18: C2
A19: B2.2c | B19: Properties added due to operational changes | C19: B2.2c | D19: nr | E19: I | G19: 0 | H19: A1 | J19: 0 | K19: C2
A20: B2.2d | B20: Properties removed due to better information | C20: B2.2d | D20: nr | E20: I | G20: 3 | H20: A1 | J20: 0 | K20: C2
A21: B2.2e | B21: Properties removed due to asset improvements | C21: B2.2e | D21: nr | E21: I | G21: 8 | H21: A1 | J21: 0 | K21: C2
A22: B2.2f | B22: Properties removed due to operational improvements | C22: B2.2f | D22: nr | E22: I | G22: 0 | H22: A1 | J22: 0 | K22: C2
A23: B2.3 | B23: Properties below reference level at end of year | C23: B2.3 | D23: nr | E23: I | G23: 185 | H23: A1 | J23: 198 | K23: C2
A24: B2.3a | B24: Number of properties on the low pressure register | D24: nr | E24: I | G24: 15 | H24: A1 | J24: 27 | K24: C2
A25: B2.3b | B25: Number of properties excluded from the low pressure register | D25: nr | E25: I | G25: 170 | H25: A1 | J25: 171 | K25: C2
A26: B2.4 | B26: Properties receiving low pressure but excluded from line B2.3 | C26: B2.4 | D26: nr | E26: I | G26: 15130 | H26: B2 | J26: 15000 | K26: C2
B28: Properties affected by planned interruptions
A29: B2.5 | B29: Less than 3 hours planned and warned | D29: nr | E29: I | G29: 10200 | H29: A2 | J29: 22999 | K29: A2
A30: B2.6 | B30: More than 3 hours planned and warned | C30: B2.5 | D30: nr | E30: I | G30: 16722 | H30: A2 | J30: 29663 | K30: A2
A31: B2.7 | B31: More than 6 hours planned and warned | C31: B2.6 | D31: nr | E31: I | G31: 1863 | H31: A2 | J31: 5206 | K31: A2
A32: B2.8 | B32: More than 12 hours planned and warned | C32: B2.7 | D32: nr | E32: I | G32: 0 | H32: A2 | J32: 0 | K32: A2
A33: B2.9 | B33: More than 24 hours planned and warned | C33: B2.8 | D33: nr | E33: I | G33: 0 | H33: A2 | J33: 0 | K33: A2
B35: Properties affected by unplanned interruptions
A36: B2.10 | B36: Less than 3 hours unplanned | D36: nr | E36: I | G36: 227343 | H36: A2 | J36: 216898 | K36: A2
A37: B2.11 | B37: More than 3 hours unplanned | C37: B2.9 | D37: nr | E37: I | G37: 71822 | H37: A2 | J37: 90202 | K37: A2
A38: B2.12 | B38: More than 6 hours unplanned | C38: B2.10 | D38: nr | E38: I | G38: 4455 | H38: A2 | J38: 5263 | K38: A2
A39: B2.13 | B39: More than 12 hours unplanned | C39: B2.11 | D39: nr | E39: I | G39: 552 | H39: A2 | J39: 763 | K39: A2
A40: B2.14 | B40: More than 24 hours unplanned | C40: B2.12 | D40: nr | E40: I | G40: 64 | H40: A2 | J40: 153 | K40: A2
B42: Interruptions caused by third parties
A43: B2.15 | B43: Less than 3 hours caused by third parties | D43: nr | E43: I | G43: 3456 | H43: A2 | J43: 6741 | K43: A2
A44: B2.16 | B44: More than 3 hours caused by third parties | C44: B2.13 | D44: nr | E44: I | G44: 4763 | H44: A2 | J44: 5399 | K44: A2
A45: B2.17 | B45: More than 6 hours caused by third parties | C45: B2.14 | D45: nr | E45: I | G45: 1431 | H45: A2 | J45: 1606 | K45: A2
A46: B2.18 | B46: More than 12 hours caused by third parties | C46: B2.15 | D46: nr | E46: I | G46: 202 | H46: A2 | J46: 2044 | K46: A2
A47: B2.19 | B47: More than 24 hours caused by third parties | C47: B2.16 | D47: nr | E47: I | G47: 8 | H47: A2 | J47: 7 | K47: A2
B49: Unplanned interruptions (overrun of planned interruptions)
A50: B2.20 | B50: Less than 3 hours unplanned (overruns of planned interruptions) | D50: nr | E50: I | G50: 0 | H50: A2 | J50: 1349 | K50: A2
...

Sheet B3
A1: SCOTTISH WATER
A3: ANNUAL RETURN INFORMATION REQUIREMENTS 2026
A6: SECTION B : OUTPUTS TO CUSTOMERS
A7: Table B3: Sewage - Internal flooding
A10: Line | B10: Description | C10: Units | D10: Field | F10: Report year | I10: Report year +1 (forecast)
A11: Ref. | D11: Type
F12: ='B1'!F12 -> 2025-26 | G12: CG | I12: ='B1'!I12 -> 2026-27 | J12: CG
B14: Annual flooding summary
A15: B3.1 | B15: Number of properties connected to sewerage system | C15: nr | D15: BF - A1.20 | F15: 2705674 | G15: B3 | I15: 2727044 | J15: B3
B17: Annual flooding - overloaded sewers
A18: B3.2 | B18: Number of properties flooded in the year | C18: nr | D18: I | F18: 49 | G18: A3 | I18: 77 | J18: C4
A19: B3.3 | B19: Number of flooding incidents in the year | C19: nr | D19: I | F19: 29 | G19: A3 | I19: 40 | J19: C4
A20: B3.4 | B20: Number of flooding incidents attributed to severe weather | C20: nr | D20: I | F20: 10 | G20: A3 | I20: 16 | J20: C4
A21: B3.4a | B21: Number of properties flooded during the year due to severe weather | C21: nr | D21: I | F21: 13 | G21: A3 | I21: 31 | J21: C4
A22: B3.5 | B22: Props. where flooding limited to uninhabited cellars only (o/loaded sewers) | C22: nr | D22: I | F22: 7 | G22: A3 | I22: 13 | J22: C4
B24: Annual flooding - other causes
A25: B3.6 | B25: Number of properties flooded in the year | C25: nr | D25: I | F25: 55 | G25: A3 | I25: 67 | J25: C4
A26: B3.7 | B26: Number of properties flooded in the year (all sewers) | C26: nr | D26: I | F26: 254 | G26: A3 | I26: 300 | J26: C4
A27: B3.8 | B27: Properties which have flooded more than once in the last ten years (other causes) | C27: nr | D27: I | F27: 257 | G27: B4 | I27: 222 | J27: C4
A28: B3.9 | B28: Flooding incidents due to equipment failure | C28: nr | D28: I | F28: 3 | G28: A3 | I28: 5 | J28: C4
A29: B3.9a | B29: Number of properties flooded during the year due to equipment failure | C29: nr | D29: I | F29: 5 | G29: A3 | I29: 5 | J29: C4
A30: B3.10 | B30: Flooding incidents due to blockages | C30: nr | D30: I | F30: 37 | G30: A3 | I30: 49 | J30: C4
A31: B3.10a | B31: Number of properties flooded during the year due to blockages | C31: nr | D31: I | F31: 41 | G31: A3 | I31: 56 | J31: C4
A32: B3.11 | B32: Flooding incidents due to sewer collapses | C32: nr | D32: I | F32: 9 | G32: A3 | I32: 6 | J32: C4
A33: B3.11a | B33: Number of properties flooded during the year due to sewer collapses | C33: nr | D33: I | F33: 9 | G33: A3 | I33: 6 | J33: C4
A34: B3.12 | B34: Props. where flooding limited to uninhabited cellars only (other causes) | C34: nr | D34: I | F34: 19 | G34: A3 | I34: 19 | J34: C4
A35: B3.13 | B35: Number of flooding incidents in the year | C35: nr | D35: I | F35: 49 | G35: A3 | I35: 59 | J35: C4
B37: Properties on the "at risk" register
B38: (i) At risk summary
A39: B3.14 | B39: 2 in 10 at end of year | C39: nr | D39: I | F39: 180 | G39: B2 | I39: 192 | J39: C4
A40: B3.15 | B40: 1 in 10 at end of year | C40: nr | D40: I | F40: 142 | G40: B2 | I40: 144 | J40: C4
A41: B3.16 | B41: Total 1 in 10 and 2 in 10 properties at risk at end of year | C41: nr | D41: C | F41: =+F39+F40 -> 322 | G41: B2 | I41: =+I39+I40 -> 336 | J41: C4
A42: B3.17 | B42: 1 in 20 risk at end of year | C42: nr | D42: I | F42: 274 | G42: B2 | I42: 295 | J42: C4
B43: (ii) Problem status of properties on the register
A44: B3.18 | B44: Solved but temporary or being tested | C44: nr | D44: I | F44: 257 | G44: B2 | I44: 252 | J44: C4
A45: B3.19 | B45: Number of properties on the at risk register still to be resolved | C45: nr | D45: C | F45: =F41-F44 -> 65 | G45: B2 | I45: =I41-I44 -> 84 | J45: C4
B46: (iii) Annual changes to register
A47: B3.20 | B47: Removed by Scottish Water action | C47: nr | D47: I | F47: 12 | G47: B2 | I47: 16 | J47: C4
A48: B3.21 | B48: Removed because of better information | C48: nr | D48: I | F48: 1 | G48: B2 | I48: 2 | J48: C4
A49: B3.22 | B49: Added because of better information | C49: nr | D49: I | F49: 21 | G49: B2 | I49: 32 | J49: C4
...

Sheet B3a
A1: SCOTTISH WATER
A3: ANNUAL RETURN INFORMATION REQUIREMENTS 2026
A6: SECTION B : OUTPUTS TO CUSTOMERS
A7: Table B3a: Sewage - external flooding
A10: Line | B10: Description | C10: Units | D10: Field | F10: Report year | I10: Report year +1 (forecast)
A11: ref. | D11: type
F12: ='B1'!F12 -> 2025-26 | G12: CG | I12: ='B1'!I12 -> 2026-27 | J12: CG
B14: Annual flooding summary
B15: (I) Overloaded sewers
A16: B3a.1 | B16: Areas flooded externally in the year (overloaded sewers) | C16: nr | D16: I | F16: 101 | G16: A4 | I16: 175 | J16: C4
A17: B3a.2 | B17: Curtilage flooding incidents in the year (overloaded sewers) | C17: nr | D17: I | F17: 36 | G17: A4 | I17: 72 | J17: C4
A18: B3a.3 | B18: Highway flooding incidents (overloaded sewers) | C18: nr | D18: I | F18: 50 | G18: A4 | I18: 72 | J18: C4
A19: B3a.4 | B19: Other flooding incidents (overloaded sewers) | C19: nr | D19: I | F19: 12 | G19: A4 | I19: 17 | J19: C4
A20: B3a.5 | B20: Total flooding incidents (overloaded sewers) | C20: nr | D20: C | F20: =SUM(F17:F19) -> 98 | G20: A4 | I20: =SUM(I17:I19) -> 161 | J20: C4
A21: B3a.6 | B21: External flooding incidents (overloaded sewers attributed to severe weather) | C21: nr | D21: I | F21: 0 | G21: N | I21: 0 | J21: N
B22: (ii) Other causes
A23: B3a.7 | B23: Areas flooded externally in the year (other causes) | C23: nr | D23: I | F23: 1413 | G23: A4 | I23: 1721 | J23: C4
A24: B3a.8 | B24: Flooding incidents (other causes - equipment failure) | C24: nr | D24: I | F24: 8 | G24: A4 | I24: 14 | J24: C4
A25: B3a.9 | B25: Flooding incidents (other causes - blockages) | C25: nr | D25: I | F25: 928 | G25: A4 | I25: 1046 | J25: C4
A26: B3a.10 | B26: Flooding incidents (other causes - collapses) | C26: nr | D26: I | F26: 30 | G26: A4 | I26: 35 | J26: C4
B28: Areas on the 1:10, 2:10, 1:20 "at risk" register
B29: (I) At risk summary
A30: B3a.11 | B30: 2 in 10 risk at end of year | C30: nr | D30: I | F30: 1942 | G30: B4 | I30: 1931 | J30: C4
A31: B3a.12 | B31: 1 in 10 risk at end of year | C31: nr | D31: I | F31: 1045 | G31: B4 | I31: 1127 | J31: C4
A32: B3a.13 | B32: 1 in 20 risk at end of year | C32: nr | D32: I | F32: 157 | G32: B4 | I32: 161 | J32: C4
A33: B3a.14 | B33: Total at risk on the 1:10, 2:10, 1:20 register at end of year | C33: nr | D33: C | F33: =SUM(F30:F32) -> 3144 | G33: B4 | I33: =SUM(I30:I32) -> 3219 | J33: C4
B34: (ii) Problem status of external areas on the 1:10, 2:10, 1:20 register
A35: B3a.15 | B35: Problems solved by temporary measures or subject to testing | C35: nr | D35: I | F35: 342 | G35: B4 | I35: 354 | J35: C4
A36: B3a.16 | B36: Problems awaiting solution | C36: nr | D36: I | F36: 2802 | G36: B4 | I36: 2865 | J36: C4
B37: (iii) Annual changes to 1:10, 2:10, 1:20 register
A38: B3a.17 | B38: Removed by Scottish Water action | C38: nr | D38: I | F38: 4 | G38: B4 | I38: 8 | J38: C4
A39: B3a.18 | B39: Removed because of better information | C39: nr | D39: I | F39: 9 | G39: B4 | I39: 67 | J39: C4
A40: B3a.19 | B40: Added because of better information | C40: nr | D40: I | F40: 71 | G40: B4 | I40: 150 | J40: C4
A41: B3a.20 | B41: Added because of increased demand | C41: nr | D41: I | F41: 0 | G41: N | I41: 0 | J41: N
A42: B3a.21 | B42: Moved from external to internal register | C42: nr | D42: I | F42: 3 | G42: B4 | I42: 4 | J42: C4
A46: Prepared by: ……………………………………………...….. | C46: Date:
A48: Checked by: ……………………………………………...….. | C48: Date:
A50: Authorised by: | C50: Date:08/06/2026

Sheet B4
A1: SCOTTISH WATER
A3: ANNUAL RETURN INFORMATION REQUIREMENTS 2026
A6: SECTION B : OUTPUTS TO CUSTOMERS
A7: Table B4: Customer service
A10: Line | B10: Description | C10: Units | D10: Field | F10: Report year | I10: Report year +1 (forecast)
A11: ref. | D11: type
F12: ='B1'!F12 -> 2025-26 | G12: CG | I12: ='B1'!I12 -> 2026-27 | J12: CG
B15: New written complaints
A16: B4.1 | B16: Formal complaints (number of written complaints received) | C16: nr | D16: C | F16: ='B5'!F21+'B6'!J20+'B6'!J52 -> 580 | G16: A1 | I16: ='B5'!I21+'B6'!M20+'B6'!M52 -> 572 | J16: D5
A17: B4.2 | B17: Regulator upheld complaints | C17: nr | D17: C | F17: ='B5'!F22+'B6'!J39+'B6'!J53 -> 0 | G17: A1 | I17: ='B5'!I22+'B6'!M39+'B6'!M53 -> 0 | J17: D5
A18: B4.3 | B18: No. dealt with within 5 working days | C18: nr | D18: I | F18: 575 | G18: A2 | I18: 572 | J18: D5
B20: Telephone contacts
A21: B4.4 | B21: Total calls received on customer contact lines | C21: nr | D21: I | F21: =F27+F22 -> 280878 | G21: A1 | I21: =I27+I22 -> 290863 | J21: D5
A22: B4.5 | B22: Total calls answered on customer contact lines | C22: nr | D22: I | F22: =F23+F24 -> 278540 | G22: A1 | I22: =I23+I24 -> 283322 | J22: D5
A23: B4.6 | B23: Total calls answered within 30 seconds on customer contact lines | C23: nr | D23: I | F23: 195389 | G23: A1 | I23: 236059 | J23: D5
A24: B4.7 | B24: Total calls answered in more than 30 seconds on customer contact lines | C24: nr | D24: I | F24: 83151 | G24: A1 | I24: 47263 | J24: D5
A25: B4.8 | B25: Average time taken to answer a call on customer contact lines | C25: secs | D25: I | F25: 20 | G25: A1 | I25: 34 | J25: D5
A26: B4.9 | B26: All lines busy | C26: nr | D26: I | F26: 0 | G26: A1 | I26: 165 | J26: D5
A27: B4.10 | B27: Total of abandoned calls on customer contact lines | C27: nr | D27: I | F27: 2338 | G27: A1 | I27: 7541 | J27: D5
A28: B4.11 | B28: Total telephone complaints | C28: nr | D28: I | F28: 97169 | G28: A1 | I28: 97894 | J28: D5
A32: Prepared by: ……………………………………………...….. | C32: Date:
A34: Checked by: ……………………………………………...….. | C34: Date:
A36: Authorised by: | C36: Date: | D36: 46196

Sheet B5
A1: SCOTTISH WATER
A3: ANNUAL RETURN INFORMATION REQUIREMENTS 2026
A6: SECTION B : OUTPUTS TO CUSTOMERS
A7: Table B5: Household customer service
A10: Line | B10: Description | C10: Units | D10: Field | F10: Report year | I10: Report year +1 (forecast)
A11: ref. | D11: type
F12: ='B1'!F12 -> 2025-26 | G12: CG | I12: ='B1'!I12 -> 2026-27 | J12: CG
B14: Household CEM
A15: B5.1 | B15: hCEM overall score | C15: nr | D15: BF B5.32 | F15: =ROUNDDOWN(F57,2) -> 87.52 | G15: B3 | I15: =ROUNDDOWN(I57,2) -> 87.5 | J15: D5
A16: B5.2 | B16: Customer experience survey | C16: % | D16: C | F16: =F49/F48 -> 0.93645551 | G16: B2 | I16: =I49/I48 -> 0.94100658 | J16: D5
A17: B5.3 | B17: No experience no contact | C17: % | D17: C | F17: =F51/F50 -> 0.91490589 | G17: A2 | I17: =I51/I50 -> 0.9125 | J17: D5
A18: B5.4 | B18: Experience no contact | C18: % | D18: C | F18: =F53/F52 -> 0.75226434 | G18: A2 | I18: =I53/I52 -> 0.7475 | J18: D5
A19: B5.5 | B19: Escalations | C19: nr | D19: I | F19: 397 | G19: A1 | I19: 400 | J19: D5
A20: B5.6 | B20: Service issue contacts | C20: nr | D20: BF B5.24 | F20: =F45 -> 275806 | G20: A3 | I20: =I45 -> 278000 | J20: D5
A21: B5.7 | B21: Formal complaints | C21: nr | D21: I | F21: 432 | G21: A1 | I21: 425 | J21: D5
A22: B5.8 | B22: Regulatory upheld complaints | C22: nr | D22: I | F22: 0 | G22: A1 | I22: 0 | J22: D5
B24: Customer satisfaction survey
A25: B5.9 | B25: Rating of satisfaction with the overall manner in which the call was handled. Year average | C25: nr | D25: I | F25: - | G25: N | I25: - | J25: N
B27: Assessed customer service
A28: B5.10 | B28: Revenue and debt collection | C28: nr | D28: I
A29: B5.11 | B29: Information to customers | C29: nr | D29: I
A30: B5.12 | B30: Telephone contact hours | C30: nr | D30: I
A31: B5.13 | B31: Compensation policy | C31: nr | D31: I
A32: B5.14 | B32: Supply pipe repair policy | C32: nr | D32: I
A33: B5.15 | B33: Service for disabled and elderly customers | C33: nr | D33: I
A34: B5.16 | B34: Complaints handling | C34: nr | D34: I
B36: Service issue contacts - household customers
A37: B5.17 | B37: Phone contacts | C37: nr | D37: I | F37: 277884 | G37: A1 | I37: 275007 | J37: D5
A38: B5.18 | B38: E-mail contacts | C38: nr | D38: I | F38: 12581 | G38: A1 | I38: 12464 | J38: D5
A39: B5.19 | B39: Social media contacts | C39: nr | D39: I | F39: 7177 | G39: A3 | I39: 8568 | J39: D5
A40: B5.19a | B40: Facebook contacts | C40: nr | D40: I | F40: 27364 | G40: A3 | I40: 29764 | J40: D5
A41: B5.20 | B41: Portal | C41: nr | D41: I | F41: 49870 | G41: A1 | I41: 45412 | J41: D5
A42: B5.21 | B42: Total contacts | C42: nr | D42: C | F42: =SUM(F37:F39,F41) -> 347512 | G42: A3 | I42: =SUM(I37:I39,I41) -> 341451 | J42: D5
A43: B5.22 | B43: Wanted contact | C43: nr | D43: I | F43: 49153 | G43: A3 | I43: 43311 | J43: D5
A44: B5.23 | B44: Non household contacts | C44: nr | D44: I | F44: 22553 | G44: A3 | I44: 20140 | J44: D5
A45: B5.24 | B45: Total service issue contacts (total 'unwanted' HH contacts) | C45: nr | D45: C | F45: =F42-F43-F44 -> 275806 | G45: A3 | I45: =I42-I43-I44 -> 278000 | J45: D5
B47: Household customer experience
A48: B5.25 | B48: Customer experience survey - total | C48: nr | D48: I | F48: 15139 | G48: B2 | I48: 16273 | J48: D5
A49: B5.26 | B49: Customer experience survey - satisfied | C49: nr | D49: I | F49: 14177 | G49: B2 | I49: 15313 | J49: D5
A50: B5.27 | B50: No experience, no contact survey - total | C50: nr | D50: I | F50: 4408.7543 | G50: A2 | I50: 4338.9549 | J50: D5
...

Sheet B6
A1: SCOTTISH WATER
A3: ANNUAL RETURN INFORMATION REQUIREMENTS 2026
A6: SECTION B : OUTPUTS TO CUSTOMERS
A7: Table B6: Non household customer service
A10: Line | B10: Description | C10: AR22 | D10: Units | E10: Field | G10: Report year -1 | J10: Report year | M10: Report year +1 (forecast)
A11: ref. | C11: ref. | E11: type
G12: 2024-25 | H12: CG | J12: ='B1'!F12 -> 2025-26 | K12: CG | M12: ='B1'!I12 -> 2026-27 | N12: CG
B15: Non household CEM
A16: B6.1 | B16: nhCEM overall score | C16: B6.1 | D16: nr | E16: BF B6.40 | G16: =G63 -> 89.35 | H16: B3 | J16: =J63 -> 87.83 | K16: B3 | M16: =M63 -> 88.5 | N16: D5
A17: B6.2 | B17: LP Experience Survey | C17: B6.2 | D17: % | E17: C | G17: =G41/G40 -> 0.992966 | H17: A2 | J17: =J41/J40 -> 0.98202824 | K17: A2 | M17: =M41/M40 -> 0.98922056 | N17: D5
A18: B6.3 | B18: Business end user | C18: B6.3 | D18: % | E18: C | G18: =G45/G44 -> 0.89619377 | H18: B2 | J18: =J45/J44 -> 0.89480198 | K18: B2 | M18: =M45/M44 -> 0.89567148 | N18: D5
A19: B6.4 | B19: Service issue contacts (WSD & CEC) | C19: B6.4 | D19: nr | E19: BF B6.17 | G19: =G34 -> 30209 | H19: A3 | J19: 31150 | K19: A3 | M19: 30294 | N19: D5
A20: B6.5 | B20: Formal complaints | C20: B6.5 | D20: nr | E20: BF B6.19 | G20: =G38 -> 127 | H20: A1 | J20: 147 | K20: A1 | M20: 145 | N20: D5
A21: B6.6 | B21: Escalations | C21: B6.6 | D21: nr | E21: BF B6.18 | G21: =G37 -> 44 | H21: A1 | J21: 77 | K21: A1 | M21: 73 | N21: D5
A22: B6.7 | B22: Regulatory complaints | C22: B6.7 | D22: nr | E22: BF B6.20 | G22: =G39 -> 0 | H22: A1 | J22: =J39 -> 0 | K22: A1 | M22: =M39 -> 0 | N22: D5
B24: Service Issue Contacts - non-household customers
A25: B6.8 | B25: Contacts from licensed providers via wholesale desk and portal - all calls | C25: B6.8 | D25: nr | E25: I | G25: 2986 | H25: A1 | J25: 2912 | K25: A1 | M25: 3272 | N25: D5
A26: B6.9 | B26: Contacts from licensed providers via wholesale desk and portal - total emails | C26: B6.9 | D26: nr | E26: I | G26: 3198 | H26: A1 | J26: 3562 | K26: A1 | M26: 3784 | N26: D5
A27: B6.10 | B27: Contacts from licensed providers via wholesale desk and portal - total Portal | C27: B6.10 | D27: nr | E27: I | G27: 21719 | H27: A1 | J27: 25016 | K27: A1 | M27: 23587 | N27: D5
A28: B6.11 | B28: Contacts from licensed providers via wholesale desk and portal - Bulk Uploads | C28: B6.11 | D28: nr | E28: I | G28: 293 | H28: A1 | J28: 134 | K28: A1 | M28: 529 | N28: D5
A29: B6.12 | B29: Contacts from licensed providers via wholesale desk and portal - total wanted | C29: B6.12 | D29: nr | E29: I | G29: 14728 | H29: A1 | J29: 17111 | K29: A1 | M29: 16419 | N29: D5
A30: B6.13 | B30: Contacts from licensed providers via wholesale desk and portal - contacts adjusted for permitted exclusions | C30: B6.13 | D30: nr | E30: C | G30: =SUM(G25:G28)-G29 -> 13468 | H30: A1 | J30: =SUM(J25:J28)-J29 -> 14513 | K30: A1 | M30: =SUM(M25:M28)-M29 -> 14753 | N30: D5
A31: B6.14 | B31: Calls received through customer engagement centre from non household customers - all contacts | C31: B6.14 | D31: nr | E31: I | G31: 22351 | H31: A3 | J31: 22553 | K31: A3 | M31: 20140 | N31: D5
A32: B6.15 | B32: Calls received through customer engagement centre from non household customers - wanted contacts | C32: B6.15 | D32: nr | E32: I | G32: 5610 | H32: A3 | J32: 5916 | K32: A3 | M32: 4599 | N32: D5
A33: B6.16 | B33: Calls received through customer engagement centre from non household customers - contacts adjusted for permitted exclusions | C33: B6.16 | D33: nr | E33: C | G33: =G31-G32 -> 16741 | H33: A3 | J33: =J31-J32 -> 16637 | K33: A3 | M33: =M31-M32 -> 15541 | N33: D5
A34: B6.17 | B34: Non-household service issue contacts - total unwanted contacts | C34: B6.17 | D34: nr | E34: C | G34: =G30+G33 -> 30209 | H34: A3 | J34: =J30+J33 -> 31150 | K34: A3 | M34: =M30+M33 -> 30294 | N34: D5
B36: Non-household customer experience
A37: B6.18 | B37: Escalations | C37: B6.18 | D37: nr | E37: I | G37: 44 | H37: A1 | J37: 77 | K37: A1 | M37: 73 | N37: D5
A38: B6.19 | B38: Formal complaints (form G) | C38: B6.19 | D38: nr | E38: I | G38: 127 | H38: A1 | J38: 147 | K38: A1 | M38: 145 | N38: D5
A39: B6.20 | B39: Regulator upheld complaints | C39: B6.20 | D39: nr | E39: I | G39: 0 | H39: A1 | J39: 0 | K39: A1 | M39: 0 | N39: D5
A40: B6.21 | B40: LP experience survey - total | C40: B6.21 | D40: nr | E40: I | G40: 853 | H40: A2 | J40: 779 | K40: A2 | M40: 1206 | N40: D5
A41: B6.22 | B41: LP experience survey - satisfied | C41: B6.22 | D41: nr | E41: I | G41: 847 | H41: A2 | J41: 765 | K41: A2 | M41: 1193 | N41: D5
A42: B6.23 | B42: Ease of service indicator line 1 | C42: B6.23 | D42: nr | E42: I | G42: 853 | H42: A2 | J42: 779 | K42: A2 | M42: 868 | N42: D5
A43: B6.24 | B43: Ease of service indicator line 2 | C43: B6.24 | D43: nr | E43: I | G43: 852 | H43: A2 | J43: 764 | K43: A2 | M43: 852 | N43: D5
A44: B6.25 | B44: Business end-user experience survey - total | C44: B6.25 | D44: nr | E44: I | G44: 867 | H44: B2 | J44: 808 | K44: B2 | M44: 901 | N44: D5
A45: B6.26 | B45: Business end-user experience survey - satisfied | C45: B6.26 | D45: nr | E45: I | G45: 777 | H45: B2 | J45: 723 | K45: B2 | M45: 807 | N45: D5
B47: Developer CEM
A48: B6.27 | B48: Contacts from developers about water and wastewater connections - total | C48: B6.27 | D48: nr | E48: I | G48: 64427 | H48: A1 | J48: 59884 | K48: A1 | M48: 60537 | N48: D5
A49: B6.28 | B49: Contacts from developers about water and wastewater connections - excluded contacts (wanted contacts) | C49: B6.28 | D49: nr | E49: I | G49: 45817 | H49: A1 | J49: 43107 | K49: A1 | M49: 43301 | N49: D5
A50: B6.29 | B50: Contacts from developers about water and wastewater connections - contacts adjusted for permitted exclusions | C50: B6.29 | D50: nr | E50: C | G50: =G48-G49 -> 18610 | H50: A1 | J50: =J48-J49 -> 16777 | K50: A1 | M50: =M48-M49 -> 17236 | N50: D5
...

Sheet B6A
A1: SCOTTISH WATER
A3: ANNUAL RETURN INFORMATION REQUIREMENTS 2026
A6: SECTION B : OUTPUTS TO CUSTOMERS
A7: Table B6A: Customer service: stakeholders and community
A10: Line | B10: Description | C10: Units | D10: Field | F10: Report year | I10: Report year +1 (forecast)
A11: ref. | D11: type
F12: ='B1'!F12 -> 2025-26 | G12: CG | I12: ='B1'!I12 -> 2026-27 | J12: CG
B14: Stakeholder and communities customer experience measure (CEM)
A15: B6A.1 | B15: sCEM overall score | C15: nr | D15: BF B6A.12 | F15: =F28 -> 76.58 | G15: B2 | I15: =I28 -> 78.82 | J15: D5
A16: B6A.2 | B16: Stakeholder contacts Received | C16: nr | D16: I | F16: 1346 | G16: A1 | I16: 1312 | J16: D5
A17: B6A.3 | B17: Stakeholder enquiries not responded to / deadline not met | C17: nr | D17: I | F17: 4 | G17: A1 | I17: 0 | J17: D5
A18: B6A.4 | B18: Stakeholder escalated / formal complaints | C18: nr | D18: I | F18: 0 | G18: A1 | I18: 0 | J18: D5
A19: B6A.5 | B19: Scottish Government/ regulator upheld stakeholder complaints | C19: nr | D19: I | F19: 0 | G19: A1 | I19: 0 | J19: D5
A20: B6A.6 | B20: Monthly perception survey - contact | C20: % | D20: I | F20: 0.7037 | G20: B2 | I20: 0.8 | J20: D5
A21: B6A.7 | B21: Monthly perception survey - no contact | C21: % | D21: I | F21: 0.7447 | G21: B2 | I21: 0.8594 | J21: D5
A22: B6A.8 | B22: Monthly customer perception survey - no experience no contact (hCEM) | C22: % | D22: BF B5.3 | F22: ='B5'!F17 -> 0.91490589 | G22: B2 | I22: ='B5'!I17 -> 0.9125 | J22: D5
A23: B6A.9 | B23: MSP survey (annual perception survey) | C23: % | D23: I | F23: 0.65 | G23: B2 | I23: 0.65 | J23: D5
A24: B6A.10 | B24: Local government leadership survey (annual perception survey) | C24: % | D24: I | F24: 0.38 | G24: B2 | I24: 0.45 | J24: D5
B26: Stakeholder customer experience measure score
A27: B6A.11 | B27: Stakeholder customer experience target | C27: nr | D27: I | F27: 76.5-83.5 | G27: A1 | I27: 76.5-83.5 | J27: D5
A28: B6A.12 | B28: Stakeholder customer experience - total score | C28: nr | D28: C | F28: =ROUNDDOWN(F34+F29,2) -> 76.58 | G28: B2 | I28: =ROUNDDOWN(I34+I29,2) -> 78.82 | J28: D5
A29: B6A.13 | B29: Stakeholder CEM quantitative score | C29: nr | D29: I | F29: 40.95 | G29: A1 | I29: 41.22 | J29: D5
A30: B6A.14 | B30: Stakeholder contacts received (points lost) | C30: nr | D30: I | F30: 9.01 | G30: A1 | I30: 8.78 | J30: D5
A31: B6A.15 | B31: Stakeholder contacts not responded to/deadline not met (points lost) | C31: nr | D31: I | F31: 0.04 | G31: A1 | I31: 0 | J31: D5
A32: B6A.16 | B32: Stakeholder escalated/formal complaints (points lost) | C32: nr | D32: I | F32: 0 | G32: A1 | I32: 0 | J32: D5
A33: B6A.17 | B33: Regulator upheld stakeholder complaints (points lost) | C33: nr | D33: I | F33: 0 | G33: A1 | I33: 0 | J33: D5
A34: B6A.18 | B34: Stakeholder CEM qualitative score | C34: nr | D34: I | F34: 35.63 | G34: B2 | I34: 37.6 | J34: D5
A35: B6A.19 | B35: Monthly perception survey - 'contact' (points lost) | C35: nr | D35: I | F35: 3.22 | G35: B2 | I35: 2.51 | J35: D5
A36: B6A.20 | B36: Monthly perception survey - 'no contact' (points lost) | C36: nr | D36: I | F36: 3.76 | G36: B2 | I36: 2.85 | J36: D5
A37: B6A.21 | B37: Monthly You Gov survey - 'no experience, no contact' household customers (points lost) | C37: nr | D37: I | F37: 1.73 | G37: B2 | I37: 1.79 | J37: D5
A38: B6A.22 | B38: MSP annual perception survey (points lost) | C38: nr | D38: I | F38: 2.04 | G38: B2 | I38: 2.04 | J38: D5
A39: B6A.23 | B39: Local government leadership annual perception survey (points lost) | C39: nr | D39: I | F39: 3.62 | G39: B2 | I39: 3.21 | J39: D5
A43: Prepared by: ……………………………………………...….. | C43: Date:
A45: Checked by: ……………………………………………...….. | C45: Date:
A47: Authorised by: | C47: Date: 09/06/2026

Sheet B7
A1: SCOTTISH WATER
A3: ANNUAL RETURN INFORMATION REQUIREMENTS 2026
A6: SECTION B : OUTPUTS TO CUSTOMERS
A7: Table B7: Customer care - Service Standards performance
A10: Line | B10: Description | C10: Units | D10: Field | F10: Report year -1 | I10: Report year
A11: ref. | D11: type
F12: 2024-25 | G12: CG | I12: ='B1'!F12 -> 2025-26 | J12: CG
B14: Planned Interruptions - warn you 48 hours in advance, supply restored within time given - payment if we fail to warn or your supply is not restored at the time we have given
A15: B7.1 | B15: Number of Service Standards failure payments paid automatically (planned interruptions) | C15: nr | D15: I | F15: 0 | G15: AX | I15: 0 | J15: AX
A16: B7.2 | B16: Number of Service Standards failure payments claimed (planned interruptions) | C16: nr | D16: I | F16: 5 | G16: A1 | I16: 3 | J16: A1
A17: B7.3 | B17: Total number of Service Standards failure payments made (planned interruptions ) | C17: nr | D17: C | F17: =SUM(F15:F16) -> 5 | G17: A1 | I17: =SUM(I15:I16) -> 3 | J17: A1
A18: B7.4 | B18: Total amount paid out for Service Standards failure (planned interruptions) | C18: £ | D18: I | F18: 190 | G18: A1 | I18: 90 | J18: A1
B20: Unplanned Interruptions - (burst main and so on) restore within 12 hours (48 hours for a large main supplying a large area)
A21: B7.5 | B21: Number of Service Standards failure payments paid automatically (unplanned interruptions) | C21: nr | D21: I | F21: 0 | G21: AX | I21: 0 | J21: AX
A22: B7.6 | B22: Number of Service Standards failure payments claimed (unplanned interruptions) | C22: nr | D22: I | F22: 1503 | G22: A1 | I22: 209 | J22: A1
A23: B7.7 | B23: Number of Service Standards failure payments claimed for two interruptions per year | C23: nr | D23: I | F23: 0 | G23: N | I23: 0 | J23: N
A24: B7.8 | B24: Number of Service Standards failure payments claimed for three interruptions per year | C24: nr | D24: I | F24: 0 | G24: N | I24: 0 | J24: N
A25: B7.9 | B25: Number of Service Standards failure payments claimed for four interruptions per year | C25: nr | D25: I | F25: 0 | G25: N | I25: 0 | J25: N
A26: B7.10 | B26: Number of Service Standards failure payments claimed for five interruptions per year | C26: nr | D26: I | F26: 0 | G26: N | I26: 0 | J26: N
A27: B7.11 | B27: Total number of Service Standards failure payments made (unplanned interruptions ) | C27: nr | D27: C | F27: =SUM(F21:F26) -> 1503 | G27: A1 | I27: =SUM(I21:I26) -> 209 | J27: A1
A28: B7.12 | B28: Total amount paid out for Service Standards failure (unplanned interruptions) | C28: £ | D28: I | F28: 115756.99 | G28: A1 | I28: 37215.86 | J28: A1
B30: Internal wastewater flooding - caused by wastewater from our sewers
A31: B7.13 | B31: Number of payments to domestic properties for internal flooding from sewers due to being on the register | C31: nr | D31: I | F31: 185 | G31: A1 | I31: 152 | J31: A1
A32: B7.14 | B32: Number of payments to domestic properties for internal flooding from sewers due to not being on the register | C32: nr | D32: I | F32: 136 | G32: A1 | I32: 84 | J32: A1
A33: B7.15 | B33: Total amount paid to domestic properties for internal flooding from sewers due to being on the register | C33: £ | D33: I | F33: 63618.04 | G33: A1 | I33: 58228.07 | J33: A1
A34: B7.16 | B34: Total amount paid to domestic properties for internal flooding from sewers due to not being on the register | C34: £ | D34: I | F34: 42826.01 | G34: A1 | I34: 29495 | J34: A1
A35: B7.17 | B35: Number of payments to non domestic properties for internal flooding from sewers due to being on the register | C35: nr | D35: I | F35: 0 | G35: N | I35: 0 | J35: N
A36: B7.18 | B36: Number of payments to non domestic properties for internal flooding from sewers due to not being on the register | C36: nr | D36: I | F36: 86 | G36: A1 | I36: 79 | J36: A1
A37: B7.19 | B37: Total amount paid to non domestic properties for internal flooding from sewers due to being on the register | C37: £ | D37: I | F37: 0 | G37: N | I37: 0 | J37: N
A38: B7.20 | B38: Total amount paid to non domestic properties for internal flooding from sewers due to not being on the register | C38: £ | D38: I | F38: 51039.69 | G38: A1 | I38: 53331.32 | J38: A1
B40: External wastewater flooding - caused by wastewater from our sewers
A41: B7.21 | B41: Number of payments to domestic properties for external flooding from sewers | C41: nr | D41: I | F41: 7 | G41: A1 | I41: 7 | J41: A1
A42: B7.22 | B42: Total amount paid to domestic properties for external flooding from sewers | C42: £ | D42: I | F42: 1574.23 | G42: A1 | I42: 1558.63 | J42: A1
A43: B7.23 | B43: Number of payments to non-domestic properties for external flooding from sewers | C43: nr | D43: I | F43: 0 | G43: N | I43: 0 | J43: N
A44: B7.24 | B44: Total amount paid to non-domestic properties for external flooding from sewers | C44: £ | D44: I | F44: 0 | G44: N | I44: 0 | J44: N
B46: Respond to questions about your bill and changing your payment methods - respond within 5 working days
A47: B7.25 | B47: Number not dealt with within Service Standards period | C47: nr | D47: I | F47: 0 | G47: AX | I47: 0 | J47: AX
A48: B7.26 | B48: Number of payments for failure to respond (automatic) | C48: nr | D48: I | F48: 0 | G48: AX | I48: 0 | J48: AX
A49: B7.27 | B49: Number of payments made from claims for failure to respond | C49: nr | D49: I | F49: 0 | G49: AX | I49: 0 | J49: AX
A50: B7.28 | B50: Total number of payments for failure to respond | C50: nr | D50: C | F50: =SUM(F48:F49) -> 0 | G50: AX | I50: =SUM(I48:I49) -> 0 | J50: AX
...

Sheet B8
A1: SCOTTISH WATER
A3: ANNUAL RETURN INFORMATION REQUIREMENTS 2026
A6: SECTION B : OUTPUTS TO CUSTOMERS
A7: Table B8: Water infrastructure and sewerage service
A10: Line | B10: Description | C10: Units | D10: Field | F10: Report year | I10: Report year +1 (forecast) | L10: Report year (Calendar year) 2025
A11: ref. | D11: type
F12: ='B1'!F12 -> 2025-26 | G12: CG | I12: ='B1'!I12 -> 2026-27 | J12: CG | L12: Reported | M12: CG | N12: Non-reported | O12: CG | P12: Other | Q12: CG | R12: Total | S12: CG
B14: Water service - distribution
A15: B8.1 | B15: Mains bursts per 1000 km | C15: nr | D15: I | F15: 176.11 | G15: B2 | I15: 168.63 | J15: B3
B17: Sewerage service
A18: B8.2 | B18: Total number of sewer collapses | C18: nr | D18: I | F18: 2831 | G18: B4 | I18: 2987 | J18: B4
A19: B8.3 | B19: Sewer collapses per 1000 km | C19: nr | D19: I | F19: 50.7 | G19: B4 | I19: 53.49 | J19: B4
A20: B8.4 | B20: Total number of blockages | C20: nr | D20: I | F20: 35135 | G20: A1 | I20: 35135 | J20: A1
A21: B8.5 | B21: Blockages per 1000km | C21: nr | D21: I | F21: 629.26 | G21: A1 | I21: 629.26 | J21: A1
B23: Discharges
A24: B8.6 | B24: Number of unsatisfactory intermittent discharges at 31 December of the Report Year | C24: nr | D24: I | R24: 888
A25: B8.7 | B25: Number of intermittent discharges at 31 December of Report Year | C25: nr | D25: I | R25: 4237 | S25: A3
A26: B8.8 | B26: Percentage of unsatisfactory intermittent discharges | C26: % | D26: C | R26: =R24/R25*100 -> 20.958225
A27: B8.9 | B27: Number of discharges monitored at 1 January of Report Year | C27: nr | D27: I/C | L27: 151 | M27: B4 | N27: 127 | O27: B4 | P27: 1002 | Q27: B4 | R27: =L27+N27+P27 -> 1280 | S27: B4
A28: B8.10 | B28: Number of discharges monitored at 31 December of Report Year | C28: nr | D28: I/C | L28: 151 | M28: B4 | N28: 127 | O28: B4 | P28: 1846 | Q28: B4 | R28: =L28+N28+P28 -> 2124 | S28: B4
A29: B8.11 | B29: Percentage of discharges monitored | C29: % | D29: C | R29: =R28/R25*100 -> 50.129809 | S29: B4
A30: B8.12 | B30: Discharges monitored uptime | C30: % | D30: I | L30: 86.49 | M30: B4 | N30: 24.33 | O30: B4 | P30: 0 | Q30: not rated | R30: 15.67 | S30: B4
A31: B8.13 | B31: Number of spills | C31: nr | D31: I | L31: 15445 | M31: B4 | N31: 8227 | O31: B4 | R31: =L31+N31 -> 23672 | S31: B4
A32: B8.14 | B32: Average number of spills per monitored discharge | C32: nr | D32: C | L32: =L31/L27 -> 102.28477 | M32: B4 | N32: =N31/N27 -> 64.779528 | O32: B4 | R32: =R31/(L27+N27) -> 85.151079 | S32: B4
A33: B8.15 | B33: Volume of spills | C33: m3 | D33: I | L33: 22759248 | M33: B4
A34: B8.16 | B34: Total duration of spills | C34: hours:minutes:seconds | D34: I | L34: 95435:07:42 | M34: B4 | N34: 55250:35:09 | O34: B4
B36: Leakage
A37: B8.17 | B37: Leakage | C37: % | D37: C | F37: =F38/F39 -> 0.2424448 | I37: =I38/I39 -> 0.24001891
A38: B8.18 | B38: Total leakage (post-MLE adjustment) | C38: Ml/d | D38: I | F38: 452.637 | G38: B3 | I38: 446.8 | J38: B3
A39: B8.19 | B39: Net distribution input treated water (water put into supply) | C39: Ml/d | D39: I | F39: 1866.9693 | G39: B2 | I39: 1861.52 | J39: B2
A40: B8.20 | B40: Leakage target | C40: Ml/d | D40: I | F40: 450 | I40: 448
A41: B8.21 | B41: Leakage performance against the target | C41: % | D41: C | F41: =(F40/F38-1)*-1 -> 0.0058258605 | I41: =(I40/I38-1)*-1 -> -0.0026857654
A44: Prepared by: ……………………………………………...….. | C44: Date:
A46: Checked by: ……………………………………………...….. | C46: Date:
A48: Authorised by: | C48: Date: 08/06/2026

Sheet B9
A1: SCOTTISH WATER
A3: ANNUAL RETURN INFORMATION REQUIREMENTS 2026
A6: SECTION B : OUTPUTS TO CUSTOMERS
A7: Table B9: SoSI summary
A10: Line | B10: Description | C10: Units | D10: Field | F10: B9a 1 in 40 LoS Dry Year Annual Average | G10: B9b 1 in 40 LoS Critical Period | H10: B9c 1 in 100 LoS Dry Year Annual Average | I10: B9d 1 in 100 LoS Critical Period | J10: B9e 1 in 150 LoS Dry Year Annual Average | K10: B9f 1 in 150 LoS Critical Period
A11: ref. | D11: type
B15: Security of Supply Index
A16: B9.1 | B16: Count of WRZ | C16: nr | D16: C | F16: =IF(COUNTA(B9a!$B$13:$B$262)=0,NA(),COUNTA(B9a!$B$13:$B$262)) -> 184 | G16: =IF(COUNTA(B9b!$B$13:$B$262)=0,NA(),COUNTA(B9b!$B$13:$B$262)) -> 184 | H16: =IF(COUNTA(B9c!$B$13:$B$262)=0,NA(),COUNTA(B9c!$B$13:$B$262)) -> 184 | I16: =IF(COUNTA(B9d!$B$13:$B$262)=0,NA(),COUNTA(B9d!$B$13:$B$262)) -> 184 | J16: =IF(COUNTA(B9e!$B$13:$B$262)=0,NA(),COUNTA(B9e!$B$13:$B$262)) -> 184 | K16: =IF(COUNTA(B9f!$B$13:$B$262)=0,NA(),COUNTA(B9f!$B$13:$B$262)) -> 184
A17: B9.2 | B17: Count of deficit WRZ | C17: nr | D17: C | F17: =IF(ISERROR(F16),NA(),COUNTIF(B9a!$K$13:$K$262,"<"&0)) -> 46 | G17: =IF(ISERROR(G16),NA(),COUNTIF(B9b!$K$13:$K$262,"<"&0)) -> 82 | H17: =IF(ISERROR(H16),NA(),COUNTIF(B9c!$K$13:$K$262,"<"&0)) -> 53 | I17: =IF(ISERROR(I16),NA(),COUNTIF(B9d!$K$13:$K$262,"<"&0)) -> 87 | J17: =IF(ISERROR(J16),NA(),COUNTIF(B9e!$K$13:$K$262,"<"&0)) -> 55 | K17: =IF(ISERROR(K16),NA(),COUNTIF(B9f!$K$13:$K$262,"<"&0)) -> 89
A18: B9.3 | B18: Raw SoSI score | C18: nr | D18: C | F18: =IF(ISERROR(F16),NA(),B9a!$Q$263) -> 47.164656 | G18: =IF(ISERROR(G16),NA(),B9b!$Q$263) -> 31.006613 | H18: =IF(ISERROR(H16),NA(),B9c!$Q$263) -> -5.9801759 | I18: =IF(ISERROR(I16),NA(),B9d!$Q$263) -> -22.413171 | J18: =IF(ISERROR(J16),NA(),B9e!$Q$263) -> -48.885792 | K18: =IF(ISERROR(K16),NA(),B9f!$Q$263) -> -65.610213
A19: B9.4 | B19: Final SoSI score (rounded down) | C19: nr | D19: C | F19: =ROUNDDOWN(F18,0) -> 47 | G19: =ROUNDDOWN(G18,0) -> 31 | H19: =ROUNDDOWN(H18,0) -> -5 | I19: =ROUNDDOWN(I18,0) -> -22 | J19: =ROUNDDOWN(J18,0) -> -48 | K19: =ROUNDDOWN(K18,0) -> -65
A20: B9.5 | B20: SoSI performance band | C20: text | D20: C | F20: =_xlfn.IFS(F18=100,"A",F18>=90,"B",F18>=50,"C",F18<50,"D") -> D | G20: =_xlfn.IFS(G18=100,"A",G18>=90,"B",G18>=50,"C",G18<50,"D") -> D | H20: =_xlfn.IFS(H18=100,"A",H18>=90,"B",H18>=50,"C",H18<50,"D") -> D | I20: =_xlfn.IFS(I18=100,"A",I18>=90,"B",I18>=50,"C",I18<50,"D") -> D | J20: =_xlfn.IFS(J18=100,"A",J18>=90,"B",J18>=50,"C",J18<50,"D") -> D | K20: =_xlfn.IFS(K18=100,"A",K18>=90,"B",K18>=50,"C",K18<50,"D") -> D
A21: B9.6 | B21: Percentage of population in surplus zones | C21: % | D21: C | F21: =IF(ISERROR(F16),NA(),B9a!$R$263) -> 0.69382885 | G21: =IF(ISERROR(G16),NA(),B9b!$R$263) -> 0.68253796 | H21: =IF(ISERROR(H16),NA(),B9c!$R$263) -> 0.59691792 | I21: =IF(ISERROR(I16),NA(),B9d!$R$263) -> 0.58586223 | J21: =IF(ISERROR(J16),NA(),B9e!$R$263) -> 0.4653808 | K21: =IF(ISERROR(K16),NA(),B9f!$R$263) -> 0.4543251
F25: Reference table for SoSI absolute performance:
F26: SoSI band | G26: SoSI score | H26: OPA points | I26: Weighted OPA points | J26: Description
F27: A | G27: 100 | H27: 50 | I27: 12.5 | J27: No deficit against target headroom
F28: B | G28: 90 - 99 | H28: 45 | I28: 11.25 | J28: Marginal deficit against target headroom
F29: C | G29: 50 - 89 | H29: 30 | I29: 7.5 | J29: Significant deficit against target headroom
F30: D | G30: <50 | H30: 5 | I30: 1.25 | J30: Large deficit against target headroom
A35: Prepared by: ……………………………………………...….. | C35: Date:
A37: Checked by: ……………………………………………...….. | C37: Date:
A39: Authorised by: | C39: Date:16/06/2026

Sheet B9a
A1: SCOTTISH WATER
A3: ANNUAL RETURN INFORMATION REQUIREMENTS 2026
A6: SECTION B : OUTPUTS TO CUSTOMERS
A7: Table B9a: Security of Supply Index - 1 in 40 Level of Service - dry year annual average
B9: 1 | C9: 2 | D9: 3 | E9: 4 | F9: 5 | G9: 6 | H9: 7 | J9: 8 | K9: 9 | M9: 10 | N9: 11 | O9: 12 | P9: 13 | Q9: 14 | R9: 15
B10: Water Resource Zone | C10: WAFU (SEPA definition) (Ml/d) | D10: Bulk imports (Ml/d) | E10: Bulk exports (Ml/d) | F10: Dry year distribution input (Ml/d) | G10: Reporting year distribution input (Ml/d) | H10: Dry year available headroom (Ml/d) | J10: Target headroom (Ml/d) | K10: Surplus/ deficit (Ml/d) | M10: Percentage deficit (%) | N10: Zonal population | O10: Percentage of total population with headroom deficit | P10: Zonal index (%age deficit2 x % population affected x 100) | Q10: Security of Supply Index | R10: Percentage of population in surplus zones
B13: WRZ000001 - Greenock WRZ | C13: 42.456296 | D13: 0 | E13: 0 | F13: 35.967944 | G13: 34.920334 | H13: =+C13+D13-E13-F13 -> 6.4883517 | J13: 1.3635448 | K13: =+H13-J13 -> 5.1248069 | M13: =+IF(ISERROR(K13/(F13+J13)),0,K13/(F13+J13)) -> 0.1372784 | N13: 99.672869 | O13: =IF(K13<0,N13/$N$263,0) -> 0 | P13: =(M13^2*O13)*100 -> 0
B14: WRZ000007 - Clatto & Lintrathen & Whitehillocks WRZ | C14: 98.941122 | D14: 0 | E14: 0 | F14: 101.40311 | G14: 98.449619 | H14: =+C14+D14-E14-F14 -> -2.4619853 | J14: 9.0238625 | K14: =+H14-J14 -> -11.485848 | M14: =+IF(ISERROR(K14/(F14+J14)),0,K14/(F14+J14)) -> -0.10401307 | N14: 307.29629 | O14: =IF(K14<0,N14/$N$263,0) -> 0.056596359 | P14: =(M14^2*O14)*100 -> 0.061230006
B15: WRZ000008 - Perth WRZ | C15: 23.385681 | D15: 0 | E15: 0 | F15: 18.606498 | G15: 18.064561 | H15: =+C15+D15-E15-F15 -> 4.7791836 | J15: 0.36003573 | K15: =+H15-J15 -> 4.4191479 | M15: =+IF(ISERROR(K15/(F15+J15)),0,K15/(F15+J15)) -> 0.23299713 | N15: 63.883377 | O15: =IF(K15<0,N15/$N$263,0) -> 0 | P15: =(M15^2*O15)*100 -> 0
B16: WRZ000010 - Killiecrankie & Kenmore WRZ | C16: 3.3506156 | D16: 0 | E16: 0 | F16: 4.9682544 | G16: 4.823548 | H16: =+C16+D16-E16-F16 -> -1.6176389 | J16: 0.58337244 | K16: =+H16-J16 -> -2.2010113 | M16: =+IF(ISERROR(K16/(F16+J16)),0,K16/(F16+J16)) -> -0.3964624 | N16: 8.4643526 | O16: =IF(K16<0,N16/$N$263,0) -> 0.0015589239 | P16: =(M16^2*O16)*100 -> 0.024503545
B17: WRZ000011 - Kinloch Rannoch WRZ | C17: 0.29682845 | D17: 0 | E17: 0 | F17: 0.1236 | G17: 0.12 | H17: =+C17+D17-E17-F17 -> 0.17322845 | J17: 0.005306148 | K17: =+H17-J17 -> 0.1679223 | M17: =+IF(ISERROR(K17/(F17+J17)),0,K17/(F17+J17)) -> 1.302671 | N17: 0.34729657 | O17: =IF(K17<0,N17/$N$263,0) -> 0 | P17: =(M17^2*O17)*100 -> 0
B18: WRZ000012 - Kirkmichael WRZ | C18: 0.1791 | D18: 0 | E18: 0 | F18: 0.15910616 | G18: 0.154472 | H18: =+C18+D18-E18-F18 -> 0.01999384 | J18: 0.01801559 | K18: =+H18-J18 -> 0.0019782495 | M18: =+IF(ISERROR(K18/(F18+J18)),0,K18/(F18+J18)) -> 0.011168868 | N18: 0.40331214 | O18: =IF(K18<0,N18/$N$263,0) -> 0 | P18: =(M18^2*O18)*100 -> 0
B19: WRZ000016 - Castle Moffat & Hopes WRZ | C19: 25.549432 | D19: 0 | E19: 0 | F19: 26.189232 | G19: 25.426439 | H19: =+C19+D19-E19-F19 -> -0.6398005 | J19: 2.6293989 | K19: =+H19-J19 -> -3.2691994 | M19: =+IF(ISERROR(K19/(F19+J19)),0,K19/(F19+J19)) -> -0.11344048 | N19: 73.714486 | O19: =IF(K19<0,N19/$N$263,0) -> 0.013576381 | P19: =(M19^2*O19)*100 -> 0.017471096
B20: WRZ000018 - Invercannie & Mannofield WRZ | C20: 112.74755 | D20: 0 | E20: 0 | F20: 101.65613 | G20: 98.695273 | H20: =+C20+D20-E20-F20 -> 11.091415 | J20: 1.8694563 | K20: =+H20-J20 -> 9.2219586 | M20: =+IF(ISERROR(K20/(F20+J20)),0,K20/(F20+J20)) -> 0.089079027 | N20: 354.58453 | O20: =IF(K20<0,N20/$N$263,0) -> 0 | P20: =(M20^2*O20)*100 -> 0
B21: WRZ000019 - Ballater WRZ | C21: 1.746 | D21: 0 | E21: 0 | F21: 1.0323587 | G21: 1.00229 | H21: =+C21+D21-E21-F21 -> 0.7136413 | J21: 0.045527019 | K21: =+H21-J21 -> 0.66811428 | M21: =+IF(ISERROR(K21/(F21+J21)),0,K21/(F21+J21)) -> 0.61983777 | N21: 3.5986568 | O21: =IF(K21<0,N21/$N$263,0) -> 0 | P21: =(M21^2*O21)*100 -> 0
B22: WRZ000023 - Herricks WRZ | C22: 0.55523919 | D22: 0 | E22: 0 | F22: 1.7961387 | G22: 1.743824 | H22: =+C22+D22-E22-F22 -> -1.2408995 | J22: 0.15917381 | K22: =+H22-J22 -> -1.4000733 | M22: =+IF(ISERROR(K22/(F22+J22)),0,K22/(F22+J22)) -> -0.71603558 | N22: 5.4495267 | O22: =IF(K22<0,N22/$N$263,0) -> 0.0010036677 | P22: =(M22^2*O22)*100 -> 0.051458742
B23: WRZ000024 - Braemar WRZ | C23: 0.46226014 | D23: 0 | E23: 0 | F23: 0.23159962 | G23: 0.224854 | H23: =+C23+D23-E23-F23 -> 0.23066052 | J23: 0.010558627 | K23: =+H23-J23 -> 0.2201019 | M23: =+IF(ISERROR(K23/(F23+J23)),0,K23/(F23+J23)) -> 0.90891762 | N23: 0.71803188 | O23: =IF(K23<0,N23/$N$263,0) -> 0 | P23: =(M23^2*O23)*100 -> 0
B24: WRZ000026 - Craighead WRZ | C24: 2 | D24: 0 | E24: 0 | F24: 1.4415458 | G24: 1.399559 | H24: =+C24+D24-E24-F24 -> 0.55845423 | J24: 0.051938894 | K24: =+H24-J24 -> 0.50651534 | M24: =+IF(ISERROR(K24/(F24+J24)),0,K24/(F24+J24)) -> 0.33915001 | N24: 5.355757 | O24: =IF(K24<0,N24/$N$263,0) -> 0 | P24: =(M24^2*O24)*100 -> 0
... B196: WRZ000339 - Coulter WRZ | C196: 13.742961 | D196: 0 | E196: 0 | F196: 8.7969097 | G196: 8.540689 | H196: =+C196+D196-E196-F196 -> 4.9460516 | J196: 0.97645697 | K196: =+H196-J196 -> 3.9695947 | M196: =+IF(ISERROR(K196/(F196+J196)),0,K196/(F196+J196)) -> 0.40616451 | N196: 18.579422 | O196: =IF(K196<0,N196/$N$263,0) -> 0 | P196: =(M196^2*O196)*100 -> 0
H197: =+C197+D197-E197-F197 -> 0 | K197: =+H197-J197 -> 0 | M197: =+IF(ISERROR(K197/(F197+J197)),0,K197/(F197+J197)) -> 0 | O197: =IF(K197<0,N197/$N$263,0) -> 0 | P197: =(M197^2*O197)*100 -> 0
H198: =+C198+D198-E198-F198 -> 0 | K198: =+H198-J198 -> 0 | M198: =+IF(ISERROR(K198/(F198+J198)),0,K198/(F198+J198)) -> 0 | O198: =IF(K198<0,N198/$N$263,0) -> 0 | P198: =(M198^2*O198)*100 -> 0
H199: =+C199+D199-E199-F199 -> 0 | K199: =+H199-J199 -> 0 | M199: =+IF(ISERROR(K199/(F199+J199)),0,K199/(F199+J199)) -> 0 | O199: =IF(K199<0,N199/$N$263,0) -> 0 | P199: =(M199^2*O199)*100 -> 0
H200: =+C200+D200-E200-F200 -> 0 | K200: =+H200-J200 -> 0 | M200: =+IF(ISERROR(K200/(F200+J200)),0,K200/(F200+J200)) -> 0 | O200: =IF(K200<0,N200/$N$263,0) -> 0 | P200: =(M200^2*O200)*100 -> 0
H201: =+C201+D201-E201-F201 -> 0 | K201: =+H201-J201 -> 0 | M201: =+IF(ISERROR(K201/(F201+J201)),0,K201/(F201+J201)) -> 0 | O201: =IF(K201<0,N201/$N$263,0) -> 0 | P201: =(M201^2*O201)*100 -> 0
H202: =+C202+D202-E202-F202 -> 0 | K202: =+H202-J202 -> 0 | M202: =+IF(ISERROR(K202/(F202+J202)),0,K202/(F202+J202)) -> 0 | O202: =IF(K202<0,N202/$N$263,0) -> 0 | P202: =(M202^2*O202)*100 -> 0
H203: =+C203+D203-E203-F203 -> 0 | K203: =+H203-J203 -> 0 | M203: =+IF(ISERROR(K203/(F203+J203)),0,K203/(F203+J203)) -> 0 | O203: =IF(K203<0,N203/$N$263,0) -> 0 | P203: =(M203^2*O203)*100 -> 0
H204: =+C204+D204-E204-F204 -> 0 | K204: =+H204-J204 -> 0 | M204: =+IF(ISERROR(K204/(F204+J204)),0,K204/(F204+J204)) -> 0 | O204: =IF(K204<0,N204/$N$263,0) -> 0 | P204: =(M204^2*O204)*100 -> 0
H205: =+C205+D205-E205-F205 -> 0 | K205: =+H205-J205 -> 0 | M205: =+IF(ISERROR(K205/(F205+J205)),0,K205/(F205+J205)) -> 0 | O205: =IF(K205<0,N205/$N$263,0) -> 0 | P205: =(M205^2*O205)*100 -> 0
H206: =+C206+D206-E206-F206 -> 0 | K206: =+H206-J206 -> 0 | M206: =+IF(ISERROR(K206/(F206+J206)),0,K206/(F206+J206)) -> 0 | O206: =IF(K206<0,N206/$N$263,0) -> 0 | P206: =(M206^2*O206)*100 -> 0
H207: =+C207+D207-E207-F207 -> 0 | K207: =+H207-J207 -> 0 | M207: =+IF(ISERROR(K207/(F207+J207)),0,K207/(F207+J207)) -> 0 | O207: =IF(K207<0,N207/$N$263,0) -> 0 | P207: =(M207^2*O207)*100 -> 0
H208: =+C208+D208-E208-F208 -> 0 | K208: =+H208-J208 -> 0 | M208: =+IF(ISERROR(K208/(F208+J208)),0,K208/(F208+J208)) -> 0 | O208: =IF(K208<0,N208/$N$263,0) -> 0 | P208: =(M208^2*O208)*100 -> 0
... H262: =+C262+D262-E262-F262 -> 0 | K262: =+H262-J262 -> 0 | M262: =+IF(ISERROR(K262/(F262+J262)),0,K262/(F262+J262)) -> 0 | O262: =IF(K262<0,N262/$N$263,0) -> 0 | P262: =(M262^2*O262)*100 -> 0
B263: Total | C263: =SUM(C13:C262) -> 2234.5153 | D263: =SUM(D13:D262) -> 0 | E263: =SUM(E13:E262) -> 0 | F263: =SUM(F13:F262) -> 1922.9783 | G263: =SUM(G13:G262) -> 1866.9693 | N263: =SUM(N13:N262) -> 5429.6124 | P263: =SUM(P13:P262) -> 0.52835344 | Q263: =(1-P263)*100 -> 47.164656 | R263: =1-SUM(O13:O262) -> 0.69382885
A268: Prepared by: ……………………………………………...….. | C268: Date:
A270: Checked by: ……………………………………………...….. | C270: Date:
A272: Authorised by: | C272: Date:16/06/2026

Sheet B9b
A1: SCOTTISH WATER
A3: ANNUAL RETURN INFORMATION REQUIREMENTS 2026
A6: SECTION B : OUTPUTS TO CUSTOMERS
A7: Table B9b: Security of Supply Index - 1 in 40 Level of Service - critical period
B9: 1 | C9: 2 | D9: 3 | E9: 4 | F9: 5 | G9: 6 | H9: 7 | J9: 8 | K9: 9 | M9: 10 | N9: 11 | O9: 12 | P9: 13 | Q9: 14 | R9: 15
B10: Water Resource Zone | C10: WAFU (SEPA definition) (Ml/d) | D10: Bulk imports (Ml/d) | E10: Bulk exports (Ml/d) | F10: Dry year distribution input (Ml/d) | G10: Reporting year distribution input (Ml/d) | H10: Dry year available headroom (Ml/d) | J10: Target headroom (Ml/d) | K10: Surplus/ deficit (Ml/d) | M10: Percentage deficit (%) | N10: Zonal population | O10: Percentage of total population with headroom deficit | P10: Zonal index (%age deficit2 x % population affected x 100) | Q10: Security of Supply Index | R10: Percentage of population in surplus zones
B13: WRZ000001 - Greenock WRZ | C13: 42.456296 | D13: 0 | E13: 0 | F13: 35.967944 | G13: 34.920334 | H13: =+C13+D13-E13-F13 -> 6.4883517 | J13: 1.3635448 | K13: =+H13-J13 -> 5.1248069 | M13: =+IF(ISERROR(K13/(F13+J13)),0,K13/(F13+J13)) -> 0.1372784 | N13: 99.672869 | O13: =IF(K13<0,N13/$N$263,0) -> 0 | P13: =(M13^2*O13)*100 -> 0
B14: WRZ000007 - Clatto & Lintrathen & Whitehillocks WRZ | C14: 98.941122 | D14: 0 | E14: 0 | F14: 101.40311 | G14: 98.449619 | H14: =+C14+D14-E14-F14 -> -2.4619853 | J14: 9.0238625 | K14: =+H14-J14 -> -11.485848 | M14: =+IF(ISERROR(K14/(F14+J14)),0,K14/(F14+J14)) -> -0.10401307 | N14: 307.29629 | O14: =IF(K14<0,N14/$N$263,0) -> 0.056596359 | P14: =(M14^2*O14)*100 -> 0.061230006
B15: WRZ000008 - Perth WRZ | C15: 23.385681 | D15: 0 | E15: 0 | F15: 18.606498 | G15: 18.064561 | H15: =+C15+D15-E15-F15 -> 4.7791836 | J15: 0.36003573 | K15: =+H15-J15 -> 4.4191479 | M15: =+IF(ISERROR(K15/(F15+J15)),0,K15/(F15+J15)) -> 0.23299713 | N15: 63.883377 | O15: =IF(K15<0,N15/$N$263,0) -> 0 | P15: =(M15^2*O15)*100 -> 0
B16: WRZ000010 - Killiecrankie & Kenmore WRZ | C16: 3.4320388 | D16: 0 | E16: 0 | F16: 5.8892544 | G16: 4.823548 | H16: =+C16+D16-E16-F16 -> -2.4572157 | J16: 0.69151626 | K16: =+H16-J16 -> -3.1487319 | M16: =+IF(ISERROR(K16/(F16+J16)),0,K16/(F16+J16)) -> -0.47847464 | N16: 8.4643526 | O16: =IF(K16<0,N16/$N$263,0) -> 0.0015589239 | P16: =(M16^2*O16)*100 -> 0.03568969
B17: WRZ000011 - Kinloch Rannoch WRZ | C17: 0.29682845 | D17: 0 | E17: 0 | F17: 0.1236 | G17: 0.12 | H17: =+C17+D17-E17-F17 -> 0.17322845 | J17: 0.005306148 | K17: =+H17-J17 -> 0.1679223 | M17: =+IF(ISERROR(K17/(F17+J17)),0,K17/(F17+J17)) -> 1.302671 | N17: 0.34729657 | O17: =IF(K17<0,N17/$N$263,0) -> 0 | P17: =(M17^2*O17)*100 -> 0
B18: WRZ000012 - Kirkmichael WRZ | C18: 0.18 | D18: 0 | E18: 0 | F18: 0.21638438 | G18: 0.154472 | H18: =+C18+D18-E18-F18 -> -0.036384378 | J18: 0.024501203 | K18: =+H18-J18 -> -0.060885581 | M18: =+IF(ISERROR(K18/(F18+J18)),0,K18/(F18+J18)) -> -0.25275727 | N18: 0.40331214 | O18: =IF(K18<0,N18/$N$263,0) -> 7.4280099e-05 | P18: =(M18^2*O18)*100 -> 0.00047454759
B19: WRZ000016 - Castle Moffat & Hopes WRZ | C19: 25.549432 | D19: 0 | E19: 0 | F19: 26.189232 | G19: 25.426439 | H19: =+C19+D19-E19-F19 -> -0.6398005 | J19: 2.6293989 | K19: =+H19-J19 -> -3.2691994 | M19: =+IF(ISERROR(K19/(F19+J19)),0,K19/(F19+J19)) -> -0.11344048 | N19: 73.714486 | O19: =IF(K19<0,N19/$N$263,0) -> 0.013576381 | P19: =(M19^2*O19)*100 -> 0.017471096
B20: WRZ000018 - Invercannie & Mannofield WRZ | C20: 116.22755 | D20: 0 | E20: 0 | F20: 113.28913 | G20: 98.695273 | H20: =+C20+D20-E20-F20 -> 2.9384148 | J20: 2.0833871 | K20: =+H20-J20 -> 0.85502769 | M20: =+IF(ISERROR(K20/(F20+J20)),0,K20/(F20+J20)) -> 0.0074110169 | N20: 354.58453 | O20: =IF(K20<0,N20/$N$263,0) -> 0 | P20: =(M20^2*O20)*100 -> 0
B21: WRZ000019 - Ballater WRZ | C21: 1.8 | D21: 0 | E21: 0 | F21: 1.3123587 | G21: 1.00229 | H21: =+C21+D21-E21-F21 -> 0.4876413 | J21: 0.057875019 | K21: =+H21-J21 -> 0.42976628 | M21: =+IF(ISERROR(K21/(F21+J21)),0,K21/(F21+J21)) -> 0.31364451 | N21: 3.5986568 | O21: =IF(K21<0,N21/$N$263,0) -> 0 | P21: =(M21^2*O21)*100 -> 0
B22: WRZ000023 - Herricks WRZ | C22: 0.52812695 | D22: 0 | E22: 0 | F22: 2.1194437 | G22: 1.743824 | H22: =+C22+D22-E22-F22 -> -1.5913167 | J22: 0.1878251 | K22: =+H22-J22 -> -1.7791418 | M22: =+IF(ISERROR(K22/(F22+J22)),0,K22/(F22+J22)) -> -0.77110298 | N22: 5.4495267 | O22: =IF(K22<0,N22/$N$263,0) -> 0.0010036677 | P22: =(M22^2*O22)*100 -> 0.059678063
B23: WRZ000024 - Braemar WRZ | C23: 0.44628104 | D23: 0 | E23: 0 | F23: 0.31497548 | G23: 0.224854 | H23: =+C23+D23-E23-F23 -> 0.13130556 | J23: 0.014359732 | K23: =+H23-J23 -> 0.11694582 | M23: =+IF(ISERROR(K23/(F23+J23)),0,K23/(F23+J23)) -> 0.35509663 | N23: 0.71803188 | O23: =IF(K23<0,N23/$N$263,0) -> 0 | P23: =(M23^2*O23)*100 -> 0
B24: WRZ000026 - Craighead WRZ | C24: 2 | D24: 0 | E24: 0 | F24: 1.7245458 | G24: 1.399559 | H24: =+C24+D24-E24-F24 -> 0.27545423 | J24: 0.062135384 | K24: =+H24-J24 -> 0.21331885 | M24: =+IF(ISERROR(K24/(F24+J24)),0,K24/(F24+J24)) -> 0.11939391 | N24: 5.355757 | O24: =IF(K24<0,N24/$N$263,0) -> 0 | P24: =(M24^2*O24)*100 -> 0
... B196: WRZ000339 - Coulter WRZ | C196: 13.742961 | D196: 0 | E196: 0 | F196: 8.7969097 | G196: 8.540689 | H196: =+C196+D196-E196-F196 -> 4.9460516 | J196: 0.97645697 | K196: =+H196-J196 -> 3.9695947 | M196: =+IF(ISERROR(K196/(F196+J196)),0,K196/(F196+J196)) -> 0.40616451 | N196: 18.579422 | O196: =IF(K196<0,N196/$N$263,0) -> 0 | P196: =(M196^2*O196)*100 -> 0
H197: =+C197+D197-E197-F197 -> 0 | K197: =+H197-J197 -> 0 | M197: =+IF(ISERROR(K197/(F197+J197)),0,K197/(F197+J197)) -> 0 | O197: =IF(K197<0,N197/$N$263,0) -> 0 | P197: =(M197^2*O197)*100 -> 0
H198: =+C198+D198-E198-F198 -> 0 | K198: =+H198-J198 -> 0 | M198: =+IF(ISERROR(K198/(F198+J198)),0,K198/(F198+J198)) -> 0 | O198: =IF(K198<0,N198/$N$263,0) -> 0 | P198: =(M198^2*O198)*100 -> 0
H199: =+C199+D199-E199-F199 -> 0 | K199: =+H199-J199 -> 0 | M199: =+IF(ISERROR(K199/(F199+J199)),0,K199/(F199+J199)) -> 0 | O199: =IF(K199<0,N199/$N$263,0) -> 0 | P199: =(M199^2*O199)*100 -> 0
H200: =+C200+D200-E200-F200 -> 0 | K200: =+H200-J200 -> 0 | M200: =+IF(ISERROR(K200/(F200+J200)),0,K200/(F200+J200)) -> 0 | O200: =IF(K200<0,N200/$N$263,0) -> 0 | P200: =(M200^2*O200)*100 -> 0
H201: =+C201+D201-E201-F201 -> 0 | K201: =+H201-J201 -> 0 | M201: =+IF(ISERROR(K201/(F201+J201)),0,K201/(F201+J201)) -> 0 | O201: =IF(K201<0,N201/$N$263,0) -> 0 | P201: =(M201^2*O201)*100 -> 0
H202: =+C202+D202-E202-F202 -> 0 | K202: =+H202-J202 -> 0 | M202: =+IF(ISERROR(K202/(F202+J202)),0,K202/(F202+J202)) -> 0 | O202: =IF(K202<0,N202/$N$263,0) -> 0 | P202: =(M202^2*O202)*100 -> 0
H203: =+C203+D203-E203-F203 -> 0 | K203: =+H203-J203 -> 0 | M203: =+IF(ISERROR(K203/(F203+J203)),0,K203/(F203+J203)) -> 0 | O203: =IF(K203<0,N203/$N$263,0) -> 0 | P203: =(M203^2*O203)*100 -> 0
H204: =+C204+D204-E204-F204 -> 0 | K204: =+H204-J204 -> 0 | M204: =+IF(ISERROR(K204/(F204+J204)),0,K204/(F204+J204)) -> 0 | O204: =IF(K204<0,N204/$N$263,0) -> 0 | P204: =(M204^2*O204)*100 -> 0
H205: =+C205+D205-E205-F205 -> 0 | K205: =+H205-J205 -> 0 | M205: =+IF(ISERROR(K205/(F205+J205)),0,K205/(F205+J205)) -> 0 | O205: =IF(K205<0,N205/$N$263,0) -> 0 | P205: =(M205^2*O205)*100 -> 0
H206: =+C206+D206-E206-F206 -> 0 | K206: =+H206-J206 -> 0 | M206: =+IF(ISERROR(K206/(F206+J206)),0,K206/(F206+J206)) -> 0 | O206: =IF(K206<0,N206/$N$263,0) -> 0 | P206: =(M206^2*O206)*100 -> 0
H207: =+C207+D207-E207-F207 -> 0 | K207: =+H207-J207 -> 0 | M207: =+IF(ISERROR(K207/(F207+J207)),0,K207/(F207+J207)) -> 0 | O207: =IF(K207<0,N207/$N$263,0) -> 0 | P207: =(M207^2*O207)*100 -> 0
H208: =+C208+D208-E208-F208 -> 0 | K208: =+H208-J208 -> 0 | M208: =+IF(ISERROR(K208/(F208+J208)),0,K208/(F208+J208)) -> 0 | O208: =IF(K208<0,N208/$N$263,0) -> 0 | P208: =(M208^2*O208)*100 -> 0
... H262: =+C262+D262-E262-F262 -> 0 | K262: =+H262-J262 -> 0 | M262: =+IF(ISERROR(K262/(F262+J262)),0,K262/(F262+J262)) -> 0 | O262: =IF(K262<0,N262/$N$263,0) -> 0 | P262: =(M262^2*O262)*100 -> 0
B263: Total | C263: =SUM(C13:C262) -> 2239.2118 | D263: =SUM(D13:D262) -> 0 | E263: =SUM(E13:E262) -> 0 | F263: =SUM(F13:F262) -> 1955.8607 | G263: =SUM(G13:G262) -> 1866.9693 | N263: =SUM(N13:N262) -> 5429.6124 | P263: =SUM(P13:P262) -> 0.68993387 | Q263: =(1-P263)*100 -> 31.006613 | R263: =1-SUM(O13:O262) -> 0.68253796
A268: Prepared by: ……………………………………………...….. | C268: Date:
A270: Checked by: ……………………………………………...….. | C270: Date:
A272: Authorised by: | C272: Date:16/06/2026

Sheet B9c
A1: SCOTTISH WATER
A3: ANNUAL RETURN INFORMATION REQUIREMENTS 2026
A6: SECTION B : OUTPUTS TO CUSTOMERS
A7: Table B9c: Security of Supply Index - 1 in 100 Level of Service - dry year annual average
B9: 1 | C9: 2 | D9: 3 | E9: 4 | F9: 5 | G9: 6 | H9: 7 | J9: 8 | K9: 9 | M9: 10 | N9: 11 | O9: 12 | P9: 13 | Q9: 14 | R9: 15
B10: Water Resource Zone | C10: WAFU (SEPA definition) (Ml/d) | D10: Bulk imports (Ml/d) | E10: Bulk exports (Ml/d) | F10: Dry year distribution input (Ml/d) | G10: Reporting year distribution input (Ml/d) | H10: Dry year available headroom (Ml/d) | J10: Target headroom (Ml/d) | K10: Surplus/ deficit (Ml/d) | M10: Percentage deficit (%) | N10: Zonal population | O10: Percentage of total population with headroom deficit | P10: Zonal index (%age deficit2 x % population affected x 100) | Q10: Security of Supply Index | R10: Percentage of population in surplus zones
B13: WRZ000001 - Greenock WRZ | C13: 41.663806 | D13: 0 | E13: 0 | F13: 35.967944 | G13: 34.920334 | H13: =+C13+D13-E13-F13 -> 5.6958617 | J13: 1.3635448 | K13: =+H13-J13 -> 4.3323169 | M13: =+IF(ISERROR(K13/(F13+J13)),0,K13/(F13+J13)) -> 0.11604994 | N13: 99.672869 | O13: =IF(K13<0,N13/$N$263,0) -> 0 | P13: =(M13^2*O13)*100 -> 0
B14: WRZ000007 - Clatto & Lintrathen & Whitehillocks WRZ | C14: 94.376302 | D14: 0 | E14: 0 | F14: 101.40311 | G14: 98.449619 | H14: =+C14+D14-E14-F14 -> -7.0268053 | J14: 9.0238625 | K14: =+H14-J14 -> -16.050668 | M14: =+IF(ISERROR(K14/(F14+J14)),0,K14/(F14+J14)) -> -0.14535098 | N14: 307.29629 | O14: =IF(K14<0,N14/$N$263,0) -> 0.056596359 | P14: =(M14^2*O14)*100 -> 0.1195706
